From mboxrd@z Thu Jan 1 00:00:00 1970 Return-Path: Received: from mails.dpdk.org (mails.dpdk.org [217.70.189.124]) by inbox.dpdk.org (Postfix) with ESMTP id 708304625B for ; Tue, 18 Feb 2025 17:59:51 +0100 (CET) Received: from mails.dpdk.org (localhost [127.0.0.1]) by mails.dpdk.org (Postfix) with ESMTP id 5750F402CF; Tue, 18 Feb 2025 17:59:51 +0100 (CET) Received: from mail-yw1-f226.google.com (mail-yw1-f226.google.com [209.85.128.226]) by mails.dpdk.org (Postfix) with ESMTP id C34B440264 for ; Tue, 18 Feb 2025 17:59:49 +0100 (CET) Received: by mail-yw1-f226.google.com with SMTP id 00721157ae682-6f77b9e0a34so40883927b3.2 for ; Tue, 18 Feb 2025 08:59:49 -0800 (PST) DKIM-Signature: v=1; a=rsa-sha256; c=relaxed/relaxed; d=iol.unh.edu; s=unh-iol; t=1739897989; x=1740502789; darn=dpdk.org; h=references:in-reply-to:cc:to:from:subject:message-id:date:from:to :cc:subject:date:message-id:reply-to; bh=wixO5GVycU1xY1h9j4m2L8JNpVX8lzjLwnBJSsugEcU=; b=iQpjrApeSjUZPRIx5KDyMGuRD0cgwY8EOM8YE1dL2NE3N3uZyHfQHMoIIcHJaQZ2Vo cV3mb11Cgiem3f/lzfW9TipdWoxL7ez3kw2TASLMLxeqjkHyvXFwKtB5U7W1lo0/ZG9O FHaE2znB/DN1FRFv9SK2shsoWqw/u2C/fcuOE= X-Google-DKIM-Signature: v=1; a=rsa-sha256; c=relaxed/relaxed; d=1e100.net; s=20230601; t=1739897989; x=1740502789; h=references:in-reply-to:cc:to:from:subject:message-id:date :x-gm-message-state:from:to:cc:subject:date:message-id:reply-to; bh=wixO5GVycU1xY1h9j4m2L8JNpVX8lzjLwnBJSsugEcU=; b=iuIehqSMfmIGhjFjHblOf2TXif/XeDaTgK7vVLuKiNnb5XZbYyLuQ3uQLv/IuUyQXR u/N09ZUOf6V8eZJQm5yZWNaZc8VtSF614yeAORGAfF1i/9Z+/QHA3XTdh1flitC5vYxx h82+q+P73WJJmYmuQ3f62qz9iRjfihamzFUOWu+GAn/cEhUmzo6Nw5kN//dGWbZDaANP JFX1hv24ZDN9L9AkX9OmESIIEkf9JYgYRsbl61d8caEyaO4+W8xeFPWwbgbE6M/QqNa4 V31OffCsf3OzkQXnoAASmILG3YTwmEupSFtGJQgmjAZoUaIdormkrR/Rp029i1Ybb6gC jI5g== X-Gm-Message-State: AOJu0YzXxvREo0l7+6WG0DHt3V7T8yCf7hVtBss6630O6+cLjDbZHbLN h82gjT0h7+Ga52xWAxjlY1ms+btFD2ZwcM9RuXewHWNYKaHMfNd4LZ5CPcvpJMUyw4k7D1ISGnd wd0pgM5Cf5U3BD5zC3PzNfulMCXVQXu4ArtD8hu5FrkGM9elj3oh/eu81 X-Gm-Gg: ASbGnctXrwV75aMNYoQmymAdRsHlrgxKA46O8s+bV/lbIqQDE1lfEKDuP9POG/BGVAt N8V0zqbcazQxd7tro1ZfDheDmuFT+Uxw7Zwe6O7jzfURqlEcuLydr+pxgGx7NIGlsfuQpV5eppj /HQwZMR/EcAfI5dtfFxdGYMvOp5IxrezUZq5ZJi5wfAn1Q7Peh62wvNUqJCN1CsB1PoNsRzJbZG axsW6dm/NpwcFEQuVnUTKaY4HjE5T4s5nE7vQkFsIBFgQI5vK5/FPekde2K+VWOz4UNUhFCAZU2 EFIJHF8N06C3sWj4ocJ3JBtljRFojNnGevTDBpA2rA== X-Google-Smtp-Source: AGHT+IE0+l5u7K43gvw+oRZ/DNaGaokV1Jl3qLS9X/K6QiNRw/kehR3/pmcj6paGBPIah5ifFoRnV9L+1YMY X-Received: by 2002:a05:690c:6712:b0:6ef:820c:a752 with SMTP id 00721157ae682-6fba56f7a68mr5228787b3.20.1739897989176; Tue, 18 Feb 2025 08:59:49 -0800 (PST) Received: from postal.iol.unh.edu (postal.iol.unh.edu. [2606:4100:3880:1234::84]) by smtp-relay.gmail.com with ESMTPS id 00721157ae682-6fb35d4f54fsm2871027b3.25.2025.02.18.08.59.49 (version=TLS1_2 cipher=ECDHE-ECDSA-AES128-GCM-SHA256 bits=128/128); Tue, 18 Feb 2025 08:59:49 -0800 (PST) X-Relaying-Domain: iol.unh.edu Date: Tue, 18 Feb 2025 08:59:49 -0800 (PST) Message-ID: <67b4bc85.050a0220.4c392.dc1bSMTPIN_ADDED_MISSING@mx.google.com> Received: from [172.21.0.5] (unknown [172.18.0.240]) by postal.iol.unh.edu (Postfix) with ESMTP id C96936052471; Tue, 18 Feb 2025 11:59:48 -0500 (EST) Subject: |SUCCESS| pw151574 [PATCH] config/arm: update NVIDIA BlueField-3 con From: dpdklab@iol.unh.edu To: Test Report Cc: dpdk-test-reports@iol.unh.edu In-Reply-To: <20250218104942.81984-1-getelson@nvidia.com> References: <20250218104942.81984-1-getelson@nvidia.com> Content-Type: text/plain X-BeenThere: test-report@dpdk.org X-Mailman-Version: 2.1.29 Precedence: list List-Id: automatic DPDK test reports List-Unsubscribe: , List-Archive: List-Post: List-Help: List-Subscribe: , Errors-To: test-report-bounces@dpdk.org Test-Label: iol-abi-testing Test-Status: SUCCESS http://dpdk.org/patch/151574 _Testing PASS_ Submitter: Gregory Etelson Date: Tuesday, February 18 2025 10:49:42 DPDK git baseline: Repo:dpdk Branch: master CommitID:e5176f23ae8b31437c3e5eb875c81f95bf3a9942 151574 --> testing pass Upstream job id: Generic-DPDK-Compile-ABI#116584 Test environment and result as below: +-------------------+----------+ | Environment | abi_test | +===================+==========+ | CentOS Stream 9 | PASS | +-------------------+----------+ | CentOS Stream 10 | PASS | +-------------------+----------+ | Fedora 40 | PASS | +-------------------+----------+ | Debian Bullseye | PASS | +-------------------+----------+ | RHEL8 | PASS | +-------------------+----------+ | Fedora 41 (Clang) | PASS | +-------------------+----------+ | Fedora 41 | PASS | +-------------------+----------+ | openSUSE Leap 15 | PASS | +-------------------+----------+ | Ubuntu 22.04 | PASS | +-------------------+----------+ | RHEL9 | PASS | +-------------------+----------+ | Debian 12 | PASS | +-------------------+----------+ | Fedora 40 (Clang) | PASS | +-------------------+----------+ | Ubuntu 24.04 | PASS | +-------------------+----------+ CentOS Stream 9 Kernel: Depends on container host Compiler: gcc 11.5.0 20240719 (Red Hat 11.5.0-2) CentOS Stream 10 Kernel: Depends on container host Compiler: gcc 14.2.1 20241104 (Red Hat 14.2.1-6) Fedora 40 Kernel: Depends on container host Compiler: gcc 14.2.1 20240912 (Red Hat 14.2.1-3) Debian Bullseye Kernel: Depends on container host Compiler: gcc (Debian 10.2.1-6) 10.2.1 20210110 RHEL8 Kernel: Depends on container host Compiler: gcc 8.5.0 20210514 (Red Hat 8.5.0-22) Fedora 41 (Clang) Kernel: Depends on container host Compiler: clang 19.1.5 (Fedora 19.1.5-1.fc41) Fedora 41 Kernel: Depends on container host Compiler: gcc 14.2.1 20240912 (Red Hat 14.2.1-3) openSUSE Leap 15 Kernel: Depends on container host Compiler: gcc (SUSE Linux) 7.5.0 Ubuntu 22.04 Kernel: Depends on container host Compiler: gcc (Ubuntu 11.4.0-1ubuntu1~22.04) 11.4.0 RHEL9 Kernel: Depends on container host Compiler: gcc 11.5.0 20240719 (Red Hat 11.5.0-2) Debian 12 Kernel: Depends on container host Compiler: gcc (Debian 12.2.0-14) 12.2.0 Fedora 40 (Clang) Kernel: Depends on container host Compiler: clang 18.1.8 (Fedora 18.1.8-1.fc40) Ubuntu 24.04 Kernel: Depends on container host Compiler: gcc (Ubuntu 13.3.0-6ubuntu2~24.04) 13.3.0 To view detailed results, visit: https://lab.dpdk.org/results/dashboard/patchsets/32600/ UNH-IOL DPDK Community Lab To manage your email subscriptions, visit: https://lab.dpdk.org/results/dashboard/preferences/subscriptions/