From mboxrd@z Thu Jan 1 00:00:00 1970 Return-Path: Received: from mails.dpdk.org (mails.dpdk.org [217.70.189.124]) by inbox.dpdk.org (Postfix) with ESMTP id 85E9F4625D for ; Tue, 18 Feb 2025 18:00:38 +0100 (CET) Received: from mails.dpdk.org (localhost [127.0.0.1]) by mails.dpdk.org (Postfix) with ESMTP id 81E85402CF; Tue, 18 Feb 2025 18:00:38 +0100 (CET) Received: from mail-io1-f100.google.com (mail-io1-f100.google.com [209.85.166.100]) by mails.dpdk.org (Postfix) with ESMTP id 8DE3640264 for ; Tue, 18 Feb 2025 18:00:37 +0100 (CET) Received: by mail-io1-f100.google.com with SMTP id ca18e2360f4ac-851c4f1fb18so226169639f.2 for ; Tue, 18 Feb 2025 09:00:37 -0800 (PST) DKIM-Signature: v=1; a=rsa-sha256; c=relaxed/relaxed; d=iol.unh.edu; s=unh-iol; t=1739898036; x=1740502836; darn=dpdk.org; h=references:in-reply-to:cc:to:from:subject:message-id:date:from:to :cc:subject:date:message-id:reply-to; bh=6XtRq4Cew3JWZb7KV3tFxhNHcnw2A4gDEsVSoFlKTdI=; b=NzaIBgCODzhFK5J9eiujQ1TEiJKB14ZTT0aMCHShgxWRPXQ61/n2+j5jMKBXLPk8Nd 75SXA+wDLxRXBRGDr/Twtp1vCa8oiIHcaoiS9BV6axhv7lKGew2tEBA420jNP7s+J+zP k0ImXyPD2E8dAJNQEgkR6TuLTXJfWKdK9O6pw= X-Google-DKIM-Signature: v=1; a=rsa-sha256; c=relaxed/relaxed; d=1e100.net; s=20230601; t=1739898036; x=1740502836; h=references:in-reply-to:cc:to:from:subject:message-id:date :x-gm-message-state:from:to:cc:subject:date:message-id:reply-to; bh=6XtRq4Cew3JWZb7KV3tFxhNHcnw2A4gDEsVSoFlKTdI=; b=HX9+yq0qEmYZnDZhck704kQ6O+6BSB5YqA1YUX23gtO3ce+rzKoPviufKKlkqom5dl 49x9jjD/HCLqMcgSc+O1Pbu8Bpht7KFLQJH4O7sIo563HJNVGQ1r7kiEwtWyPESUfDIC VpIcdOPtGnCdJvTcPgWOhSRwLS4h1BB8Y4q0Le50Xa4gBvwqx+e7JUqeI/7eNx5n2HgT 8jIjjSPZJRJ/VM0DzMaw8GAi9xbGoZJadT+EYEEx3iCDVcj7mQSN/iY0VfJWZfjT4s9g ++ZFW0dsK+nnldtq7Dh3Tdf+yYsK/5z3B2mYOVAsBrsX9cq4Pbjh/7++XyDxEqUj78Pu PVwQ== X-Gm-Message-State: AOJu0Yzm/DMEvmzUpLzetSx9wP43qQ5zLlb4LgE09DyKD+n6A/dDXhEm aQTYeD7+DucVnCetwL+00fib7IOpUeBJMdaLFuy5uWFRBqqTP3EdCfVDZ/EW/hN9lVjcuqkJkkw ZCwA8Y44hHE+zEr1uNUdRjcxFjjXL6pjLvAKaGbBMyKdkSjA1tEyLmBAy X-Gm-Gg: ASbGnctvmWCX8zSLauTXoLiHSBUlKCU0DyrM4tFlhZJ5Q5gNQ/Bun5cntStC/tzjNIr amx+YDcsJxg09cug8yz5O1X50gStUJfLDH38Skc5G5BHqdS2aL6Dm5OvWqUDB9Cp3a8A0cRnYNs FMLQweQ3h5qzjO9UIeOm5lSMxvxJSswHfSQztOqC3FyB+T5tkr+zTUsvxgGmxNOFbqMbSBFN+3A R4mFZryuhCdx8Waa3AatBVseCDXBM5A8r6TNQ9JDmxaJ/6p1M+CYxw7OQY07uPpy+G1QplZGH35 SPJC41lePfoWT8h5ozaUuYVf2oQHVBt7og4aEmuIng== X-Google-Smtp-Source: AGHT+IGGt9rysHtFS/1zyexRk/97Bhu8yKGearCOtuMmkzPgSfbRZnAl6PL2tGFz6wbTLm6jIXqfq5ZcpaKf X-Received: by 2002:a05:6e02:3684:b0:3d1:78c6:2088 with SMTP id e9e14a558f8ab-3d2b537bbb4mr2993045ab.19.1739898036549; Tue, 18 Feb 2025 09:00:36 -0800 (PST) Received: from postal.iol.unh.edu (postal.iol.unh.edu. [2606:4100:3880:1234::84]) by smtp-relay.gmail.com with ESMTPS id e9e14a558f8ab-3d26f1e8c98sm5225195ab.18.2025.02.18.09.00.36 (version=TLS1_2 cipher=ECDHE-ECDSA-AES128-GCM-SHA256 bits=128/128); Tue, 18 Feb 2025 09:00:36 -0800 (PST) X-Relaying-Domain: iol.unh.edu Date: Tue, 18 Feb 2025 09:00:36 -0800 (PST) Message-ID: <67b4bcb4.920a0220.2f7c82.99fbSMTPIN_ADDED_MISSING@mx.google.com> Received: from [172.21.0.5] (unknown [172.18.0.240]) by postal.iol.unh.edu (Postfix) with ESMTP id EDED16052471; Tue, 18 Feb 2025 12:00:35 -0500 (EST) Subject: |SUCCESS| pw151574 [PATCH] config/arm: update NVIDIA BlueField-3 con From: dpdklab@iol.unh.edu To: Test Report Cc: dpdk-test-reports@iol.unh.edu In-Reply-To: <20250218104942.81984-1-getelson@nvidia.com> References: <20250218104942.81984-1-getelson@nvidia.com> Content-Type: text/plain X-BeenThere: test-report@dpdk.org X-Mailman-Version: 2.1.29 Precedence: list List-Id: automatic DPDK test reports List-Unsubscribe: , List-Archive: List-Post: List-Help: List-Subscribe: , Errors-To: test-report-bounces@dpdk.org Test-Label: iol-abi-testing Test-Status: SUCCESS http://dpdk.org/patch/151574 _Testing PASS_ Submitter: Gregory Etelson Date: Tuesday, February 18 2025 10:49:42 DPDK git baseline: Repo:dpdk Branch: master CommitID:e5176f23ae8b31437c3e5eb875c81f95bf3a9942 151574 --> testing pass Upstream job id: Generic-DPDK-Compile-ABI#116575 Test environment and result as below: +-------------------+----------+ | Environment | abi_test | +===================+==========+ | CentOS Stream 9 | PASS | +-------------------+----------+ | CentOS Stream 10 | PASS | +-------------------+----------+ | Fedora 40 | PASS | +-------------------+----------+ | Debian Bullseye | PASS | +-------------------+----------+ | RHEL8 | PASS | +-------------------+----------+ | Fedora 41 (Clang) | PASS | +-------------------+----------+ | Fedora 41 | PASS | +-------------------+----------+ | openSUSE Leap 15 | PASS | +-------------------+----------+ | Ubuntu 22.04 | PASS | +-------------------+----------+ | RHEL9 | PASS | +-------------------+----------+ | Debian 12 | PASS | +-------------------+----------+ | Fedora 40 (Clang) | PASS | +-------------------+----------+ | Ubuntu 24.04 | PASS | +-------------------+----------+ CentOS Stream 9 Kernel: Depends on container host Compiler: gcc 11.5.0 20240719 (Red Hat 11.5.0-2) CentOS Stream 10 Kernel: Depends on container host Compiler: gcc 14.2.1 20241104 (Red Hat 14.2.1-6) Fedora 40 Kernel: Depends on container host Compiler: gcc 14.2.1 20240912 (Red Hat 14.2.1-3) Debian Bullseye Kernel: Depends on container host Compiler: gcc (Debian 10.2.1-6) 10.2.1 20210110 RHEL8 Kernel: Depends on container host Compiler: gcc 8.5.0 20210514 (Red Hat 8.5.0-22) Fedora 41 (Clang) Kernel: Depends on container host Compiler: clang 19.1.5 (Fedora 19.1.5-1.fc41) Fedora 41 Kernel: Depends on container host Compiler: gcc 14.2.1 20240912 (Red Hat 14.2.1-3) openSUSE Leap 15 Kernel: Depends on container host Compiler: gcc (SUSE Linux) 7.5.0 Ubuntu 22.04 Kernel: Depends on container host Compiler: gcc (Ubuntu 11.4.0-1ubuntu1~22.04) 11.4.0 RHEL9 Kernel: Depends on container host Compiler: gcc 11.5.0 20240719 (Red Hat 11.5.0-2) Debian 12 Kernel: Depends on container host Compiler: gcc (Debian 12.2.0-14) 12.2.0 Fedora 40 (Clang) Kernel: Depends on container host Compiler: clang 18.1.8 (Fedora 18.1.8-1.fc40) Ubuntu 24.04 Kernel: Depends on container host Compiler: gcc (Ubuntu 13.3.0-6ubuntu2~24.04) 13.3.0 To view detailed results, visit: https://lab.dpdk.org/results/dashboard/patchsets/32600/ UNH-IOL DPDK Community Lab To manage your email subscriptions, visit: https://lab.dpdk.org/results/dashboard/preferences/subscriptions/