From mboxrd@z Thu Jan 1 00:00:00 1970 Return-Path: Received: from mails.dpdk.org (mails.dpdk.org [217.70.189.124]) by inbox.dpdk.org (Postfix) with ESMTP id AF1944625D for ; Tue, 18 Feb 2025 18:02:08 +0100 (CET) Received: from mails.dpdk.org (localhost [127.0.0.1]) by mails.dpdk.org (Postfix) with ESMTP id A9861402CF; Tue, 18 Feb 2025 18:02:08 +0100 (CET) Received: from mail-pj1-f99.google.com (mail-pj1-f99.google.com [209.85.216.99]) by mails.dpdk.org (Postfix) with ESMTP id 6B46D40264 for ; Tue, 18 Feb 2025 18:02:07 +0100 (CET) Received: by mail-pj1-f99.google.com with SMTP id 98e67ed59e1d1-2fa8ac56891so8274760a91.2 for ; Tue, 18 Feb 2025 09:02:07 -0800 (PST) DKIM-Signature: v=1; a=rsa-sha256; c=relaxed/relaxed; d=iol.unh.edu; s=unh-iol; t=1739898126; x=1740502926; darn=dpdk.org; h=references:in-reply-to:cc:to:from:subject:message-id:date:from:to :cc:subject:date:message-id:reply-to; bh=yzfafzGltBD3EQktCTG7D1HgpmKIiCKUtQBSUH286pc=; b=LvkqYC97+oi6EeA0fyCyENNeeH9uOYCx7ZD1yb23EuTPXuCTsqxK7gEUY7uhGB7uOF 1NDXczA5cR+BR2xzreA/hJ+TZMdV5mav3Pwnu5bcW5NwvVG4r+2wBoyPg/3JZp670VsT 1KeDGuAwfURVQZ6Ch4A488+ea0seIbKq+zTXs= X-Google-DKIM-Signature: v=1; a=rsa-sha256; c=relaxed/relaxed; d=1e100.net; s=20230601; t=1739898126; x=1740502926; h=references:in-reply-to:cc:to:from:subject:message-id:date :x-gm-message-state:from:to:cc:subject:date:message-id:reply-to; bh=yzfafzGltBD3EQktCTG7D1HgpmKIiCKUtQBSUH286pc=; b=Asc21S6mzB3hoz/laOLigWc118vrO7vVeezAQHUPVOgk8Y8CiAk/DzLchvWDSokb1t OhUr7xqKI6vsNIIXPuckX5nJ7UtkpXKod2SjIK6gHR+MTlbccyQs7ggvU/3nBHtAXvJK BBTq7xbZRANFhCNJQTEYyGYS4PwbingPoxB+Abff6J+BYbiUsQrIdwAmeINdcddc8Z5U 5ZNj9yL3pXjhnAixHzQrdFjUxR3/YFDDIi4jclD9x1k3XG4KNb4uZ3xR+cgOi3BI9nXo TjQ+KD/kOvtQ8jl9HEhfvN8jh3aGh5m6r0q8FUFQLF7B7nexH7WbDNiFkwkBm3UsSw/d T9Ug== X-Gm-Message-State: AOJu0Yx3oBeUHJrkXNuCDql6rISKWPeAEK1OqE1weyY49hk0cZyUlnPP 5zAOuI2mHe724l1gVkHwlrrkKxkmj0E7Nf9AVUoiHGONRjLWb+xzujOq7aosqUwqRZtn49jsOqB qWi60mAVfH1Gcu8iBmT3k8tAtpGPgOLUW20ZLXGDw7+aSPxw3u98nyDHA X-Gm-Gg: ASbGnctAjcMRjr8PaJUONKXz/0Bx1a2gUPjjAgOwogz3QTd4MsEPM23OvTmSHowcuQu FjsMbb3iWAYBlAo8PvstfMVulaO3Kc6qnIiuDSE/KYk1xT6R/MbalMBOcv1ljjrS4koBB6AFN9r L1N3dyJxufaGezzd6aB2GvAOB1NHuHfn8OvCHpi+UFqAHyg1wwzPjOBdhKq97O1mb5arDe1nFRd 11Gn4Z6RTUUOWPnHNU7yBhPz/W1VXg0j9o2KcP0u+FAtGyWuwIHx/MLimWOIeR9rnea1shYFLgU vW0In7l3z0N4ht/L8EBgo19eVDgRbNxf/RQAE48uoA== X-Google-Smtp-Source: AGHT+IETBUTFQTF69FBUN/AHDid2YPhEnLSFQkrprgJx9yfCHfGcEWkjDZwQc8yRFY0BFm96j8Sf1cSz/OSl X-Received: by 2002:a17:90b:4a49:b0:2ea:aa56:499 with SMTP id 98e67ed59e1d1-2fc40d13e61mr22826823a91.1.1739898126501; Tue, 18 Feb 2025 09:02:06 -0800 (PST) Received: from postal.iol.unh.edu (postal.iol.unh.edu. [2606:4100:3880:1234::84]) by smtp-relay.gmail.com with ESMTPS id 98e67ed59e1d1-2fc53084476sm393934a91.4.2025.02.18.09.02.06 (version=TLS1_2 cipher=ECDHE-ECDSA-AES128-GCM-SHA256 bits=128/128); Tue, 18 Feb 2025 09:02:06 -0800 (PST) X-Relaying-Domain: iol.unh.edu Date: Tue, 18 Feb 2025 09:02:06 -0800 (PST) Message-ID: <67b4bd0e.170a0220.18a08a.23f5SMTPIN_ADDED_MISSING@mx.google.com> Received: from [172.21.0.5] (unknown [172.18.0.240]) by postal.iol.unh.edu (Postfix) with ESMTP id A71B96052471; Tue, 18 Feb 2025 12:02:05 -0500 (EST) Subject: |SUCCESS| pw151574 [PATCH] config/arm: update NVIDIA BlueField-3 con From: dpdklab@iol.unh.edu To: Test Report Cc: dpdk-test-reports@iol.unh.edu In-Reply-To: <20250218104942.81984-1-getelson@nvidia.com> References: <20250218104942.81984-1-getelson@nvidia.com> Content-Type: text/plain X-BeenThere: test-report@dpdk.org X-Mailman-Version: 2.1.29 Precedence: list List-Id: automatic DPDK test reports List-Unsubscribe: , List-Archive: List-Post: List-Help: List-Subscribe: , Errors-To: test-report-bounces@dpdk.org Test-Label: iol-sample-apps-testing Test-Status: SUCCESS http://dpdk.org/patch/151574 _Testing PASS_ Submitter: Gregory Etelson Date: Tuesday, February 18 2025 10:49:42 DPDK git baseline: Repo:dpdk Branch: master CommitID:e5176f23ae8b31437c3e5eb875c81f95bf3a9942 151574 --> testing pass Upstream job id: ACVP-FIPS-testing#8947 Test environment and result as below: +--------------------+----------------------+----------------------+ | Environment | compressdev_zlib_pmd | dpdk_fips_validation | +====================+======================+======================+ | Ubuntu 22.04 (ARM) | PASS | SKIPPED | +--------------------+----------------------+----------------------+ | Ubuntu 22.04 | PASS | SKIPPED | +--------------------+----------------------+----------------------+ | Ubuntu 20.04 | SKIPPED | PASS | +--------------------+----------------------+----------------------+ Ubuntu 22.04 (ARM) Kernel: 5.15.0-97-generic Compiler: gcc gcc (Ubuntu 11.4.0-1ubuntu1~22.04) 11.4.0 Ubuntu 22.04 Kernel: 5.15.0-100-generic Compiler: gcc gcc (Ubuntu 11.4.0-1ubuntu1~22.04) 11.4.0 Ubuntu 20.04 Kernel: Depends on container host Compiler: gcc (Ubuntu 9.4.0-1ubuntu1~20.04.2) 9.4.0 To view detailed results, visit: https://lab.dpdk.org/results/dashboard/patchsets/32600/ UNH-IOL DPDK Community Lab To manage your email subscriptions, visit: https://lab.dpdk.org/results/dashboard/preferences/subscriptions/