From mboxrd@z Thu Jan 1 00:00:00 1970 Return-Path: Received: from mails.dpdk.org (mails.dpdk.org [217.70.189.124]) by inbox.dpdk.org (Postfix) with ESMTP id 01F954625D for ; Tue, 18 Feb 2025 19:24:24 +0100 (CET) Received: from mails.dpdk.org (localhost [127.0.0.1]) by mails.dpdk.org (Postfix) with ESMTP id DA722402A3; Tue, 18 Feb 2025 19:24:24 +0100 (CET) Received: from mail-pj1-f98.google.com (mail-pj1-f98.google.com [209.85.216.98]) by mails.dpdk.org (Postfix) with ESMTP id 801E740264 for ; Tue, 18 Feb 2025 19:24:23 +0100 (CET) Received: by mail-pj1-f98.google.com with SMTP id 98e67ed59e1d1-2fc3027c7aeso7989268a91.0 for ; Tue, 18 Feb 2025 10:24:23 -0800 (PST) DKIM-Signature: v=1; a=rsa-sha256; c=relaxed/relaxed; d=iol.unh.edu; s=unh-iol; t=1739903062; x=1740507862; darn=dpdk.org; h=references:in-reply-to:cc:to:from:subject:message-id:date:from:to :cc:subject:date:message-id:reply-to; bh=MxKewEa4T0mH3LdPVy5RsHSSehcgCiLDKuEuzW1hHKI=; b=fKIb/0c1MEBv5KhVDvDWj+IkNGJU1D+QeLhgujkL5V3Lh7TBmALq3Q6hecgKkzTORF HIsHWBfGgVTm4wNpa+30SYF0TXNB9x0zWUTDxmB+lNr9Oz7eVn3BfX0hCn02OXuC54gO CtAfdwyNPr/OAhT6TXgwBLvA4tMluhdw266DQ= X-Google-DKIM-Signature: v=1; a=rsa-sha256; c=relaxed/relaxed; d=1e100.net; s=20230601; t=1739903062; x=1740507862; h=references:in-reply-to:cc:to:from:subject:message-id:date :x-gm-message-state:from:to:cc:subject:date:message-id:reply-to; bh=MxKewEa4T0mH3LdPVy5RsHSSehcgCiLDKuEuzW1hHKI=; b=VmyAt96oqGG2c1XyZW+d3jlozzpBoSa9K6GOOaAak0zuXkLBI5KRb26ftrQou6jy0E rzWbDCAsrJ0/OMGme6IgCrAG5w/OuJMp7Nge6W2FeepDAaH/uUDL9/ltR6rIsZ/POYSU EotE+ysRkcnbf5AzeiZItj1RkL9esyA4WMQeWi38MxI9DTt1MntZVn+8mZzyRpT1K+Pp dBcRFDTl4btu9VeLDoaGVpOVZckiwDjRX6JO3g2Bx7E1va6eXgttBKXOn2N1O2uxg5fR F42ZA2xnQJ9bVgKDk+K35TPARBTHITzH/3ryRMkWf1nZpxW7NkPqGYDc3gJI9bsT+NSM srKg== X-Gm-Message-State: AOJu0YyfDZtfYtf/aZYxcEIJDluJefRbklZeFwUXwy8RkMBKbHwr5nrX TsjqY8290Sw9kBu7W1MUbfHaaPXTjQCW8dsnrh1GKR1RGkME8Z/q01tXFsHLObVVkZkHE0DqJvE hlnl4gjqPPdEL5OHbHLcOsbCUpvb7rHipNCmwGOlKPby2UVhP1/zYLgKy X-Gm-Gg: ASbGncta3VVrAFcYTwsqKPRJ8at3V485yFV2NMhPAmVkxg42aSC7piHL6kHLS01NlEI /4p9LYfBpl+RQdPEyUt8HEsB1Fqa0OCVZEik3pBGd7IJOlzfCpvGqcI9ApcV0vsN0aPkYLi3EVP W/Yv7PtDRG8MvF1zO/E7a+oHgjuEvv47ZZBVuUtwBip06RyP+6F2QODtfedL7eAyU3TiPxPhuvz QxX8HV81e71xDVKoWey/1iqFcn4FK0e23fq+cVt0w99CmNYsZAGFr42GvOIiG8P2wIdlypMRL7O +qfMd6/23f1awD+0HDQte913moJ3nj4it8ltqTrS9g== X-Google-Smtp-Source: AGHT+IGjDd8JOD7vus3SsR7wJffJRVUKcUfd5lrFpenB78YYqjGYEcNUeoH40GDdPguYeDDy7CesFCona26W X-Received: by 2002:a17:90b:4c8e:b0:2ee:5958:828 with SMTP id 98e67ed59e1d1-2fc40f0e672mr22667934a91.9.1739903062627; Tue, 18 Feb 2025 10:24:22 -0800 (PST) Received: from postal.iol.unh.edu (postal.iol.unh.edu. [2606:4100:3880:1234::84]) by smtp-relay.gmail.com with ESMTPS id 98e67ed59e1d1-2fc13ace853sm681238a91.9.2025.02.18.10.24.22 (version=TLS1_2 cipher=ECDHE-ECDSA-AES128-GCM-SHA256 bits=128/128); Tue, 18 Feb 2025 10:24:22 -0800 (PST) X-Relaying-Domain: iol.unh.edu Date: Tue, 18 Feb 2025 10:24:22 -0800 (PST) Message-ID: <67b4d056.170a0220.6a21a.0555SMTPIN_ADDED_MISSING@mx.google.com> Received: from [172.21.0.6] (unknown [172.18.0.240]) by postal.iol.unh.edu (Postfix) with ESMTP id 011086052471; Tue, 18 Feb 2025 13:24:22 -0500 (EST) Subject: |SUCCESS| pw151585-151594 [PATCH] [v3,10/10] eal: deprecate weak sym From: dpdklab@iol.unh.edu To: Test Report Cc: dpdk-test-reports@iol.unh.edu In-Reply-To: <20250218153730.773836-11-david.marchand@redhat.com> References: <20250218153730.773836-11-david.marchand@redhat.com> Content-Type: text/plain X-BeenThere: test-report@dpdk.org X-Mailman-Version: 2.1.29 Precedence: list List-Id: automatic DPDK test reports List-Unsubscribe: , List-Archive: List-Post: List-Help: List-Subscribe: , Errors-To: test-report-bounces@dpdk.org Test-Label: iol-unit-amd64-testing Test-Status: SUCCESS http://dpdk.org/patch/151594 _Testing PASS_ Submitter: David Marchand Date: Tuesday, February 18 2025 15:37:24 DPDK git baseline: Repo:dpdk Branch: master CommitID:e5176f23ae8b31437c3e5eb875c81f95bf3a9942 151585-151594 --> testing pass Upstream job id: Generic-Unit-Test-DPDK#315893 Test environment and result as below: +---------------------+----------------+ | Environment | dpdk_unit_test | +=====================+================+ | Debian Bullseye | PASS | +---------------------+----------------+ | CentOS Stream 9 | PASS | +---------------------+----------------+ | Debian 12 | PASS | +---------------------+----------------+ | CentOS Stream 10 | PASS | +---------------------+----------------+ | Fedora 40 | PASS | +---------------------+----------------+ | Fedora 41 | PASS | +---------------------+----------------+ | RHEL8 | PASS | +---------------------+----------------+ | Fedora 40 (Clang) | PASS | +---------------------+----------------+ | Fedora 41 (Clang) | PASS | +---------------------+----------------+ | RHEL9 | PASS | +---------------------+----------------+ | Ubuntu 22.04 | PASS | +---------------------+----------------+ | Ubuntu 20.04 | PASS | +---------------------+----------------+ | Ubuntu 24.04 | PASS | +---------------------+----------------+ | Windows Server 2022 | PASS | +---------------------+----------------+ Debian Bullseye Kernel: Depends on container host Compiler: gcc (Debian 10.2.1-6) 10.2.1 20210110 CentOS Stream 9 Kernel: Depends on container host Compiler: gcc 11.5.0 20240719 (Red Hat 11.5.0-2) Debian 12 Kernel: Depends on container host Compiler: gcc (Debian 12.2.0-14) 12.2.0 CentOS Stream 10 Kernel: Depends on container host Compiler: gcc 14.2.1 20241104 (Red Hat 14.2.1-6) Fedora 40 Kernel: Depends on container host Compiler: gcc 14.2.1 20240912 (Red Hat 14.2.1-3) Fedora 41 Kernel: Depends on container host Compiler: gcc 14.2.1 20240912 (Red Hat 14.2.1-3) RHEL8 Kernel: Depends on container host Compiler: gcc 8.5.0 20210514 (Red Hat 8.5.0-22) Fedora 40 (Clang) Kernel: Depends on container host Compiler: clang 18.1.8 (Fedora 18.1.8-1.fc40) Fedora 41 (Clang) Kernel: Depends on container host Compiler: clang 19.1.5 (Fedora 19.1.5-1.fc41) RHEL9 Kernel: Depends on container host Compiler: gcc 11.5.0 20240719 (Red Hat 11.5.0-2) Ubuntu 22.04 Kernel: Depends on container host Compiler: gcc (Ubuntu 11.4.0-1ubuntu1~22.04) 11.4.0 Ubuntu 20.04 Kernel: Depends on container host Compiler: gcc (Ubuntu 9.4.0-1ubuntu1~20.04.2) 9.4.0 Ubuntu 24.04 Kernel: Depends on container host Compiler: gcc (Ubuntu 13.3.0-6ubuntu2~24.04) 13.3.0 Windows Server 2022 Kernel: 10.0.20348.2031 Compiler: clang 15.0.7, gcc 14.1.0 (MinGW), and MSVC VS 19.39.33521 To view detailed results, visit: https://lab.dpdk.org/results/dashboard/patchsets/32604/ UNH-IOL DPDK Community Lab To manage your email subscriptions, visit: https://lab.dpdk.org/results/dashboard/preferences/subscriptions/