From mboxrd@z Thu Jan 1 00:00:00 1970 Return-Path: Received: from mails.dpdk.org (mails.dpdk.org [217.70.189.124]) by inbox.dpdk.org (Postfix) with ESMTP id 68A7D4625D for ; Tue, 18 Feb 2025 19:28:01 +0100 (CET) Received: from mails.dpdk.org (localhost [127.0.0.1]) by mails.dpdk.org (Postfix) with ESMTP id 46287402A3; Tue, 18 Feb 2025 19:28:01 +0100 (CET) Received: from mail-vk1-f225.google.com (mail-vk1-f225.google.com [209.85.221.225]) by mails.dpdk.org (Postfix) with ESMTP id 8FF7040264 for ; Tue, 18 Feb 2025 19:27:59 +0100 (CET) Received: by mail-vk1-f225.google.com with SMTP id 71dfb90a1353d-5208736db3fso1230410e0c.3 for ; Tue, 18 Feb 2025 10:27:59 -0800 (PST) DKIM-Signature: v=1; a=rsa-sha256; c=relaxed/relaxed; d=iol.unh.edu; s=unh-iol; t=1739903279; x=1740508079; darn=dpdk.org; h=references:in-reply-to:cc:to:from:subject:message-id:date:from:to :cc:subject:date:message-id:reply-to; bh=H73WWBQmWUkwY1qBPw74g/cQpb626HZ3yGhD39kiYDE=; b=ahXXBUd42G+IGOT/FYa1s956FmMLMB0NeX6CHfuMSjVTZYNLXu09enN9MSXdQbnkVK UizK+ma+tNj4+PyIi+S40lOo20iCGuuwFu1w0g/Y+MFwodyQvSt5GWS8gNrcImz6/thm 0BA0MN7oCsloX18z9EI7QhqNW7Juk12bxuwHE= X-Google-DKIM-Signature: v=1; a=rsa-sha256; c=relaxed/relaxed; d=1e100.net; s=20230601; t=1739903279; x=1740508079; h=references:in-reply-to:cc:to:from:subject:message-id:date :x-gm-message-state:from:to:cc:subject:date:message-id:reply-to; bh=H73WWBQmWUkwY1qBPw74g/cQpb626HZ3yGhD39kiYDE=; b=NqETmraGsLmtVOukyFy3SxucWz0U+s9lvIFlEUCbgADLEyg69p5FgocVwCx8CYB0/X rGjgqnTSHkvNDCbnSAxx43s9V3Y5p1QOSH6GhHkaKKEy2jiaQwA8xXcPPKbSlEQVM1IF MVMBrELT7+TiVmngxqQKG9hwmf88EuxFQwmvNuUicVEdpmVZA72/VR2bSRLgwuy4yDyR hLp3X92VvXwYFC50ZZIbUdzC+ZsXVYd2MWOTkX6o5bVSyYifm+mAwSGyR2kMhSrLS3B5 Tzc/lpx0Su2qGvzXDrEwvSH95FoLeFZm2w0UZ5doO46vXKLj0Lj+cREURxP/Y+jLY1NX f1RQ== X-Gm-Message-State: AOJu0YwdBUdQOYQ1T6sSTCt0c/egUve6hPbe/idHUAjk0DiTAkv/Zd5j zky4d/cvSmpekXNG/3vy3JCCgeO+O6PNTcpY0jrwac2TkxGfzW4MGKvvxCZJbMq1Lv0MIS9/Bgl 2kB9z6Mpe08CUPf66aSwgRlixkXWk2osR39i/GbvI X-Gm-Gg: ASbGncsmMEt/QPdZFI15/Az7jzVVlnxpL3yzJ7HJZZIgYYbnzU9cKakz00kiXMMrauT OcpGnBH1i0l7BhB6HV95bMrxUVoe5iKAVXGJBxa+kC8NBxbN116mOGCoDSWIOmgA8Cqx+Gzq2A7 SQ9rjcX/TSrQqAl2ZGfPaTj1hzmq89vAvM8KpHN1xPTtw94eX1IeXBuO6Je0Tz3Ir9p3JCt+7rJ 1Te2VHgLgWsLOI7ef1z/h4HiSVjrw990XuunzQ+JUjJFLNfuwKTdgPWJhSVu6AH5IEtyUL0yFPw MGkH09U361X1rpLV8ozRLuhzoS6Wyw== X-Google-Smtp-Source: AGHT+IEpFbUtmqso8D/Ies1sRJ7iH6/Ejgxrji2BvM86yrBO7XGw1VJZ8/D1WqopLLO3BfzBpsrDxY6oIW9o X-Received: by 2002:a05:6122:f05:b0:51b:b750:8303 with SMTP id 71dfb90a1353d-5209dd4ea4cmr8136103e0c.11.1739903278770; Tue, 18 Feb 2025 10:27:58 -0800 (PST) Received: from postal.iol.unh.edu (postal.iol.unh.edu. [132.177.123.84]) by smtp-relay.gmail.com with ESMTPS id a1e0cc1a2514c-868e8598537sm287980241.10.2025.02.18.10.27.58 (version=TLS1_2 cipher=ECDHE-ECDSA-AES128-GCM-SHA256 bits=128/128); Tue, 18 Feb 2025 10:27:58 -0800 (PST) X-Relaying-Domain: iol.unh.edu Date: Tue, 18 Feb 2025 10:27:58 -0800 (PST) Message-ID: <67b4d12e.050a0220.1a57c0.e317SMTPIN_ADDED_MISSING@mx.google.com> Received: from [172.21.0.5] (unknown [172.18.0.240]) by postal.iol.unh.edu (Postfix) with ESMTP id 6318D6052471; Tue, 18 Feb 2025 13:27:58 -0500 (EST) Subject: |SUCCESS| pw151585-151594 [PATCH] [v3,10/10] eal: deprecate weak sym From: dpdklab@iol.unh.edu To: Test Report Cc: dpdk-test-reports@iol.unh.edu In-Reply-To: <20250218153730.773836-11-david.marchand@redhat.com> References: <20250218153730.773836-11-david.marchand@redhat.com> Content-Type: text/plain X-BeenThere: test-report@dpdk.org X-Mailman-Version: 2.1.29 Precedence: list List-Id: automatic DPDK test reports List-Unsubscribe: , List-Archive: List-Post: List-Help: List-Subscribe: , Errors-To: test-report-bounces@dpdk.org Test-Label: iol-abi-testing Test-Status: SUCCESS http://dpdk.org/patch/151594 _Testing PASS_ Submitter: David Marchand Date: Tuesday, February 18 2025 15:37:24 DPDK git baseline: Repo:dpdk Branch: master CommitID:e5176f23ae8b31437c3e5eb875c81f95bf3a9942 151585-151594 --> testing pass Upstream job id: Generic-DPDK-Compile-ABI#116590 Test environment and result as below: +-------------------+----------+ | Environment | abi_test | +===================+==========+ | CentOS Stream 9 | PASS | +-------------------+----------+ | CentOS Stream 10 | PASS | +-------------------+----------+ | Debian Bullseye | PASS | +-------------------+----------+ | Debian 12 | PASS | +-------------------+----------+ | Fedora 41 (Clang) | PASS | +-------------------+----------+ | Fedora 40 (Clang) | PASS | +-------------------+----------+ | Fedora 41 | PASS | +-------------------+----------+ | openSUSE Leap 15 | PASS | +-------------------+----------+ | RHEL8 | PASS | +-------------------+----------+ | RHEL9 | PASS | +-------------------+----------+ | Ubuntu 22.04 | PASS | +-------------------+----------+ | Ubuntu 24.04 | PASS | +-------------------+----------+ | Fedora 40 | PASS | +-------------------+----------+ CentOS Stream 9 Kernel: Depends on container host Compiler: gcc 11.5.0 20240719 (Red Hat 11.5.0-2) CentOS Stream 10 Kernel: Depends on container host Compiler: gcc 14.2.1 20241104 (Red Hat 14.2.1-6) Debian Bullseye Kernel: Depends on container host Compiler: gcc (Debian 10.2.1-6) 10.2.1 20210110 Debian 12 Kernel: Depends on container host Compiler: gcc (Debian 12.2.0-14) 12.2.0 Fedora 41 (Clang) Kernel: Depends on container host Compiler: clang 19.1.5 (Fedora 19.1.5-1.fc41) Fedora 40 (Clang) Kernel: Depends on container host Compiler: clang 18.1.8 (Fedora 18.1.8-1.fc40) Fedora 41 Kernel: Depends on container host Compiler: gcc 14.2.1 20240912 (Red Hat 14.2.1-3) openSUSE Leap 15 Kernel: Depends on container host Compiler: gcc (SUSE Linux) 7.5.0 RHEL8 Kernel: Depends on container host Compiler: gcc 8.5.0 20210514 (Red Hat 8.5.0-22) RHEL9 Kernel: Depends on container host Compiler: gcc 11.5.0 20240719 (Red Hat 11.5.0-2) Ubuntu 22.04 Kernel: Depends on container host Compiler: gcc (Ubuntu 11.4.0-1ubuntu1~22.04) 11.4.0 Ubuntu 24.04 Kernel: Depends on container host Compiler: gcc (Ubuntu 13.3.0-6ubuntu2~24.04) 13.3.0 Fedora 40 Kernel: Depends on container host Compiler: gcc 14.2.1 20240912 (Red Hat 14.2.1-3) To view detailed results, visit: https://lab.dpdk.org/results/dashboard/patchsets/32604/ UNH-IOL DPDK Community Lab To manage your email subscriptions, visit: https://lab.dpdk.org/results/dashboard/preferences/subscriptions/