From mboxrd@z Thu Jan 1 00:00:00 1970 Return-Path: Received: from mails.dpdk.org (mails.dpdk.org [217.70.189.124]) by inbox.dpdk.org (Postfix) with ESMTP id E44ED4625F for ; Tue, 18 Feb 2025 19:55:38 +0100 (CET) Received: from mails.dpdk.org (localhost [127.0.0.1]) by mails.dpdk.org (Postfix) with ESMTP id D5CD4402A3; Tue, 18 Feb 2025 19:55:38 +0100 (CET) Received: from mail-pl1-f227.google.com (mail-pl1-f227.google.com [209.85.214.227]) by mails.dpdk.org (Postfix) with ESMTP id 4C1FE40264 for ; Tue, 18 Feb 2025 19:55:38 +0100 (CET) Received: by mail-pl1-f227.google.com with SMTP id d9443c01a7336-220c8cf98bbso119054985ad.1 for ; Tue, 18 Feb 2025 10:55:38 -0800 (PST) DKIM-Signature: v=1; a=rsa-sha256; c=relaxed/relaxed; d=iol.unh.edu; s=unh-iol; t=1739904937; x=1740509737; darn=dpdk.org; h=references:in-reply-to:cc:to:from:subject:message-id:date:from:to :cc:subject:date:message-id:reply-to; bh=932OHU45ogKP39AmT3Mi99oguZH61NOkvRCFCCU6u3A=; b=hG+5HMP4EANsI2oDOl0oWXEEyJH59XaS+QfnRKWrG8ByTyU3nS5SfS+2m5j91iPy7j 2exvIlrARlQvcJNihq2SYmAH1isCh0CNs9oPlSfQozAM8c1zDle5NzLFb1U5HqhvtA6Q zHh2hxR28mH/LDGDWRZjEO6/8BYEvrBtyx9OY= X-Google-DKIM-Signature: v=1; a=rsa-sha256; c=relaxed/relaxed; d=1e100.net; s=20230601; t=1739904937; x=1740509737; h=references:in-reply-to:cc:to:from:subject:message-id:date :x-gm-message-state:from:to:cc:subject:date:message-id:reply-to; bh=932OHU45ogKP39AmT3Mi99oguZH61NOkvRCFCCU6u3A=; b=ISH3c9C2l3gbO7P/DirD85086rOWhrkI0Lyw87xEkPJMT/atVP3GO/1fOvCYXgjhrB zpuP7Vad03cVlrvXUFLld8Gr46UZAB0WHEOw8LtpQY1wLzCZsOZwutwXWzvk5zXim8uj 0Hbh3uHD0PHpyLocAA73qgyK3m5NvNbi0ki3YzqCK0JHBabvVnrg0J8/Zr/49hdZoDrB LISCYVuXiK49fckvz3A9OuMgMwRcjd1GAGZxbeUh6rU38bOTN33SvWN/m1JbOC2bdiNJ MhPXIlM2aucu8arjSWYVMsEFv2TdaWiQ7adWRBNWyThMA0H6L2P1js1WyGGN8Z/4qrrF MFYw== X-Gm-Message-State: AOJu0YwzAxZV+ZGmW4Njjp+xX5n5J8RISefCbaz2HKClRyn0bQAIpBTv IOMHHaf5jHT+j8H4OHwbrdKg9fBDcrvEX5xiWvWG8NWZkN4YzYw2N22tafZFzLBaI90/1MYpRb3 nAB52Ad1BhVxnF1FuusPEzkRh5pZLKXCnbp20+mJC X-Gm-Gg: ASbGncsgl3jRfwHzknoKaOhB7PCmZBnmZlPTEKuImYvqtNP96wQpWf+HhbPjwEBCTo1 jSR4c/KbBW4YMuINbO9JfNFtLC3V7lFPChYnbuBTsjICasfSactN52uXKBaMlZWE6Pu5HhUfyq8 DRyt6tptqYu7RFiLfP4RF+O+tMF0wiReq8iR48es0K/H3r2WR53JbPSKNTQGtXiHs9EcgfUcnJk VQ0IgDD4GScp04PYWq1BJCpe0mpxwEuPIJ5JxZ6MKmeUk0aXkt+x6Bxhdnx5GJT8HvXSMRDYDWR VJHYUbNBqcEdURMfMj7Ub6gm7m6aOA== X-Google-Smtp-Source: AGHT+IFaShISnAQ38ZdxhANKMyVS+XgvPn27ROOBSwu9H0DCUtc2qgZu/jfece62LONk32N+7tLpRnZjl1XA X-Received: by 2002:a17:903:2308:b0:220:d69d:78bd with SMTP id d9443c01a7336-221040c0aebmr186034545ad.51.1739904937422; Tue, 18 Feb 2025 10:55:37 -0800 (PST) Received: from postal.iol.unh.edu (postal.iol.unh.edu. [132.177.123.84]) by smtp-relay.gmail.com with ESMTPS id d9443c01a7336-220d540fff2sm5918995ad.103.2025.02.18.10.55.37 (version=TLS1_2 cipher=ECDHE-ECDSA-AES128-GCM-SHA256 bits=128/128); Tue, 18 Feb 2025 10:55:37 -0800 (PST) X-Relaying-Domain: iol.unh.edu Date: Tue, 18 Feb 2025 10:55:37 -0800 (PST) Message-ID: <67b4d7a9.170a0220.289d65.d4b7SMTPIN_ADDED_MISSING@mx.google.com> Received: from [172.21.0.7] (unknown [172.18.0.240]) by postal.iol.unh.edu (Postfix) with ESMTP id CBED76052471; Tue, 18 Feb 2025 13:55:36 -0500 (EST) Subject: |SUCCESS| pw151585-151594 [PATCH] [v3,10/10] eal: deprecate weak sym From: dpdklab@iol.unh.edu To: Test Report Cc: dpdk-test-reports@iol.unh.edu In-Reply-To: <20250218153730.773836-11-david.marchand@redhat.com> References: <20250218153730.773836-11-david.marchand@redhat.com> Content-Type: text/plain X-BeenThere: test-report@dpdk.org X-Mailman-Version: 2.1.29 Precedence: list List-Id: automatic DPDK test reports List-Unsubscribe: , List-Archive: List-Post: List-Help: List-Subscribe: , Errors-To: test-report-bounces@dpdk.org Test-Label: iol-sample-apps-testing Test-Status: SUCCESS http://dpdk.org/patch/151594 _Testing PASS_ Submitter: David Marchand Date: Tuesday, February 18 2025 15:37:24 DPDK git baseline: Repo:dpdk Branch: master CommitID:e5176f23ae8b31437c3e5eb875c81f95bf3a9942 151585-151594 --> testing pass Upstream job id: ACVP-FIPS-testing#8948 Test environment and result as below: +--------------------+----------------------+----------------------+ | Environment | compressdev_zlib_pmd | dpdk_fips_validation | +====================+======================+======================+ | Ubuntu 22.04 (ARM) | PASS | SKIPPED | +--------------------+----------------------+----------------------+ | Ubuntu 22.04 | PASS | SKIPPED | +--------------------+----------------------+----------------------+ | Ubuntu 20.04 | SKIPPED | PASS | +--------------------+----------------------+----------------------+ Ubuntu 22.04 (ARM) Kernel: 5.15.0-97-generic Compiler: gcc gcc (Ubuntu 11.4.0-1ubuntu1~22.04) 11.4.0 Ubuntu 22.04 Kernel: 5.15.0-100-generic Compiler: gcc gcc (Ubuntu 11.4.0-1ubuntu1~22.04) 11.4.0 Ubuntu 20.04 Kernel: Depends on container host Compiler: gcc (Ubuntu 9.4.0-1ubuntu1~20.04.2) 9.4.0 To view detailed results, visit: https://lab.dpdk.org/results/dashboard/patchsets/32604/ UNH-IOL DPDK Community Lab To manage your email subscriptions, visit: https://lab.dpdk.org/results/dashboard/preferences/subscriptions/