From mboxrd@z Thu Jan 1 00:00:00 1970 Return-Path: Received: from mails.dpdk.org (mails.dpdk.org [217.70.189.124]) by inbox.dpdk.org (Postfix) with ESMTP id E109346262 for ; Tue, 18 Feb 2025 20:08:08 +0100 (CET) Received: from mails.dpdk.org (localhost [127.0.0.1]) by mails.dpdk.org (Postfix) with ESMTP id 17D7B402A3; Tue, 18 Feb 2025 20:08:08 +0100 (CET) Received: from mail-qv1-f99.google.com (mail-qv1-f99.google.com [209.85.219.99]) by mails.dpdk.org (Postfix) with ESMTP id 7A299402A3 for ; Tue, 18 Feb 2025 20:08:07 +0100 (CET) Received: by mail-qv1-f99.google.com with SMTP id 6a1803df08f44-6ddcff5a823so41357336d6.0 for ; Tue, 18 Feb 2025 11:08:07 -0800 (PST) DKIM-Signature: v=1; a=rsa-sha256; c=relaxed/relaxed; d=iol.unh.edu; s=unh-iol; t=1739905687; x=1740510487; darn=dpdk.org; h=references:in-reply-to:cc:to:from:subject:message-id:date:from:to :cc:subject:date:message-id:reply-to; bh=eGTuXZpoEbmD7cJ1DMSi7pN4/lSTsbqOixDrpxFAzCA=; b=WOrfRb5klkMxtEy8QJRL0ug6Z6wVL/LXQsLR9qcNsT/zGC5zos4cfMhXPWfRe7ScvP mTmjVRq5eKl24IPnAvDhdeqlu8C/6WGJut/gfDZPLVYH1Kuo29yj3+4Mvxs97Op76FLp SR81V9RjdYfwgWuxy7gr5dyL6Pazjhz4wF18I= X-Google-DKIM-Signature: v=1; a=rsa-sha256; c=relaxed/relaxed; d=1e100.net; s=20230601; t=1739905687; x=1740510487; h=references:in-reply-to:cc:to:from:subject:message-id:date :x-gm-message-state:from:to:cc:subject:date:message-id:reply-to; bh=eGTuXZpoEbmD7cJ1DMSi7pN4/lSTsbqOixDrpxFAzCA=; b=evKraBvVsRFIl51zApahg1+PmA0/Pkx3/mmXSeNcDwCCg4JD1El/p8bG5LAApyAfhL N8FC2KzAcfZ9CkPH6Gwsr817GCvyhyJWu0j5m2YOBQa9tpQ+hwjcBZ/0DbTk7qMTunCp Vi7Qg9TdECBAEoo26uBR5AquEkkEpPMn2O86nG8zwWskQektoHSgUIav6TFecpe4m8YF 5hAMawo4iJx2MkIm8ZWRX2Pczy2HGZmdNogm7G3BWtHK0Bmk3u1NsK7aMY1nUNA5PsYK G4iXGWxf5Cc49tBlNNtRRxq2ZSomhruVzR5eeQEElYl8gfIVStRhXxb7umn6wuOw7dgH /hZA== X-Gm-Message-State: AOJu0Yz0PAY5o7j5Pl7Bu5zBpf5SHheX0mWDk0YQaa+PZeiAnIxT21dj cRqoLYLUwaTaIZ2/nsvPckLcEvjnoAiIv5TEi+cJuAOG+jA1IBllYjpoYy6i8pVwBsyABD1GgMx 3Q1Nni5/XV2wa4Fi/487MmJErKvhk5B4fjn5eZi8x X-Gm-Gg: ASbGnct9O4QgHys2+05HCMvc/KxDO5pYqmus2rTS2Era9OHVnY0MhFMXcr4Yg1QNbyk AksStI+r1KVZnQIepPAse92x0+L2LlgXn/NebsJ/MwXyY1hxcsyW4cE3RPs09R57HoKcfH9M767 T0p1Z3GyRXW+wc/4/NySEijI/k4n8bZHDhmpHbglcR6ZqO+8UFR7RhTB0Abd1bUAYPCcjUUcykg I83+e7XjataffrD/WlmTyKR5B5YAFw2vK4UBe3uDZeXyVwRPW7hZwJOLdkXdtYuXeXXxQbEXdv1 tA3M/ZD6dPyCx21se41s7H60S7rEcQ== X-Google-Smtp-Source: AGHT+IGle2oMMqt146oDfGoGQuICJ3tuRGyanHjgeAjg5HcEjiLHWJzHx9YUmTH3OnO5raDY3X/H5zO36q5l X-Received: by 2002:a05:6214:21c3:b0:6cb:c54c:b782 with SMTP id 6a1803df08f44-6e69755b668mr14437906d6.32.1739905684664; Tue, 18 Feb 2025 11:08:04 -0800 (PST) Received: from postal.iol.unh.edu (postal.iol.unh.edu. [132.177.123.84]) by smtp-relay.gmail.com with ESMTPS id 6a1803df08f44-6e669d78f42sm3567346d6.8.2025.02.18.11.08.04 (version=TLS1_2 cipher=ECDHE-ECDSA-AES128-GCM-SHA256 bits=128/128); Tue, 18 Feb 2025 11:08:04 -0800 (PST) X-Relaying-Domain: iol.unh.edu Date: Tue, 18 Feb 2025 11:08:04 -0800 (PST) Message-ID: <67b4da94.050a0220.2d6d4.1028SMTPIN_ADDED_MISSING@mx.google.com> Received: from [172.21.0.6] (unknown [172.18.0.240]) by postal.iol.unh.edu (Postfix) with ESMTP id 5199D6052471; Tue, 18 Feb 2025 14:08:04 -0500 (EST) Subject: |SUCCESS| pw151585-151594 [PATCH] [v3,10/10] eal: deprecate weak sym From: dpdklab@iol.unh.edu To: Test Report Cc: dpdk-test-reports@iol.unh.edu In-Reply-To: <20250218153730.773836-11-david.marchand@redhat.com> References: <20250218153730.773836-11-david.marchand@redhat.com> Content-Type: text/plain X-BeenThere: test-report@dpdk.org X-Mailman-Version: 2.1.29 Precedence: list List-Id: automatic DPDK test reports List-Unsubscribe: , List-Archive: List-Post: List-Help: List-Subscribe: , Errors-To: test-report-bounces@dpdk.org Test-Label: iol-compile-amd64-testing Test-Status: SUCCESS http://dpdk.org/patch/151594 _Testing PASS_ Submitter: David Marchand Date: Tuesday, February 18 2025 15:37:24 DPDK git baseline: Repo:dpdk Branch: master CommitID:e5176f23ae8b31437c3e5eb875c81f95bf3a9942 151585-151594 --> testing pass Upstream job id: Generic-DPDK-Compile-Meson#362647 Test environment and result as below: +---------------------+--------------------+-------------------+------------------+-------------------------+-------------------+----------------------+ | Environment | dpdk_meson_compile | dpdk_compile_spdk | dpdk_compile_ovs | dpdk_llvm_clang_compile | dpdk_msvc_compile | dpdk_mingw64_compile | +=====================+====================+===================+==================+=========================+===================+======================+ | CentOS Stream 9 | PASS | PASS | SKIPPED | SKIPPED | SKIPPED | SKIPPED | +---------------------+--------------------+-------------------+------------------+-------------------------+-------------------+----------------------+ | CentOS Stream 10 | PASS | SKIPPED | SKIPPED | SKIPPED | SKIPPED | SKIPPED | +---------------------+--------------------+-------------------+------------------+-------------------------+-------------------+----------------------+ | Debian 12 | PASS | PASS | SKIPPED | SKIPPED | SKIPPED | SKIPPED | +---------------------+--------------------+-------------------+------------------+-------------------------+-------------------+----------------------+ | Fedora 40 (Clang) | PASS | PASS | SKIPPED | SKIPPED | SKIPPED | SKIPPED | +---------------------+--------------------+-------------------+------------------+-------------------------+-------------------+----------------------+ | Fedora 40 | PASS | PASS | SKIPPED | SKIPPED | SKIPPED | SKIPPED | +---------------------+--------------------+-------------------+------------------+-------------------------+-------------------+----------------------+ | Debian Bullseye | PASS | PASS | SKIPPED | SKIPPED | SKIPPED | SKIPPED | +---------------------+--------------------+-------------------+------------------+-------------------------+-------------------+----------------------+ | openSUSE Leap 15 | PASS | SKIPPED | SKIPPED | SKIPPED | SKIPPED | SKIPPED | +---------------------+--------------------+-------------------+------------------+-------------------------+-------------------+----------------------+ | Fedora 41 | PASS | PASS | PASS | SKIPPED | SKIPPED | SKIPPED | +---------------------+--------------------+-------------------+------------------+-------------------------+-------------------+----------------------+ | Fedora 41 (Clang) | PASS | PASS | PASS | SKIPPED | SKIPPED | SKIPPED | +---------------------+--------------------+-------------------+------------------+-------------------------+-------------------+----------------------+ | RHEL8 | PASS | SKIPPED | SKIPPED | SKIPPED | SKIPPED | SKIPPED | +---------------------+--------------------+-------------------+------------------+-------------------------+-------------------+----------------------+ | RHEL9 | PASS | SKIPPED | SKIPPED | SKIPPED | SKIPPED | SKIPPED | +---------------------+--------------------+-------------------+------------------+-------------------------+-------------------+----------------------+ | Ubuntu 20.04 | PASS | SKIPPED | SKIPPED | SKIPPED | SKIPPED | SKIPPED | +---------------------+--------------------+-------------------+------------------+-------------------------+-------------------+----------------------+ | Ubuntu 24.04 | PASS | PASS | PASS | SKIPPED | SKIPPED | SKIPPED | +---------------------+--------------------+-------------------+------------------+-------------------------+-------------------+----------------------+ | Ubuntu 22.04 | PASS | PASS | SKIPPED | SKIPPED | SKIPPED | SKIPPED | +---------------------+--------------------+-------------------+------------------+-------------------------+-------------------+----------------------+ | Alpine | PASS | SKIPPED | SKIPPED | SKIPPED | SKIPPED | SKIPPED | +---------------------+--------------------+-------------------+------------------+-------------------------+-------------------+----------------------+ | FreeBSD 13.4 | PASS | SKIPPED | SKIPPED | SKIPPED | SKIPPED | SKIPPED | +---------------------+--------------------+-------------------+------------------+-------------------------+-------------------+----------------------+ | FreeBSD 14.2 | PASS | SKIPPED | SKIPPED | SKIPPED | SKIPPED | SKIPPED | +---------------------+--------------------+-------------------+------------------+-------------------------+-------------------+----------------------+ | Windows Server 2022 | SKIPPED | SKIPPED | SKIPPED | PASS | PASS | PASS | +---------------------+--------------------+-------------------+------------------+-------------------------+-------------------+----------------------+ CentOS Stream 9 Kernel: Depends on container host Compiler: gcc 11.5.0 20240719 (Red Hat 11.5.0-2) CentOS Stream 10 Kernel: Depends on container host Compiler: gcc 14.2.1 20241104 (Red Hat 14.2.1-6) Debian 12 Kernel: Depends on container host Compiler: gcc (Debian 12.2.0-14) 12.2.0 Fedora 40 (Clang) Kernel: Depends on container host Compiler: clang 18.1.8 (Fedora 18.1.8-1.fc40) Fedora 40 Kernel: Depends on container host Compiler: gcc 14.2.1 20240912 (Red Hat 14.2.1-3) Debian Bullseye Kernel: Depends on container host Compiler: gcc (Debian 10.2.1-6) 10.2.1 20210110 openSUSE Leap 15 Kernel: Depends on container host Compiler: gcc (SUSE Linux) 7.5.0 Fedora 41 Kernel: Depends on container host Compiler: gcc 14.2.1 20240912 (Red Hat 14.2.1-3) Fedora 41 (Clang) Kernel: Depends on container host Compiler: clang 19.1.5 (Fedora 19.1.5-1.fc41) RHEL8 Kernel: Depends on container host Compiler: gcc 8.5.0 20210514 (Red Hat 8.5.0-22) RHEL9 Kernel: Depends on container host Compiler: gcc 11.5.0 20240719 (Red Hat 11.5.0-2) Ubuntu 20.04 Kernel: Depends on container host Compiler: gcc (Ubuntu 9.4.0-1ubuntu1~20.04.2) 9.4.0 Ubuntu 24.04 Kernel: Depends on container host Compiler: gcc (Ubuntu 13.3.0-6ubuntu2~24.04) 13.3.0 Ubuntu 22.04 Kernel: Depends on container host Compiler: gcc (Ubuntu 11.4.0-1ubuntu1~22.04) 11.4.0 Alpine Kernel: Depends on container host Compiler: gcc (Alpine 14.2.0) 14.2.0 FreeBSD 13.4 Kernel: 13.4-RELEASE-p1 Compiler: clang 18.1.6 FreeBSD 14.2 Kernel: 14.2-RELEASE Compiler: clang 18.1.6 Windows Server 2022 Kernel: 10.0.20348.2031 Compiler: clang 15.0.7, gcc 14.1.0 (MinGW), and MSVC VS 19.39.33521 To view detailed results, visit: https://lab.dpdk.org/results/dashboard/patchsets/32604/ UNH-IOL DPDK Community Lab To manage your email subscriptions, visit: https://lab.dpdk.org/results/dashboard/preferences/subscriptions/