From mboxrd@z Thu Jan 1 00:00:00 1970 Return-Path: Received: from mails.dpdk.org (mails.dpdk.org [217.70.189.124]) by inbox.dpdk.org (Postfix) with ESMTP id 52C7146262 for ; Tue, 18 Feb 2025 20:08:45 +0100 (CET) Received: from mails.dpdk.org (localhost [127.0.0.1]) by mails.dpdk.org (Postfix) with ESMTP id 4AA11406B6; Tue, 18 Feb 2025 20:08:45 +0100 (CET) Received: from mail-qv1-f100.google.com (mail-qv1-f100.google.com [209.85.219.100]) by mails.dpdk.org (Postfix) with ESMTP id 5CBCA402A3 for ; Tue, 18 Feb 2025 20:08:44 +0100 (CET) Received: by mail-qv1-f100.google.com with SMTP id 6a1803df08f44-6dd1962a75bso40994346d6.3 for ; Tue, 18 Feb 2025 11:08:44 -0800 (PST) DKIM-Signature: v=1; a=rsa-sha256; c=relaxed/relaxed; d=iol.unh.edu; s=unh-iol; t=1739905724; x=1740510524; darn=dpdk.org; h=references:in-reply-to:cc:to:from:subject:message-id:date:from:to :cc:subject:date:message-id:reply-to; bh=C2ehU63yGlGfzxsO2A5o6bDIkX80upC2DGDiXGYiwso=; b=URVfpCkToSExzBW2FyUkTsvjABeOUlbronUVcByJSL78+vD4sqGAV3zGxGpqHaOpKW 7b4fyvc7hv9CYCpXg2WWY2sPrdcXvX9GAKDvciuZkszwOg4KfxXLw+gg4SuhwPuKpyG6 TzBO/Lh9LNoSjCc+C5G++yH/ShKQOXanGDXgI= X-Google-DKIM-Signature: v=1; a=rsa-sha256; c=relaxed/relaxed; d=1e100.net; s=20230601; t=1739905724; x=1740510524; h=references:in-reply-to:cc:to:from:subject:message-id:date :x-gm-message-state:from:to:cc:subject:date:message-id:reply-to; bh=C2ehU63yGlGfzxsO2A5o6bDIkX80upC2DGDiXGYiwso=; b=grF7zujiPtTeynkjWj92+hQ7syw6eN3/UCGmoAWajxHqn7QPuKyX17DQpVjjnIhWJz p9/Od0XRZ3NOBf5tzQqOSJjeHpJjXbQ/r/8MY+3r6IrcI5J7bKIJ5BE7NmtAfgcXdOSP vtTai95gquOkbOuxrDvCYKnwZrOgLvwLTPZfGuMfCqGo/NirrVohi00HcqlNRf81y7Mt H+V4dZ5kKhvBpyzkjB7cin7b+hyyKOIvxaof2uoOnBgC5aOBJ8ZiyNJuByaNe6MGmUTF Vcl7NRqvYxIUTFMh/fhVyUHIRxBiSoYsRxFX4Q6H7WXWTyN7CCV/Hxk1T2WBRun3aMFA 24Qw== X-Gm-Message-State: AOJu0YyFdoWywiAtOkroLqQVKVvq5h1r4+4mbRbs5f+Eh0ZBLpHBdPVP 8QKjbYIbRHY/5wadr1dZNlkTHVjNavivcln4XdcK9mD3fICeTrRlD8fZ/nZFCI23b/D9VGeApx3 fBw+1b1F+XgqcQResWqPskBL5s2iHuJsJOfowH3tc X-Gm-Gg: ASbGncvFKsnZpd+0dcnqDn6lW7W4jW0EivBxRCRs71dXVQFOikbjb3QRWh7R/jEsAgj zdnwPaZft5JKySxXbzOZNDufKVlxEPD4PhyRDpFQ0wczz1C4Rmzf172p2wNfvZKrQ76/jCuycFb xYQz/+k6AKOyGH6wNWUWfkiNfNKSkEKTqd9Pv4Xp7+cRdKdycP8ku8KPZqkaTL9ijn+Ao83ZVJZ gtAkwnFH2Cwuk8gT10j8wXXOSqFNWW+8Q6s82G3exs2uANDN5Y6oAV4/Ui6jIYEY2nNJzTMF2C1 cJue2MY0usInndY0eVkMWKZb4iCvtQ== X-Google-Smtp-Source: AGHT+IFJBwlCuXpnl/khSIPLi767FRED4XePPXrY1cEzItQvehS34lGPWNkHdA0nPvJL3PRI38To+Ezte7Ov X-Received: by 2002:a05:6214:c4b:b0:6d8:8fdd:9791 with SMTP id 6a1803df08f44-6e66ccd4369mr223888976d6.25.1739905723711; Tue, 18 Feb 2025 11:08:43 -0800 (PST) Received: from postal.iol.unh.edu (postal.iol.unh.edu. [132.177.123.84]) by smtp-relay.gmail.com with ESMTPS id 6a1803df08f44-6e65d73470esm4248546d6.15.2025.02.18.11.08.43 (version=TLS1_2 cipher=ECDHE-ECDSA-AES128-GCM-SHA256 bits=128/128); Tue, 18 Feb 2025 11:08:43 -0800 (PST) X-Relaying-Domain: iol.unh.edu Date: Tue, 18 Feb 2025 11:08:43 -0800 (PST) Message-ID: <67b4dabb.d40a0220.2bf6e.4846SMTPIN_ADDED_MISSING@mx.google.com> Received: from [172.21.0.7] (unknown [172.18.0.240]) by postal.iol.unh.edu (Postfix) with ESMTP id 6AA0E6052471; Tue, 18 Feb 2025 14:08:43 -0500 (EST) Subject: |SUCCESS| pw151585-151594 [PATCH] [v3,10/10] eal: deprecate weak sym From: dpdklab@iol.unh.edu To: Test Report Cc: dpdk-test-reports@iol.unh.edu In-Reply-To: <20250218153730.773836-11-david.marchand@redhat.com> References: <20250218153730.773836-11-david.marchand@redhat.com> Content-Type: text/plain X-BeenThere: test-report@dpdk.org X-Mailman-Version: 2.1.29 Precedence: list List-Id: automatic DPDK test reports List-Unsubscribe: , List-Archive: List-Post: List-Help: List-Subscribe: , Errors-To: test-report-bounces@dpdk.org Test-Label: iol-compile-amd64-testing Test-Status: SUCCESS http://dpdk.org/patch/151594 _Testing PASS_ Submitter: David Marchand Date: Tuesday, February 18 2025 15:37:24 DPDK git baseline: Repo:dpdk Branch: master CommitID:e5176f23ae8b31437c3e5eb875c81f95bf3a9942 151585-151594 --> testing pass Upstream job id: Generic-DPDK-Compile-Meson#362646 Test environment and result as below: +---------------------+--------------------+-------------------+------------------+-------------------------+-------------------+----------------------+ | Environment | dpdk_meson_compile | dpdk_compile_spdk | dpdk_compile_ovs | dpdk_llvm_clang_compile | dpdk_msvc_compile | dpdk_mingw64_compile | +=====================+====================+===================+==================+=========================+===================+======================+ | CentOS Stream 9 | PASS | PASS | SKIPPED | SKIPPED | SKIPPED | SKIPPED | +---------------------+--------------------+-------------------+------------------+-------------------------+-------------------+----------------------+ | CentOS Stream 10 | PASS | SKIPPED | SKIPPED | SKIPPED | SKIPPED | SKIPPED | +---------------------+--------------------+-------------------+------------------+-------------------------+-------------------+----------------------+ | Debian 12 | PASS | PASS | SKIPPED | SKIPPED | SKIPPED | SKIPPED | +---------------------+--------------------+-------------------+------------------+-------------------------+-------------------+----------------------+ | Fedora 40 (Clang) | PASS | PASS | SKIPPED | SKIPPED | SKIPPED | SKIPPED | +---------------------+--------------------+-------------------+------------------+-------------------------+-------------------+----------------------+ | Fedora 40 | PASS | PASS | SKIPPED | SKIPPED | SKIPPED | SKIPPED | +---------------------+--------------------+-------------------+------------------+-------------------------+-------------------+----------------------+ | Debian Bullseye | PASS | PASS | SKIPPED | SKIPPED | SKIPPED | SKIPPED | +---------------------+--------------------+-------------------+------------------+-------------------------+-------------------+----------------------+ | openSUSE Leap 15 | PASS | SKIPPED | SKIPPED | SKIPPED | SKIPPED | SKIPPED | +---------------------+--------------------+-------------------+------------------+-------------------------+-------------------+----------------------+ | Fedora 41 | PASS | PASS | PASS | SKIPPED | SKIPPED | SKIPPED | +---------------------+--------------------+-------------------+------------------+-------------------------+-------------------+----------------------+ | Fedora 41 (Clang) | PASS | PASS | PASS | SKIPPED | SKIPPED | SKIPPED | +---------------------+--------------------+-------------------+------------------+-------------------------+-------------------+----------------------+ | RHEL8 | PASS | SKIPPED | SKIPPED | SKIPPED | SKIPPED | SKIPPED | +---------------------+--------------------+-------------------+------------------+-------------------------+-------------------+----------------------+ | RHEL9 | PASS | SKIPPED | SKIPPED | SKIPPED | SKIPPED | SKIPPED | +---------------------+--------------------+-------------------+------------------+-------------------------+-------------------+----------------------+ | Ubuntu 20.04 | PASS | SKIPPED | SKIPPED | SKIPPED | SKIPPED | SKIPPED | +---------------------+--------------------+-------------------+------------------+-------------------------+-------------------+----------------------+ | Ubuntu 24.04 | PASS | PASS | PASS | SKIPPED | SKIPPED | SKIPPED | +---------------------+--------------------+-------------------+------------------+-------------------------+-------------------+----------------------+ | Ubuntu 22.04 | PASS | PASS | SKIPPED | SKIPPED | SKIPPED | SKIPPED | +---------------------+--------------------+-------------------+------------------+-------------------------+-------------------+----------------------+ | Alpine | PASS | SKIPPED | SKIPPED | SKIPPED | SKIPPED | SKIPPED | +---------------------+--------------------+-------------------+------------------+-------------------------+-------------------+----------------------+ | FreeBSD 13.4 | PASS | SKIPPED | SKIPPED | SKIPPED | SKIPPED | SKIPPED | +---------------------+--------------------+-------------------+------------------+-------------------------+-------------------+----------------------+ | FreeBSD 14.2 | PASS | SKIPPED | SKIPPED | SKIPPED | SKIPPED | SKIPPED | +---------------------+--------------------+-------------------+------------------+-------------------------+-------------------+----------------------+ | Windows Server 2022 | SKIPPED | SKIPPED | SKIPPED | PASS | PASS | PASS | +---------------------+--------------------+-------------------+------------------+-------------------------+-------------------+----------------------+ CentOS Stream 9 Kernel: Depends on container host Compiler: gcc 11.5.0 20240719 (Red Hat 11.5.0-2) CentOS Stream 10 Kernel: Depends on container host Compiler: gcc 14.2.1 20241104 (Red Hat 14.2.1-6) Debian 12 Kernel: Depends on container host Compiler: gcc (Debian 12.2.0-14) 12.2.0 Fedora 40 (Clang) Kernel: Depends on container host Compiler: clang 18.1.8 (Fedora 18.1.8-1.fc40) Fedora 40 Kernel: Depends on container host Compiler: gcc 14.2.1 20240912 (Red Hat 14.2.1-3) Debian Bullseye Kernel: Depends on container host Compiler: gcc (Debian 10.2.1-6) 10.2.1 20210110 openSUSE Leap 15 Kernel: Depends on container host Compiler: gcc (SUSE Linux) 7.5.0 Fedora 41 Kernel: Depends on container host Compiler: gcc 14.2.1 20240912 (Red Hat 14.2.1-3) Fedora 41 (Clang) Kernel: Depends on container host Compiler: clang 19.1.5 (Fedora 19.1.5-1.fc41) RHEL8 Kernel: Depends on container host Compiler: gcc 8.5.0 20210514 (Red Hat 8.5.0-22) RHEL9 Kernel: Depends on container host Compiler: gcc 11.5.0 20240719 (Red Hat 11.5.0-2) Ubuntu 20.04 Kernel: Depends on container host Compiler: gcc (Ubuntu 9.4.0-1ubuntu1~20.04.2) 9.4.0 Ubuntu 24.04 Kernel: Depends on container host Compiler: gcc (Ubuntu 13.3.0-6ubuntu2~24.04) 13.3.0 Ubuntu 22.04 Kernel: Depends on container host Compiler: gcc (Ubuntu 11.4.0-1ubuntu1~22.04) 11.4.0 Alpine Kernel: Depends on container host Compiler: gcc (Alpine 14.2.0) 14.2.0 FreeBSD 13.4 Kernel: 13.4-RELEASE-p1 Compiler: clang 18.1.6 FreeBSD 14.2 Kernel: 14.2-RELEASE Compiler: clang 18.1.6 Windows Server 2022 Kernel: 10.0.20348.2031 Compiler: clang 15.0.7, gcc 14.1.0 (MinGW), and MSVC VS 19.39.33521 To view detailed results, visit: https://lab.dpdk.org/results/dashboard/patchsets/32604/ UNH-IOL DPDK Community Lab To manage your email subscriptions, visit: https://lab.dpdk.org/results/dashboard/preferences/subscriptions/