From mboxrd@z Thu Jan 1 00:00:00 1970 Return-Path: Received: from mails.dpdk.org (mails.dpdk.org [217.70.189.124]) by inbox.dpdk.org (Postfix) with ESMTP id 8515C4625E for ; Tue, 18 Feb 2025 20:48:57 +0100 (CET) Received: from mails.dpdk.org (localhost [127.0.0.1]) by mails.dpdk.org (Postfix) with ESMTP id 801A1402A0; Tue, 18 Feb 2025 20:48:57 +0100 (CET) Received: from mail-qt1-f228.google.com (mail-qt1-f228.google.com [209.85.160.228]) by mails.dpdk.org (Postfix) with ESMTP id B68EC40264 for ; Tue, 18 Feb 2025 20:48:56 +0100 (CET) Received: by mail-qt1-f228.google.com with SMTP id d75a77b69052e-46fa734a0b8so53747751cf.1 for ; Tue, 18 Feb 2025 11:48:56 -0800 (PST) DKIM-Signature: v=1; a=rsa-sha256; c=relaxed/relaxed; d=iol.unh.edu; s=unh-iol; t=1739908136; x=1740512936; darn=dpdk.org; h=references:in-reply-to:cc:to:from:subject:message-id:date:from:to :cc:subject:date:message-id:reply-to; bh=XGuHcoIRmAc+OGDbTyc3rz0yR7LsfGZe7QW6K4mMovw=; b=jjQ5aE+GM+jMC7ZTv+E1+KgQ3cxZ4hyGMaB3SnVcJAXERkiOaTeUcr4+J4HfEaavUj O9eRBldEa6Nr0kocbQX0NHfrQVgCd+5ZZZoNPhORduEcIgE12Bk5JBp14hXaHvm4De2I LO0go4dTcIMpAqMT+nmGgAijGHgQgFbIkmWR4= X-Google-DKIM-Signature: v=1; a=rsa-sha256; c=relaxed/relaxed; d=1e100.net; s=20230601; t=1739908136; x=1740512936; h=references:in-reply-to:cc:to:from:subject:message-id:date :x-gm-message-state:from:to:cc:subject:date:message-id:reply-to; bh=XGuHcoIRmAc+OGDbTyc3rz0yR7LsfGZe7QW6K4mMovw=; b=d3DRAyk+8LcHqbSbt1wPLmOoI8kq+Brn1hdZduNIzYf/pNUmYiG2HkGDW9CUY/HKxA JdOSjXZVrx7pMlRkKi5n6/4zL3JRw7S+T1YomcPfEPozR2fOj4smS7ZOH8OMkYk2dQxG CVL79k4Gv3WxDvt42hFEqlZLPkhDy/93C1eTU0wy8rP5q/SbdViG2E6nPYa+1JYARvGe oz4YC+PF3sG82T5txxxM++Fzy8W1KbG9jm5r1yMQsbsxuJ6xWC4sI/YeFp/Zb8VScSIo lA49PpnkJ5rido/aQs9p8XDPqAnlgnNMWXS46F6+rRj790reKpW3upbJ/PiTh+zF3YiR 9Waw== X-Gm-Message-State: AOJu0YyJatcv+7TD/KrYrgtOgJjU0b5w14lI6y1KwCFqtNdy0Z4UJh+b 18nsHn2Wam1u8aRylKvZOorM238mJbDTN8t821jB8HhdYGBGHBgxq0ayG+mjj0l2k0hMPpUYQ0H 8LgODDhHiFuJwiu0xdfXbl7H3C6EPeFFwrnjkH2xVUYl1M4LoRd5fBoUY X-Gm-Gg: ASbGnctl3TgRuwfL2S51Q3g2RJSkgCeECqJKH0lr3Fjfb8DSHxG9U+ATgezQ/6YSi+n rXLR+v1Ojeo2QWkQPxCsVwC8FNHsocA92FStzMYetheFJEUXTPaeeSZI0/+knruxo+0G3wQ+LLv 01xXkIgoUIpEINxIQ34NBNFTY+z+AlBbarIjMBUUoRl+QJFDy59SOZ6i9QG0V+YKkmuTcpGntQj 5On33icdoOG+NOYWWBosEer1dq62adpEJhD37XDnzvyFWxxVaC4AjnhggA0ip5haOTYA5VgBEfN HukmrfS0IxC2XEpB/eT81r2rHRAbtRCjqBOsuARinQ== X-Google-Smtp-Source: AGHT+IHeC4LZvvxkscXkQIzRuNf2Iq2AIQTEice2cM6n5bYTQYeKMI9Zz4FZGXjBmHSZVi8AtPlJkDyCNZft X-Received: by 2002:a05:622a:6a43:b0:471:ef27:a30e with SMTP id d75a77b69052e-471ef27a60bmr91498191cf.28.1739908136094; Tue, 18 Feb 2025 11:48:56 -0800 (PST) Received: from postal.iol.unh.edu (postal.iol.unh.edu. [2606:4100:3880:1234::84]) by smtp-relay.gmail.com with ESMTPS id d75a77b69052e-471ed2e77fdsm3005191cf.5.2025.02.18.11.48.56 (version=TLS1_2 cipher=ECDHE-ECDSA-AES128-GCM-SHA256 bits=128/128); Tue, 18 Feb 2025 11:48:56 -0800 (PST) X-Relaying-Domain: iol.unh.edu Date: Tue, 18 Feb 2025 11:48:56 -0800 (PST) Message-ID: <67b4e428.c80a0220.2385ea.ddb3SMTPIN_ADDED_MISSING@mx.google.com> Received: from [172.21.0.5] (unknown [172.18.0.240]) by postal.iol.unh.edu (Postfix) with ESMTP id C3C416052471; Tue, 18 Feb 2025 14:48:55 -0500 (EST) Subject: |SUCCESS| pw151584 [PATCH] ethdev: fix get_reg_info From: dpdklab@iol.unh.edu To: Test Report Cc: dpdk-test-reports@iol.unh.edu In-Reply-To: <20250218115828.2107335-1-thierry.herbelot@6wind.com> References: <20250218115828.2107335-1-thierry.herbelot@6wind.com> Content-Type: text/plain X-BeenThere: test-report@dpdk.org X-Mailman-Version: 2.1.29 Precedence: list List-Id: automatic DPDK test reports List-Unsubscribe: , List-Archive: List-Post: List-Help: List-Subscribe: , Errors-To: test-report-bounces@dpdk.org Test-Label: iol-unit-amd64-testing Test-Status: SUCCESS http://dpdk.org/patch/151584 _Testing PASS_ Submitter: Thierry Herbelot Date: Tuesday, February 18 2025 11:58:28 DPDK git baseline: Repo:dpdk Branch: master CommitID:968f7b6d7b6a7e60e6e551db430c4eecaccbbfd2 151584 --> testing pass Upstream job id: Generic-Unit-Test-DPDK#315908 Test environment and result as below: +---------------------+----------------+ | Environment | dpdk_unit_test | +=====================+================+ | CentOS Stream 9 | PASS | +---------------------+----------------+ | Debian 12 | PASS | +---------------------+----------------+ | CentOS Stream 10 | PASS | +---------------------+----------------+ | Debian Bullseye | PASS | +---------------------+----------------+ | Fedora 40 (Clang) | PASS | +---------------------+----------------+ | Fedora 40 | PASS | +---------------------+----------------+ | Fedora 41 | PASS | +---------------------+----------------+ | Fedora 41 (Clang) | PASS | +---------------------+----------------+ | Ubuntu 22.04 | PASS | +---------------------+----------------+ | RHEL8 | PASS | +---------------------+----------------+ | RHEL9 | PASS | +---------------------+----------------+ | Ubuntu 24.04 | PASS | +---------------------+----------------+ | Ubuntu 20.04 | PASS | +---------------------+----------------+ | Windows Server 2022 | PASS | +---------------------+----------------+ CentOS Stream 9 Kernel: Depends on container host Compiler: gcc 11.5.0 20240719 (Red Hat 11.5.0-2) Debian 12 Kernel: Depends on container host Compiler: gcc (Debian 12.2.0-14) 12.2.0 CentOS Stream 10 Kernel: Depends on container host Compiler: gcc 14.2.1 20241104 (Red Hat 14.2.1-6) Debian Bullseye Kernel: Depends on container host Compiler: gcc (Debian 10.2.1-6) 10.2.1 20210110 Fedora 40 (Clang) Kernel: Depends on container host Compiler: clang 18.1.8 (Fedora 18.1.8-1.fc40) Fedora 40 Kernel: Depends on container host Compiler: gcc 14.2.1 20240912 (Red Hat 14.2.1-3) Fedora 41 Kernel: Depends on container host Compiler: gcc 14.2.1 20240912 (Red Hat 14.2.1-3) Fedora 41 (Clang) Kernel: Depends on container host Compiler: clang 19.1.5 (Fedora 19.1.5-1.fc41) Ubuntu 22.04 Kernel: Depends on container host Compiler: gcc (Ubuntu 11.4.0-1ubuntu1~22.04) 11.4.0 RHEL8 Kernel: Depends on container host Compiler: gcc 8.5.0 20210514 (Red Hat 8.5.0-22) RHEL9 Kernel: Depends on container host Compiler: gcc 11.5.0 20240719 (Red Hat 11.5.0-2) Ubuntu 24.04 Kernel: Depends on container host Compiler: gcc (Ubuntu 13.3.0-6ubuntu2~24.04) 13.3.0 Ubuntu 20.04 Kernel: Depends on container host Compiler: gcc (Ubuntu 9.4.0-1ubuntu1~20.04.2) 9.4.0 Windows Server 2022 Kernel: 10.0.20348.2031 Compiler: clang 15.0.7, gcc 14.1.0 (MinGW), and MSVC VS 19.39.33521 To view detailed results, visit: https://lab.dpdk.org/results/dashboard/patchsets/32603/ UNH-IOL DPDK Community Lab To manage your email subscriptions, visit: https://lab.dpdk.org/results/dashboard/preferences/subscriptions/