From mboxrd@z Thu Jan 1 00:00:00 1970 Return-Path: Received: from mails.dpdk.org (mails.dpdk.org [217.70.189.124]) by inbox.dpdk.org (Postfix) with ESMTP id EA5A84625E for ; Tue, 18 Feb 2025 21:03:03 +0100 (CET) Received: from mails.dpdk.org (localhost [127.0.0.1]) by mails.dpdk.org (Postfix) with ESMTP id B5B28402A0; Tue, 18 Feb 2025 21:03:03 +0100 (CET) Received: from mail-il1-f226.google.com (mail-il1-f226.google.com [209.85.166.226]) by mails.dpdk.org (Postfix) with ESMTP id 229A840264 for ; Tue, 18 Feb 2025 21:03:02 +0100 (CET) Received: by mail-il1-f226.google.com with SMTP id e9e14a558f8ab-3d19e40a891so13344425ab.3 for ; Tue, 18 Feb 2025 12:03:02 -0800 (PST) DKIM-Signature: v=1; a=rsa-sha256; c=relaxed/relaxed; d=iol.unh.edu; s=unh-iol; t=1739908981; x=1740513781; darn=dpdk.org; h=references:in-reply-to:cc:to:from:subject:message-id:date:from:to :cc:subject:date:message-id:reply-to; bh=PD2P9O6+kRHYSUykShnc77OovXRmHr5h1bW45A87qu8=; b=KJdzwdSGeUC/b7e+1zGGGBUAe7wWJ11FwYDK4XBT8TFfjoXkdW6MytJe4vHlsZpIW4 zZrIO9+642Kndh+SVDMuLMf9YmqFQHmTPuOrQVPJkU/unnobrac03KeVew8ACKnIEucf oz0Uj4S5cZP4bkWXqUXKHZMiSiKubarUProko= X-Google-DKIM-Signature: v=1; a=rsa-sha256; c=relaxed/relaxed; d=1e100.net; s=20230601; t=1739908981; x=1740513781; h=references:in-reply-to:cc:to:from:subject:message-id:date :x-gm-message-state:from:to:cc:subject:date:message-id:reply-to; bh=PD2P9O6+kRHYSUykShnc77OovXRmHr5h1bW45A87qu8=; b=f+RyZOazNq3q9YBN/Xw+2rSMF4y9Eo6ZBm0wxPpUPyn8QSDeebbIy+VkO8NhkaXQI7 bqmP41yu6hT1871iXprSq5OvN1IMjc2F74a2oIQCO8GbVdlu99loiPArp2m4L76m2tmP tyySJ00oAP4OrSCdxc0e1Q/gcDqZ/FyaPadR8dqxn2iYjtc9Kh54PRecSAn6p+TUEpKt w6+1bzIYKzqfYCQNT2ZUZE5nA9F3aMWy1nxOU/XvYYjJ+ekHaUmVYX1R/t+/7pfYufMr ADQCXSGNhiemc0R56CMGvZI26wN/OW7LFjgtwsgueaqTMvV5nY1ycXxzHSXW1JkKhXSx v2JQ== X-Gm-Message-State: AOJu0YySUOaMsKom6W5l75fmY1+eRIL0Af7cxEwYMeTGmknR35A+QnmY Ok1IjkgUtxxP31WQDghImono+s9FYiqGb8c3hcViFBrfxSnOHXMeg2vet/25NGh5/c00PGP8hhy VtlPuCASLq15IGK2WkR5391YHHzQDe5/pC5Xd0ntOAfS/xfPtXpDhZOgW X-Gm-Gg: ASbGncviNcXfNG98a5AEXP0zeKD8s79XAQpumoAVc4k1UVBNP8VOP76QynIkwoi9ZSZ CqxgPF5fj+AvUFeEYQBGlLZ2F9EHIGk0M3/0qn5t7ebpDeJP0tndS1gdemGenBaFJbPlmUU6onr 2fHJ1D4GKJ92Le8gsu7rH0ElxJ3qE7lT32+gn/xEesmhqiMUPtk+FAkY++y79pcgqlvuulxpPAg PlPAcf0pEFB2TDZZhr+YR6ssR+wDMMZVnPiLuWFMDbjSHgFq2JzhOrhyJ0s3endWPcD//4EagNV JFzM9Y87dS6NzX60Q/FbyyWmw9F6O7DjqlqAJOJK7w== X-Google-Smtp-Source: AGHT+IHuVbGbPRtvwXNZ9TeUaGpmQ1U710uaTIEonLn1pIkOX++f/3CKXiDcge10pLZyZjUoCIPAlzWnqY4S X-Received: by 2002:a05:6e02:461a:b0:3d2:b295:6653 with SMTP id e9e14a558f8ab-3d2b29567cemr18946025ab.13.1739908981380; Tue, 18 Feb 2025 12:03:01 -0800 (PST) Received: from postal.iol.unh.edu (postal.iol.unh.edu. [2606:4100:3880:1234::84]) by smtp-relay.gmail.com with ESMTPS id e9e14a558f8ab-3d2aca42a2dsm1184835ab.37.2025.02.18.12.03.01 (version=TLS1_2 cipher=ECDHE-ECDSA-AES128-GCM-SHA256 bits=128/128); Tue, 18 Feb 2025 12:03:01 -0800 (PST) X-Relaying-Domain: iol.unh.edu Date: Tue, 18 Feb 2025 12:03:01 -0800 (PST) Message-ID: <67b4e775.050a0220.274dc8.57ceSMTPIN_ADDED_MISSING@mx.google.com> Received: from [172.21.0.11] (unknown [172.18.0.240]) by postal.iol.unh.edu (Postfix) with ESMTP id CF78C6052471; Tue, 18 Feb 2025 15:03:00 -0500 (EST) Subject: |SUCCESS| pw151584 [PATCH] ethdev: fix get_reg_info From: dpdklab@iol.unh.edu To: Test Report Cc: dpdk-test-reports@iol.unh.edu In-Reply-To: <20250218115828.2107335-1-thierry.herbelot@6wind.com> References: <20250218115828.2107335-1-thierry.herbelot@6wind.com> Content-Type: text/plain X-BeenThere: test-report@dpdk.org X-Mailman-Version: 2.1.29 Precedence: list List-Id: automatic DPDK test reports List-Unsubscribe: , List-Archive: List-Post: List-Help: List-Subscribe: , Errors-To: test-report-bounces@dpdk.org Test-Label: iol-unit-arm64-testing Test-Status: SUCCESS http://dpdk.org/patch/151584 _Testing PASS_ Submitter: Thierry Herbelot Date: Tuesday, February 18 2025 11:58:28 DPDK git baseline: Repo:dpdk Branch: master CommitID:968f7b6d7b6a7e60e6e551db430c4eecaccbbfd2 151584 --> testing pass Upstream job id: Generic-Unit-Test-DPDK#315920 Test environment and result as below: +-----------------------------+----------------+---------------------------+------------------------------+--------------+ | Environment | dpdk_unit_test | cryptodev_sw_zuc_autotest | cryptodev_sw_snow3g_autotest | lpm_autotest | +=============================+================+===========================+==============================+==============+ | 32-bit Ubuntu 22.04.4 (ARM) | PASS | SKIPPED | SKIPPED | SKIPPED | +-----------------------------+----------------+---------------------------+------------------------------+--------------+ | CentOS Stream 10 (ARM) | PASS | SKIPPED | SKIPPED | SKIPPED | +-----------------------------+----------------+---------------------------+------------------------------+--------------+ | Fedora 40 (ARM Clang) | PASS | SKIPPED | SKIPPED | SKIPPED | +-----------------------------+----------------+---------------------------+------------------------------+--------------+ | CentOS Stream 9 (ARM) | PASS | SKIPPED | SKIPPED | SKIPPED | +-----------------------------+----------------+---------------------------+------------------------------+--------------+ | Debian 11 (Buster) (ARM) | PASS | SKIPPED | SKIPPED | SKIPPED | +-----------------------------+----------------+---------------------------+------------------------------+--------------+ | Fedora 41 (ARM) | PASS | SKIPPED | SKIPPED | SKIPPED | +-----------------------------+----------------+---------------------------+------------------------------+--------------+ | RHEL9 (ARM) | PASS | SKIPPED | SKIPPED | SKIPPED | +-----------------------------+----------------+---------------------------+------------------------------+--------------+ | Fedora 41 (ARM Clang) | PASS | SKIPPED | SKIPPED | SKIPPED | +-----------------------------+----------------+---------------------------+------------------------------+--------------+ | Ubuntu 20.04 (ARM) | PASS | SKIPPED | SKIPPED | SKIPPED | +-----------------------------+----------------+---------------------------+------------------------------+--------------+ | Fedora 40 (ARM) | PASS | SKIPPED | SKIPPED | SKIPPED | +-----------------------------+----------------+---------------------------+------------------------------+--------------+ | Ubuntu 24.04 (ARM) | PASS | SKIPPED | SKIPPED | SKIPPED | +-----------------------------+----------------+---------------------------+------------------------------+--------------+ | Ubuntu 22.04 (ARM) | PASS | SKIPPED | SKIPPED | SKIPPED | +-----------------------------+----------------+---------------------------+------------------------------+--------------+ | Debian 12 (arm) | PASS | PASS | PASS | SKIPPED | +-----------------------------+----------------+---------------------------+------------------------------+--------------+ | Ubuntu 20.04 ARM SVE | SKIPPED | SKIPPED | SKIPPED | PASS | +-----------------------------+----------------+---------------------------+------------------------------+--------------+ 32-bit Ubuntu 22.04.4 (ARM) Kernel: 5.15.83+ aarch64 Compiler: gcc (Ubuntu 11.4.0-1ubuntu1~22.04) 11.4.0 CentOS Stream 10 (ARM) Kernel: Depends on container host Compiler: gcc 14.2.1 20241104 (Red Hat 14.2.1-6) Fedora 40 (ARM Clang) Kernel: Depends on container host Compiler: clang 18.1.8 (Fedora 18.1.8-1.fc40) CentOS Stream 9 (ARM) Kernel: Depends on container host Compiler: gcc 11.5.0 20240719 (Red Hat 11.5.0-2) Debian 11 (Buster) (ARM) Kernel: Depends on container host Compiler: gcc (Debian 10.2.1-6) 10.2.1 20210110 Fedora 41 (ARM) Kernel: Depends on container host Compiler: gcc 14.2.1 20240912 (Red Hat 14.2.1-3) RHEL9 (ARM) Kernel: Depends on container host Compiler: gcc 11.5.0 20240719 (Red Hat 11.5.0-2) Fedora 41 (ARM Clang) Kernel: Depends on container host Compiler: clang 19.1.5 (Fedora 19.1.5-1.fc41) Ubuntu 20.04 (ARM) Kernel: Depends on container host Compiler: gcc (Ubuntu 9.4.0-1ubuntu1~20.04.2) 9.4.0 Fedora 40 (ARM) Kernel: Depends on container host Compiler: gcc 14.2.1 20240912 (Red Hat 14.2.1-3) Ubuntu 24.04 (ARM) Kernel: Depends on container host Compiler: gcc (Ubuntu 13.3.0-6ubuntu2~24.04) 13.3.0 Ubuntu 22.04 (ARM) Kernel: Depends on container host Compiler: gcc (Ubuntu 11.4.0-1ubuntu1~22.04) 11.4.0 Debian 12 (arm) Kernel: Depends on container host Compiler: gcc (Debian 12.2.0-14) 12.2.0 Ubuntu 20.04 ARM SVE Kernel: Depends on container host Compiler: gcc (Ubuntu 10.5.0-1ubuntu1~20.04) 10.5.0 To view detailed results, visit: https://lab.dpdk.org/results/dashboard/patchsets/32603/ UNH-IOL DPDK Community Lab To manage your email subscriptions, visit: https://lab.dpdk.org/results/dashboard/preferences/subscriptions/