From mboxrd@z Thu Jan 1 00:00:00 1970 Return-Path: Received: from mails.dpdk.org (mails.dpdk.org [217.70.189.124]) by inbox.dpdk.org (Postfix) with ESMTP id E3C134625E for ; Tue, 18 Feb 2025 21:03:12 +0100 (CET) Received: from mails.dpdk.org (localhost [127.0.0.1]) by mails.dpdk.org (Postfix) with ESMTP id DD4F9402C4; Tue, 18 Feb 2025 21:03:12 +0100 (CET) Received: from mail-pl1-f227.google.com (mail-pl1-f227.google.com [209.85.214.227]) by mails.dpdk.org (Postfix) with ESMTP id DA53440264 for ; Tue, 18 Feb 2025 21:03:11 +0100 (CET) Received: by mail-pl1-f227.google.com with SMTP id d9443c01a7336-22113560c57so62019465ad.2 for ; Tue, 18 Feb 2025 12:03:11 -0800 (PST) DKIM-Signature: v=1; a=rsa-sha256; c=relaxed/relaxed; d=iol.unh.edu; s=unh-iol; t=1739908991; x=1740513791; darn=dpdk.org; h=references:in-reply-to:cc:to:from:subject:message-id:date:from:to :cc:subject:date:message-id:reply-to; bh=NGaGwWRgLiyQCWetkrgUtx9u8/UJF5KCOQiJc9GzlFg=; b=eV/TBmTHGLOhv5P3ySiiu52XB8WEYHkjHwmlMKMtY+YEK2UvFJ/1EuxGQnz/skPdeL zHKwJ0kkRYmNa3/lHH8IK+//ZDVdPuem5h8uavuwShXxkbHP2ykSrOKCVpiWf0G7XeYF UmYgB4++NwG8P7GDB1QdiqNXbDYByGCw65wtg= X-Google-DKIM-Signature: v=1; a=rsa-sha256; c=relaxed/relaxed; d=1e100.net; s=20230601; t=1739908991; x=1740513791; h=references:in-reply-to:cc:to:from:subject:message-id:date :x-gm-message-state:from:to:cc:subject:date:message-id:reply-to; bh=NGaGwWRgLiyQCWetkrgUtx9u8/UJF5KCOQiJc9GzlFg=; b=Bmbd5CoFapuMrq/f98vofrqNp97oEOhakyucrfWKDXf/PkGDVlaj64aHwGro+xj4Zv rO6QcjRRx5iXCOFyVk4sRmoWfMrDRaxQHawyjUkMc2HJwUFhQXJNGC5GuA49eUE2+Ixy XoPruNqwUx801iJIEGHdXbxaMaeD+c0GPYI5CzDY8rHL5VgQ4ng9uZXK052wgPHQwn7F djyBfgkIyZBDNEVuIPqqnAMcFlRNDExet4bqvi5A4UKFM1EfnLholb2LXkpcwwEFVLEN r87y2HK9viqdmRLkQGJtlXc+kEDggI46Xx3F9v0joKodH68Kkk1aA1oFTYvOiXaBE/WR Q8rA== X-Gm-Message-State: AOJu0YygAdlcnzniXiR45lhk+RlK5Gd+pkmc/5+tpht/fawZOpkSQSSU pU/sQA12piXXlaPm0DHh25l9OWzlDJ6u33TVsfc/TIp3PwJblQrrk0l92efX1nPYfohPwTCqb3p Mz6mV/yWBc4VBVrNgp6p2Qz5zpFXM2+LtJqee3QCZ X-Gm-Gg: ASbGncvNOdZxpE7V/WzXfkfbsqflccYNXLhCZV6uPXysF+YJGrQ69yChtKF4WeMSjOs /x/CWPvNK+BJ1bNe/IE0fK5UUAV8nfxFu2PMrGBl7eAReS/b/dILWnF+CQ6CVHLXprougwYm733 eVQMJ2CjTpAUtNc7AXhwL/shzNexXndq77Iy+AW5rOK5zkO1xSoLWvNnGPqNZm+uJN1W6sl7Izq UCk3J0nD4w/s3wYqp6xF7R1CMB+mWGLdLqxxSGJq0efkCviCxxeF/bIrYQMoPPlcv/t6+DN9f3r 58sD3vD8P+CuOlKxtpJ+vSJ3f/ZE8A== X-Google-Smtp-Source: AGHT+IEbP1I36JBp3YW/rMEHGBkZJ30UhBNGJQ5zcoiuqA2CmFwYbYTz6BXGkzAzDZ7W4S/mD91VuG8xlMQ8 X-Received: by 2002:a05:6a20:7285:b0:1e1:cd9c:3775 with SMTP id adf61e73a8af0-1ee8cb493a8mr26820981637.12.1739908991012; Tue, 18 Feb 2025 12:03:11 -0800 (PST) Received: from postal.iol.unh.edu (postal.iol.unh.edu. [132.177.123.84]) by smtp-relay.gmail.com with ESMTPS id 41be03b00d2f7-ae177605141sm75872a12.2.2025.02.18.12.03.10 (version=TLS1_2 cipher=ECDHE-ECDSA-AES128-GCM-SHA256 bits=128/128); Tue, 18 Feb 2025 12:03:11 -0800 (PST) X-Relaying-Domain: iol.unh.edu Date: Tue, 18 Feb 2025 12:03:11 -0800 (PST) Message-ID: <67b4e77f.050a0220.eb5d1.3294SMTPIN_ADDED_MISSING@mx.google.com> Received: from [172.21.0.6] (unknown [172.18.0.240]) by postal.iol.unh.edu (Postfix) with ESMTP id 2858A6052471; Tue, 18 Feb 2025 15:03:10 -0500 (EST) Subject: |SUCCESS| pw151584 [PATCH] ethdev: fix get_reg_info From: dpdklab@iol.unh.edu To: Test Report Cc: dpdk-test-reports@iol.unh.edu In-Reply-To: <20250218115828.2107335-1-thierry.herbelot@6wind.com> References: <20250218115828.2107335-1-thierry.herbelot@6wind.com> Content-Type: text/plain X-BeenThere: test-report@dpdk.org X-Mailman-Version: 2.1.29 Precedence: list List-Id: automatic DPDK test reports List-Unsubscribe: , List-Archive: List-Post: List-Help: List-Subscribe: , Errors-To: test-report-bounces@dpdk.org Test-Label: iol-unit-arm64-testing Test-Status: SUCCESS http://dpdk.org/patch/151584 _Testing PASS_ Submitter: Thierry Herbelot Date: Tuesday, February 18 2025 11:58:28 DPDK git baseline: Repo:dpdk Branch: master CommitID:968f7b6d7b6a7e60e6e551db430c4eecaccbbfd2 151584 --> testing pass Upstream job id: Generic-Unit-Test-DPDK#315911 Test environment and result as below: +-----------------------------+----------------+---------------------------+------------------------------+--------------+ | Environment | dpdk_unit_test | cryptodev_sw_zuc_autotest | cryptodev_sw_snow3g_autotest | lpm_autotest | +=============================+================+===========================+==============================+==============+ | 32-bit Ubuntu 22.04.4 (ARM) | PASS | SKIPPED | SKIPPED | SKIPPED | +-----------------------------+----------------+---------------------------+------------------------------+--------------+ | CentOS Stream 10 (ARM) | PASS | SKIPPED | SKIPPED | SKIPPED | +-----------------------------+----------------+---------------------------+------------------------------+--------------+ | Fedora 40 (ARM Clang) | PASS | SKIPPED | SKIPPED | SKIPPED | +-----------------------------+----------------+---------------------------+------------------------------+--------------+ | CentOS Stream 9 (ARM) | PASS | SKIPPED | SKIPPED | SKIPPED | +-----------------------------+----------------+---------------------------+------------------------------+--------------+ | Debian 11 (Buster) (ARM) | PASS | SKIPPED | SKIPPED | SKIPPED | +-----------------------------+----------------+---------------------------+------------------------------+--------------+ | Fedora 41 (ARM) | PASS | SKIPPED | SKIPPED | SKIPPED | +-----------------------------+----------------+---------------------------+------------------------------+--------------+ | RHEL9 (ARM) | PASS | SKIPPED | SKIPPED | SKIPPED | +-----------------------------+----------------+---------------------------+------------------------------+--------------+ | Fedora 41 (ARM Clang) | PASS | SKIPPED | SKIPPED | SKIPPED | +-----------------------------+----------------+---------------------------+------------------------------+--------------+ | Ubuntu 20.04 (ARM) | PASS | SKIPPED | SKIPPED | SKIPPED | +-----------------------------+----------------+---------------------------+------------------------------+--------------+ | Fedora 40 (ARM) | PASS | SKIPPED | SKIPPED | SKIPPED | +-----------------------------+----------------+---------------------------+------------------------------+--------------+ | Ubuntu 24.04 (ARM) | PASS | SKIPPED | SKIPPED | SKIPPED | +-----------------------------+----------------+---------------------------+------------------------------+--------------+ | Ubuntu 22.04 (ARM) | PASS | SKIPPED | SKIPPED | SKIPPED | +-----------------------------+----------------+---------------------------+------------------------------+--------------+ | Debian 12 (arm) | PASS | PASS | PASS | SKIPPED | +-----------------------------+----------------+---------------------------+------------------------------+--------------+ | Ubuntu 20.04 ARM SVE | SKIPPED | SKIPPED | SKIPPED | PASS | +-----------------------------+----------------+---------------------------+------------------------------+--------------+ 32-bit Ubuntu 22.04.4 (ARM) Kernel: 5.15.83+ aarch64 Compiler: gcc (Ubuntu 11.4.0-1ubuntu1~22.04) 11.4.0 CentOS Stream 10 (ARM) Kernel: Depends on container host Compiler: gcc 14.2.1 20241104 (Red Hat 14.2.1-6) Fedora 40 (ARM Clang) Kernel: Depends on container host Compiler: clang 18.1.8 (Fedora 18.1.8-1.fc40) CentOS Stream 9 (ARM) Kernel: Depends on container host Compiler: gcc 11.5.0 20240719 (Red Hat 11.5.0-2) Debian 11 (Buster) (ARM) Kernel: Depends on container host Compiler: gcc (Debian 10.2.1-6) 10.2.1 20210110 Fedora 41 (ARM) Kernel: Depends on container host Compiler: gcc 14.2.1 20240912 (Red Hat 14.2.1-3) RHEL9 (ARM) Kernel: Depends on container host Compiler: gcc 11.5.0 20240719 (Red Hat 11.5.0-2) Fedora 41 (ARM Clang) Kernel: Depends on container host Compiler: clang 19.1.5 (Fedora 19.1.5-1.fc41) Ubuntu 20.04 (ARM) Kernel: Depends on container host Compiler: gcc (Ubuntu 9.4.0-1ubuntu1~20.04.2) 9.4.0 Fedora 40 (ARM) Kernel: Depends on container host Compiler: gcc 14.2.1 20240912 (Red Hat 14.2.1-3) Ubuntu 24.04 (ARM) Kernel: Depends on container host Compiler: gcc (Ubuntu 13.3.0-6ubuntu2~24.04) 13.3.0 Ubuntu 22.04 (ARM) Kernel: Depends on container host Compiler: gcc (Ubuntu 11.4.0-1ubuntu1~22.04) 11.4.0 Debian 12 (arm) Kernel: Depends on container host Compiler: gcc (Debian 12.2.0-14) 12.2.0 Ubuntu 20.04 ARM SVE Kernel: Depends on container host Compiler: gcc (Ubuntu 10.5.0-1ubuntu1~20.04) 10.5.0 To view detailed results, visit: https://lab.dpdk.org/results/dashboard/patchsets/32603/ UNH-IOL DPDK Community Lab To manage your email subscriptions, visit: https://lab.dpdk.org/results/dashboard/preferences/subscriptions/