From mboxrd@z Thu Jan 1 00:00:00 1970 Return-Path: Received: from mails.dpdk.org (mails.dpdk.org [217.70.189.124]) by inbox.dpdk.org (Postfix) with ESMTP id 5A9514620A for ; Tue, 18 Feb 2025 21:04:43 +0100 (CET) Received: from mails.dpdk.org (localhost [127.0.0.1]) by mails.dpdk.org (Postfix) with ESMTP id 56594402A0; Tue, 18 Feb 2025 21:04:43 +0100 (CET) Received: from mail-qt1-f225.google.com (mail-qt1-f225.google.com [209.85.160.225]) by mails.dpdk.org (Postfix) with ESMTP id BB1BB40264 for ; Tue, 18 Feb 2025 21:04:41 +0100 (CET) Received: by mail-qt1-f225.google.com with SMTP id d75a77b69052e-471b5372730so75504021cf.1 for ; Tue, 18 Feb 2025 12:04:41 -0800 (PST) DKIM-Signature: v=1; a=rsa-sha256; c=relaxed/relaxed; d=iol.unh.edu; s=unh-iol; t=1739909081; x=1740513881; darn=dpdk.org; h=references:in-reply-to:cc:to:from:subject:message-id:date:from:to :cc:subject:date:message-id:reply-to; bh=zW7a+WnObC4hzfMmWxYnxNBqK4gkHB8v+mjlHznxpK8=; b=IESdUfRM/YwiAQni4f1/oOxbCboyDBAn3OYa+crsuLq0YT131Fhet+qlHKKccUDbGN yS/tFv1t3tedC5pAFqMWiGp875G2emG/oDfwn37E2zndEi5DuX1478tKC+Zva5JkTo6E d59I1WQ5XQPi+YSxhE1WQ0VFn5fyoi/4oWyhY= X-Google-DKIM-Signature: v=1; a=rsa-sha256; c=relaxed/relaxed; d=1e100.net; s=20230601; t=1739909081; x=1740513881; h=references:in-reply-to:cc:to:from:subject:message-id:date :x-gm-message-state:from:to:cc:subject:date:message-id:reply-to; bh=zW7a+WnObC4hzfMmWxYnxNBqK4gkHB8v+mjlHznxpK8=; b=fQDMmvDPP+jF/REwkFMJH1pa/gXFnwNSz9JDJrQgkBLmhGmOMBJkztKhssn/VXL1sg ICX36fKxl3z1BQhOPKiwSlHqljRzYdotVLBFCqhQrqckpuNoaK0qd8OkBc0LB3y3ZFpd JMxPVdsfm2fvEnan0LieyLgAf2GhhVl1EMEcWryV3BYBMJmnwGJZAFtYuh88ozCJxT2w wjpu/aB5xdKg/HNb1GYn+Ck9oRTCxNQiKgIegx9xdQxiAczAnVVDTdjEXa+f+4lUqj04 Iu95V1wLLZ5HRc4zDmpKDGZRAM+6zVIUX1OME9QXMgLw7p9WBDWTwu+v6qOgl3QcUizB duEQ== X-Gm-Message-State: AOJu0YxYABjkTWm34ORrPABPOEJvl7Y4CUKLRzKz6Hg7svQD0j9MPLMu kq7OEBLK97gNTmWDOTkbZ6gIld+Abh8ZcCRRjMM7fvDB2cZMZLLKXJYuSAEC/Ms2P4pIHptabyv imx6dJr2HV6GeuOlHxYS5oFKaPgetTskER3a14ehybvpnLaAL7zCVT88a X-Gm-Gg: ASbGncuoOjyi8L3BrSUzzgngmmsnAlakKA1KLh/w3Pn+lNWtGf8qmcE0htEAFR3XFMN +Chyz0cNPspXbiEF4jHmcqno/EzqAe/K55dUbkR7sgC8sRFeZhkxf9RCyqdiKTz/vevYDfra1yV w+lc1dzy7iLHi7w/GGQHfEA12XHD9o9sev7Lpn5bQcKDdHaljtN+TM2W0/nLK7lvMSi3Mj8eMBb skQOJ4gfehUM3r+AmDsps4XKOgacVg8cVG2bl6n2z6WPDqUF9lnm+vlukaQVllVQGRbfBJBeha0 QvR6emsDlFSMyPykHmQFGNkybPiGYeAJmXYkklUdkg== X-Google-Smtp-Source: AGHT+IF7h1Y1jwuh6wGS8xwwAp6gw8j2ZMiELpmBM2rGc/5FKR1xs1RH3hcHqODYAWdnUAZ5Xem3hjlradMI X-Received: by 2002:ac8:7f95:0:b0:471:826e:3efa with SMTP id d75a77b69052e-471dbea3ba4mr209764751cf.49.1739909080958; Tue, 18 Feb 2025 12:04:40 -0800 (PST) Received: from postal.iol.unh.edu (postal.iol.unh.edu. [2606:4100:3880:1234::84]) by smtp-relay.gmail.com with ESMTPS id d75a77b69052e-471f5c673c3sm2134311cf.14.2025.02.18.12.04.40 (version=TLS1_2 cipher=ECDHE-ECDSA-AES128-GCM-SHA256 bits=128/128); Tue, 18 Feb 2025 12:04:40 -0800 (PST) X-Relaying-Domain: iol.unh.edu Date: Tue, 18 Feb 2025 12:04:40 -0800 (PST) Message-ID: <67b4e7d8.c80a0220.5b90a.a005SMTPIN_ADDED_MISSING@mx.google.com> Received: from [172.21.0.6] (unknown [172.18.0.240]) by postal.iol.unh.edu (Postfix) with ESMTP id 90D776052471; Tue, 18 Feb 2025 15:04:40 -0500 (EST) Subject: |SUCCESS| pw151584 [PATCH] ethdev: fix get_reg_info From: dpdklab@iol.unh.edu To: Test Report Cc: dpdk-test-reports@iol.unh.edu In-Reply-To: <20250218115828.2107335-1-thierry.herbelot@6wind.com> References: <20250218115828.2107335-1-thierry.herbelot@6wind.com> Content-Type: text/plain X-BeenThere: test-report@dpdk.org X-Mailman-Version: 2.1.29 Precedence: list List-Id: automatic DPDK test reports List-Unsubscribe: , List-Archive: List-Post: List-Help: List-Subscribe: , Errors-To: test-report-bounces@dpdk.org Test-Label: iol-unit-arm64-testing Test-Status: SUCCESS http://dpdk.org/patch/151584 _Testing PASS_ Submitter: Thierry Herbelot Date: Tuesday, February 18 2025 11:58:28 DPDK git baseline: Repo:dpdk Branch: master CommitID:968f7b6d7b6a7e60e6e551db430c4eecaccbbfd2 151584 --> testing pass Upstream job id: Generic-Unit-Test-DPDK#315905 Test environment and result as below: +-----------------------------+----------------+---------------------------+------------------------------+--------------+ | Environment | dpdk_unit_test | cryptodev_sw_zuc_autotest | cryptodev_sw_snow3g_autotest | lpm_autotest | +=============================+================+===========================+==============================+==============+ | 32-bit Ubuntu 22.04.4 (ARM) | PASS | SKIPPED | SKIPPED | SKIPPED | +-----------------------------+----------------+---------------------------+------------------------------+--------------+ | CentOS Stream 10 (ARM) | PASS | SKIPPED | SKIPPED | SKIPPED | +-----------------------------+----------------+---------------------------+------------------------------+--------------+ | Fedora 40 (ARM Clang) | PASS | SKIPPED | SKIPPED | SKIPPED | +-----------------------------+----------------+---------------------------+------------------------------+--------------+ | CentOS Stream 9 (ARM) | PASS | SKIPPED | SKIPPED | SKIPPED | +-----------------------------+----------------+---------------------------+------------------------------+--------------+ | Debian 11 (Buster) (ARM) | PASS | SKIPPED | SKIPPED | SKIPPED | +-----------------------------+----------------+---------------------------+------------------------------+--------------+ | Fedora 41 (ARM) | PASS | SKIPPED | SKIPPED | SKIPPED | +-----------------------------+----------------+---------------------------+------------------------------+--------------+ | RHEL9 (ARM) | PASS | SKIPPED | SKIPPED | SKIPPED | +-----------------------------+----------------+---------------------------+------------------------------+--------------+ | Fedora 41 (ARM Clang) | PASS | SKIPPED | SKIPPED | SKIPPED | +-----------------------------+----------------+---------------------------+------------------------------+--------------+ | Ubuntu 20.04 (ARM) | PASS | SKIPPED | SKIPPED | SKIPPED | +-----------------------------+----------------+---------------------------+------------------------------+--------------+ | Fedora 40 (ARM) | PASS | SKIPPED | SKIPPED | SKIPPED | +-----------------------------+----------------+---------------------------+------------------------------+--------------+ | Ubuntu 24.04 (ARM) | PASS | SKIPPED | SKIPPED | SKIPPED | +-----------------------------+----------------+---------------------------+------------------------------+--------------+ | Ubuntu 22.04 (ARM) | PASS | SKIPPED | SKIPPED | SKIPPED | +-----------------------------+----------------+---------------------------+------------------------------+--------------+ | Debian 12 (arm) | PASS | PASS | PASS | SKIPPED | +-----------------------------+----------------+---------------------------+------------------------------+--------------+ | Ubuntu 20.04 ARM SVE | SKIPPED | SKIPPED | SKIPPED | PASS | +-----------------------------+----------------+---------------------------+------------------------------+--------------+ 32-bit Ubuntu 22.04.4 (ARM) Kernel: 5.15.83+ aarch64 Compiler: gcc (Ubuntu 11.4.0-1ubuntu1~22.04) 11.4.0 CentOS Stream 10 (ARM) Kernel: Depends on container host Compiler: gcc 14.2.1 20241104 (Red Hat 14.2.1-6) Fedora 40 (ARM Clang) Kernel: Depends on container host Compiler: clang 18.1.8 (Fedora 18.1.8-1.fc40) CentOS Stream 9 (ARM) Kernel: Depends on container host Compiler: gcc 11.5.0 20240719 (Red Hat 11.5.0-2) Debian 11 (Buster) (ARM) Kernel: Depends on container host Compiler: gcc (Debian 10.2.1-6) 10.2.1 20210110 Fedora 41 (ARM) Kernel: Depends on container host Compiler: gcc 14.2.1 20240912 (Red Hat 14.2.1-3) RHEL9 (ARM) Kernel: Depends on container host Compiler: gcc 11.5.0 20240719 (Red Hat 11.5.0-2) Fedora 41 (ARM Clang) Kernel: Depends on container host Compiler: clang 19.1.5 (Fedora 19.1.5-1.fc41) Ubuntu 20.04 (ARM) Kernel: Depends on container host Compiler: gcc (Ubuntu 9.4.0-1ubuntu1~20.04.2) 9.4.0 Fedora 40 (ARM) Kernel: Depends on container host Compiler: gcc 14.2.1 20240912 (Red Hat 14.2.1-3) Ubuntu 24.04 (ARM) Kernel: Depends on container host Compiler: gcc (Ubuntu 13.3.0-6ubuntu2~24.04) 13.3.0 Ubuntu 22.04 (ARM) Kernel: Depends on container host Compiler: gcc (Ubuntu 11.4.0-1ubuntu1~22.04) 11.4.0 Debian 12 (arm) Kernel: Depends on container host Compiler: gcc (Debian 12.2.0-14) 12.2.0 Ubuntu 20.04 ARM SVE Kernel: Depends on container host Compiler: gcc (Ubuntu 10.5.0-1ubuntu1~20.04) 10.5.0 To view detailed results, visit: https://lab.dpdk.org/results/dashboard/patchsets/32603/ UNH-IOL DPDK Community Lab To manage your email subscriptions, visit: https://lab.dpdk.org/results/dashboard/preferences/subscriptions/