From mboxrd@z Thu Jan 1 00:00:00 1970 Return-Path: Received: from mails.dpdk.org (mails.dpdk.org [217.70.189.124]) by inbox.dpdk.org (Postfix) with ESMTP id 3FA734620A for ; Tue, 18 Feb 2025 21:12:17 +0100 (CET) Received: from mails.dpdk.org (localhost [127.0.0.1]) by mails.dpdk.org (Postfix) with ESMTP id 1812B402A0; Tue, 18 Feb 2025 21:12:17 +0100 (CET) Received: from mail-oa1-f98.google.com (mail-oa1-f98.google.com [209.85.160.98]) by mails.dpdk.org (Postfix) with ESMTP id 3B80340264 for ; Tue, 18 Feb 2025 21:12:16 +0100 (CET) Received: by mail-oa1-f98.google.com with SMTP id 586e51a60fabf-2bc5212b2easo2457659fac.1 for ; Tue, 18 Feb 2025 12:12:16 -0800 (PST) DKIM-Signature: v=1; a=rsa-sha256; c=relaxed/relaxed; d=iol.unh.edu; s=unh-iol; t=1739909535; x=1740514335; darn=dpdk.org; h=references:in-reply-to:cc:to:from:subject:message-id:date:from:to :cc:subject:date:message-id:reply-to; bh=sbca3Rv5me7O2QAUqZhfd969NIUQoVLR8xTYY/t8ERg=; b=bHYyVCx8TU27dd+vL/WLTIggPigK64NQe3Jlr8/GOo6H3Ikm2c+2qhUXP1xJl2Ydpd 88+w4eqPK55AoJizb23E75KX6GCqdBkAE+CdSymQXKBf8GbjjQ8xLvKXTgf7Ql6yfOR1 UH9qJWa1uXE2b4iut7Kv5GJqOWthKDrZZ43sE= X-Google-DKIM-Signature: v=1; a=rsa-sha256; c=relaxed/relaxed; d=1e100.net; s=20230601; t=1739909535; x=1740514335; h=references:in-reply-to:cc:to:from:subject:message-id:date :x-gm-message-state:from:to:cc:subject:date:message-id:reply-to; bh=sbca3Rv5me7O2QAUqZhfd969NIUQoVLR8xTYY/t8ERg=; b=cWDsbEErjP505GqHPIwMCgy6Q/aLHV1wvEWsm6DfYAUxHNcFhWGLkVWNLj25WeOKXP j0oRRvVTfb60o1QibKo03Po+I3NKQ/6lCsiknXoUgTmoPn9rQOOQQjLWmx4jM2tFDcSt a7Sd7EAL43rmhVMa1vAEcGl+F5ss+WdyzGooByPLZnyBgvwhsJyUCV+t7yi/AiIQgZ3w gdgar5yoFJUnBUq9wKVwz/bgdR6f4dKIIBliRvMiWyrJDJh4tl+kBsBtEzOTYMutK5ov 9XPRlngLHN6TFdmt8JCU27gyCVTCCKv9NyhhlzA1WiiQ8MnAVdjfntr0Bp2NtzWbp+Nm VNiw== X-Gm-Message-State: AOJu0Yyy5r5crbt6L3giLhEIIk8evEcQhdN4nL0F2/AjnaUVxqf5EgcU ZcvoS7D1xk2d9KN75B6/ucphwkKF4A7oFFLrbJsdhrxNqDhBNufS+gCpICYmQcNApfk4sBVGgL7 bGi+PA+SDu5CeOyuVpLOnhUfBdi4EyICjK04mpFmF X-Gm-Gg: ASbGnctCnrv07DyHtaRCx2kO3+yBXp++BmVeu8jsQCQa7Q7FoQYp1aBT/dJkejL0L5k iJwkOrQ/wYVVY46Wk1YekOs8Ktpny8ypQMoMFyVoOsQenW/A89k4QQOf7ChGkMQUlY4/4TyKeUb +VXM1v3OFO2XEnPBE7Pb5Fwwr1bsG7gH+/f3KwcWvJFP/hFehCQrHoD1Iip/rKrbUjfQnJHWkVd eZDg9lAtdpr1R6WYE3XITN57YjlMVBvZEtHMLwUDcKHAFZhuYShvn/E7Vnopqt4LcS0GR90I6vI 2BLKWMJjyJYEX1b5stcB+zkJXdO85Q== X-Google-Smtp-Source: AGHT+IFaTx5yd/oj9yRNouB/ATmvfGdtn8AzmVlx9zoKmlNJe3aDWHi0d2a++8zlY4DKe7BZ123Isf7XTQ0x X-Received: by 2002:a05:6870:e0d2:b0:2a7:d345:c0bb with SMTP id 586e51a60fabf-2bd103fc83fmr869036fac.27.1739909535336; Tue, 18 Feb 2025 12:12:15 -0800 (PST) Received: from postal.iol.unh.edu (postal.iol.unh.edu. [132.177.123.84]) by smtp-relay.gmail.com with ESMTPS id 586e51a60fabf-2b9548202fasm669319fac.5.2025.02.18.12.12.15 (version=TLS1_2 cipher=ECDHE-ECDSA-AES128-GCM-SHA256 bits=128/128); Tue, 18 Feb 2025 12:12:15 -0800 (PST) X-Relaying-Domain: iol.unh.edu Date: Tue, 18 Feb 2025 12:12:15 -0800 (PST) Message-ID: <67b4e99f.050a0220.39e2f6.f708SMTPIN_ADDED_MISSING@mx.google.com> Received: from [172.21.0.5] (unknown [172.18.0.240]) by postal.iol.unh.edu (Postfix) with ESMTP id C92E66052471; Tue, 18 Feb 2025 15:12:14 -0500 (EST) Subject: |SUCCESS| pw151584 [PATCH] ethdev: fix get_reg_info From: dpdklab@iol.unh.edu To: Test Report Cc: dpdk-test-reports@iol.unh.edu In-Reply-To: <20250218115828.2107335-1-thierry.herbelot@6wind.com> References: <20250218115828.2107335-1-thierry.herbelot@6wind.com> Content-Type: text/plain X-BeenThere: test-report@dpdk.org X-Mailman-Version: 2.1.29 Precedence: list List-Id: automatic DPDK test reports List-Unsubscribe: , List-Archive: List-Post: List-Help: List-Subscribe: , Errors-To: test-report-bounces@dpdk.org Test-Label: iol-abi-testing Test-Status: SUCCESS http://dpdk.org/patch/151584 _Testing PASS_ Submitter: Thierry Herbelot Date: Tuesday, February 18 2025 11:58:28 DPDK git baseline: Repo:dpdk Branch: master CommitID:968f7b6d7b6a7e60e6e551db430c4eecaccbbfd2 151584 --> testing pass Upstream job id: Generic-DPDK-Compile-ABI#116606 Test environment and result as below: +-------------------+----------+ | Environment | abi_test | +===================+==========+ | CentOS Stream 9 | PASS | +-------------------+----------+ | CentOS Stream 10 | PASS | +-------------------+----------+ | Debian Bullseye | PASS | +-------------------+----------+ | Debian 12 | PASS | +-------------------+----------+ | Fedora 40 (Clang) | PASS | +-------------------+----------+ | Fedora 40 | PASS | +-------------------+----------+ | Fedora 41 (Clang) | PASS | +-------------------+----------+ | Fedora 41 | PASS | +-------------------+----------+ | RHEL8 | PASS | +-------------------+----------+ | RHEL9 | PASS | +-------------------+----------+ | Ubuntu 22.04 | PASS | +-------------------+----------+ | Ubuntu 24.04 | PASS | +-------------------+----------+ | openSUSE Leap 15 | PASS | +-------------------+----------+ CentOS Stream 9 Kernel: Depends on container host Compiler: gcc 11.5.0 20240719 (Red Hat 11.5.0-2) CentOS Stream 10 Kernel: Depends on container host Compiler: gcc 14.2.1 20241104 (Red Hat 14.2.1-6) Debian Bullseye Kernel: Depends on container host Compiler: gcc (Debian 10.2.1-6) 10.2.1 20210110 Debian 12 Kernel: Depends on container host Compiler: gcc (Debian 12.2.0-14) 12.2.0 Fedora 40 (Clang) Kernel: Depends on container host Compiler: clang 18.1.8 (Fedora 18.1.8-1.fc40) Fedora 40 Kernel: Depends on container host Compiler: gcc 14.2.1 20240912 (Red Hat 14.2.1-3) Fedora 41 (Clang) Kernel: Depends on container host Compiler: clang 19.1.5 (Fedora 19.1.5-1.fc41) Fedora 41 Kernel: Depends on container host Compiler: gcc 14.2.1 20240912 (Red Hat 14.2.1-3) RHEL8 Kernel: Depends on container host Compiler: gcc 8.5.0 20210514 (Red Hat 8.5.0-22) RHEL9 Kernel: Depends on container host Compiler: gcc 11.5.0 20240719 (Red Hat 11.5.0-2) Ubuntu 22.04 Kernel: Depends on container host Compiler: gcc (Ubuntu 11.4.0-1ubuntu1~22.04) 11.4.0 Ubuntu 24.04 Kernel: Depends on container host Compiler: gcc (Ubuntu 13.3.0-6ubuntu2~24.04) 13.3.0 openSUSE Leap 15 Kernel: Depends on container host Compiler: gcc (SUSE Linux) 7.5.0 To view detailed results, visit: https://lab.dpdk.org/results/dashboard/patchsets/32603/ UNH-IOL DPDK Community Lab To manage your email subscriptions, visit: https://lab.dpdk.org/results/dashboard/preferences/subscriptions/