automatic DPDK test reports
 help / color / mirror / Atom feed
* |PENDING| [GIT MASTER] c0ee1640d89bf118f26e844a03e3182fb0b211c4
@ 2025-02-18 20:35 dpdklab
  0 siblings, 0 replies; 3+ messages in thread
From: dpdklab @ 2025-02-18 20:35 UTC (permalink / raw)
  To: Test Report; +Cc: dpdk-test-reports

_Testing pending_

Branch: dpdk-next-eventdev

c0ee1640d89bf118f26e844a03e3182fb0b211c4 --> testing pending

Upstream job id: Generic-Unit-Test-DPDK#315951

Test environment and result as below:

+-------------------+----------------+
|    Environment    | dpdk_unit_test |
+===================+================+
| CentOS Stream 9   | PASS           |
+-------------------+----------------+
| Debian Bullseye   | PEND           |
+-------------------+----------------+
| Fedora 40 (Clang) | PEND           |
+-------------------+----------------+
| Fedora 41         | PEND           |
+-------------------+----------------+
| Fedora 40         | PEND           |
+-------------------+----------------+
| Debian 12         | PEND           |
+-------------------+----------------+
| CentOS Stream 10  | PEND           |
+-------------------+----------------+
| Fedora 41 (Clang) | PEND           |
+-------------------+----------------+
| RHEL8             | PEND           |
+-------------------+----------------+
| RHEL9             | PEND           |
+-------------------+----------------+
| Ubuntu 20.04      | PEND           |
+-------------------+----------------+
| Ubuntu 24.04      | PEND           |
+-------------------+----------------+
| Ubuntu 22.04      | PEND           |
+-------------------+----------------+


CentOS Stream 9
	Kernel: Depends on container host
	Compiler: gcc 11.5.0 20240719 (Red Hat 11.5.0-2)

Debian Bullseye
	Kernel: Depends on container host
	Compiler: gcc (Debian 10.2.1-6) 10.2.1 20210110

Fedora 40 (Clang)
	Kernel: Depends on container host
	Compiler: clang 18.1.8 (Fedora 18.1.8-1.fc40)

Fedora 41
	Kernel: Depends on container host
	Compiler: gcc 14.2.1 20240912 (Red Hat 14.2.1-3)

Fedora 40
	Kernel: Depends on container host
	Compiler: gcc 14.2.1 20240912 (Red Hat 14.2.1-3)

Debian 12
	Kernel: Depends on container host
	Compiler: gcc (Debian 12.2.0-14) 12.2.0

CentOS Stream 10
	Kernel: Depends on container host
	Compiler: gcc 14.2.1 20241104 (Red Hat 14.2.1-6)

Fedora 41 (Clang)
	Kernel: Depends on container host
	Compiler: clang 19.1.5 (Fedora 19.1.5-1.fc41)

RHEL8
	Kernel: Depends on container host
	Compiler: gcc 8.5.0 20210514 (Red Hat 8.5.0-22)

RHEL9
	Kernel: Depends on container host
	Compiler: gcc 11.5.0 20240719 (Red Hat 11.5.0-2)

Ubuntu 20.04
	Kernel: Depends on container host
	Compiler: gcc (Ubuntu 9.4.0-1ubuntu1~20.04.2) 9.4.0

Ubuntu 24.04
	Kernel: Depends on container host
	Compiler: gcc (Ubuntu 13.3.0-6ubuntu2~24.04) 13.3.0

Ubuntu 22.04
	Kernel: Depends on container host
	Compiler: gcc (Ubuntu 11.4.0-1ubuntu1~22.04) 11.4.0

To view detailed results, visit:
https://lab.dpdk.org/results/dashboard/tarballs/32614/

UNH-IOL DPDK Community Lab

To manage your email subscriptions, visit: 
https://lab.dpdk.org/results/dashboard/preferences/subscriptions/

^ permalink raw reply	[flat|nested] 3+ messages in thread

* |PENDING| [GIT MASTER] c0ee1640d89bf118f26e844a03e3182fb0b211c4
@ 2025-02-18 21:03 dpdklab
  0 siblings, 0 replies; 3+ messages in thread
From: dpdklab @ 2025-02-18 21:03 UTC (permalink / raw)
  To: Test Report; +Cc: dpdk-test-reports

_Testing pending_

Branch: dpdk-next-eventdev

c0ee1640d89bf118f26e844a03e3182fb0b211c4 --> testing pending

Upstream job id: Generic-DPDK-Compile-Meson#362701

Test environment and result as below:

+-------------------+--------------------+-------------------+
|    Environment    | dpdk_meson_compile | dpdk_compile_spdk |
+===================+====================+===================+
| CentOS Stream 9   | PEND               | PEND              |
+-------------------+--------------------+-------------------+
| CentOS Stream 10  | PASS               | SKIPPED           |
+-------------------+--------------------+-------------------+
| Debian Bullseye   | PEND               | PEND              |
+-------------------+--------------------+-------------------+
| Debian 12         | PEND               | PEND              |
+-------------------+--------------------+-------------------+
| Fedora 40 (Clang) | PEND               | PEND              |
+-------------------+--------------------+-------------------+


CentOS Stream 9
	Kernel: Depends on container host
	Compiler: gcc 11.5.0 20240719 (Red Hat 11.5.0-2)

CentOS Stream 10
	Kernel: Depends on container host
	Compiler: gcc 14.2.1 20241104 (Red Hat 14.2.1-6)

Debian Bullseye
	Kernel: Depends on container host
	Compiler: gcc (Debian 10.2.1-6) 10.2.1 20210110

Debian 12
	Kernel: Depends on container host
	Compiler: gcc (Debian 12.2.0-14) 12.2.0

Fedora 40 (Clang)
	Kernel: Depends on container host
	Compiler: clang 18.1.8 (Fedora 18.1.8-1.fc40)

To view detailed results, visit:
https://lab.dpdk.org/results/dashboard/tarballs/32614/

UNH-IOL DPDK Community Lab

To manage your email subscriptions, visit: 
https://lab.dpdk.org/results/dashboard/preferences/subscriptions/

^ permalink raw reply	[flat|nested] 3+ messages in thread

* |PENDING| [GIT MASTER] c0ee1640d89bf118f26e844a03e3182fb0b211c4
@ 2025-02-18 20:34 dpdklab
  0 siblings, 0 replies; 3+ messages in thread
From: dpdklab @ 2025-02-18 20:34 UTC (permalink / raw)
  To: Test Report; +Cc: dpdk-test-reports

_Testing pending_

Branch: dpdk-next-eventdev

c0ee1640d89bf118f26e844a03e3182fb0b211c4 --> testing pending

Upstream job id: Generic-Unit-Test-DPDK#315958

Test environment and result as below:

+--------------------------+----------------+
|       Environment        | dpdk_unit_test |
+==========================+================+
| Debian 12 (arm)          | PASS           |
+--------------------------+----------------+
| Debian 11 (Buster) (ARM) | PEND           |
+--------------------------+----------------+
| CentOS Stream 10 (ARM)   | PEND           |
+--------------------------+----------------+
| CentOS Stream 9 (ARM)    | PEND           |
+--------------------------+----------------+
| Fedora 40 (ARM)          | PEND           |
+--------------------------+----------------+
| Fedora 41 (ARM)          | PEND           |
+--------------------------+----------------+
| Fedora 40 (ARM Clang)    | PEND           |
+--------------------------+----------------+
| RHEL9 (ARM)              | PEND           |
+--------------------------+----------------+
| Fedora 41 (ARM Clang)    | PEND           |
+--------------------------+----------------+
| Ubuntu 24.04 (ARM)       | PEND           |
+--------------------------+----------------+
| Ubuntu 20.04 (ARM)       | PEND           |
+--------------------------+----------------+
| Ubuntu 22.04 (ARM)       | PEND           |
+--------------------------+----------------+


Debian 12 (arm)
	Kernel: Depends on container host
	Compiler: gcc (Debian 12.2.0-14) 12.2.0

Debian 11 (Buster) (ARM)
	Kernel: Depends on container host
	Compiler: gcc (Debian 10.2.1-6) 10.2.1 20210110

CentOS Stream 10 (ARM)
	Kernel: Depends on container host
	Compiler: gcc 14.2.1 20241104 (Red Hat 14.2.1-6)

CentOS Stream 9 (ARM)
	Kernel: Depends on container host
	Compiler: gcc 11.5.0 20240719 (Red Hat 11.5.0-2)

Fedora 40 (ARM)
	Kernel: Depends on container host
	Compiler: gcc 14.2.1 20240912 (Red Hat 14.2.1-3)

Fedora 41 (ARM)
	Kernel: Depends on container host
	Compiler: gcc 14.2.1 20240912 (Red Hat 14.2.1-3)

Fedora 40 (ARM Clang)
	Kernel: Depends on container host
	Compiler: clang 18.1.8 (Fedora 18.1.8-1.fc40)

RHEL9 (ARM)
	Kernel: Depends on container host
	Compiler: gcc 11.5.0 20240719 (Red Hat 11.5.0-2)

Fedora 41 (ARM Clang)
	Kernel: Depends on container host
	Compiler: clang 19.1.5 (Fedora 19.1.5-1.fc41)

Ubuntu 24.04 (ARM)
	Kernel: Depends on container host
	Compiler: gcc (Ubuntu 13.3.0-6ubuntu2~24.04) 13.3.0

Ubuntu 20.04 (ARM)
	Kernel: Depends on container host
	Compiler: gcc (Ubuntu 9.4.0-1ubuntu1~20.04.2) 9.4.0

Ubuntu 22.04 (ARM)
	Kernel: Depends on container host
	Compiler: gcc (Ubuntu 11.4.0-1ubuntu1~22.04) 11.4.0

To view detailed results, visit:
https://lab.dpdk.org/results/dashboard/tarballs/32614/

UNH-IOL DPDK Community Lab

To manage your email subscriptions, visit: 
https://lab.dpdk.org/results/dashboard/preferences/subscriptions/

^ permalink raw reply	[flat|nested] 3+ messages in thread

end of thread, other threads:[~2025-02-18 21:03 UTC | newest]

Thread overview: 3+ messages (download: mbox.gz / follow: Atom feed)
-- links below jump to the message on this page --
2025-02-18 20:35 |PENDING| [GIT MASTER] c0ee1640d89bf118f26e844a03e3182fb0b211c4 dpdklab
  -- strict thread matches above, loose matches on Subject: below --
2025-02-18 21:03 dpdklab
2025-02-18 20:34 dpdklab

This is a public inbox, see mirroring instructions
for how to clone and mirror all data and code used for this inbox;
as well as URLs for NNTP newsgroup(s).