From mboxrd@z Thu Jan 1 00:00:00 1970 Return-Path: Received: from mails.dpdk.org (mails.dpdk.org [217.70.189.124]) by inbox.dpdk.org (Postfix) with ESMTP id 79E274625D for ; Tue, 18 Feb 2025 21:37:14 +0100 (CET) Received: from mails.dpdk.org (localhost [127.0.0.1]) by mails.dpdk.org (Postfix) with ESMTP id 74387402A0; Tue, 18 Feb 2025 21:37:14 +0100 (CET) Received: from mail-il1-f226.google.com (mail-il1-f226.google.com [209.85.166.226]) by mails.dpdk.org (Postfix) with ESMTP id B84A040264 for ; Tue, 18 Feb 2025 21:37:12 +0100 (CET) Received: by mail-il1-f226.google.com with SMTP id e9e14a558f8ab-3cfce97a3d9so19563865ab.2 for ; Tue, 18 Feb 2025 12:37:12 -0800 (PST) DKIM-Signature: v=1; a=rsa-sha256; c=relaxed/relaxed; d=iol.unh.edu; s=unh-iol; t=1739911032; x=1740515832; darn=dpdk.org; h=references:in-reply-to:cc:to:from:subject:message-id:date:from:to :cc:subject:date:message-id:reply-to; bh=v5msKEAhGqM7jduv43uHsdV6lLKf9DIMl2rHmQNj1K0=; b=i1N3mTHhKIkPPYjowVV1MEmKOjubO3kPjE4W8u8N+RS6w1hhWMgbrg+aMQhoYSg49z bO3jSnLH4gs/OKmm5W8f/170IyC2ZtpL1VPIbqI3zOhwGLbcZ+Gp6SojiYXcPplYj7lJ 3OmlG7s7pnEZjh7FehLA9QKmvjtfbqg4SIoJI= X-Google-DKIM-Signature: v=1; a=rsa-sha256; c=relaxed/relaxed; d=1e100.net; s=20230601; t=1739911032; x=1740515832; h=references:in-reply-to:cc:to:from:subject:message-id:date :x-gm-message-state:from:to:cc:subject:date:message-id:reply-to; bh=v5msKEAhGqM7jduv43uHsdV6lLKf9DIMl2rHmQNj1K0=; b=KRd2TZyklpGFUzvmWCWBF/a/5zFRpcGCi1ro5uI2WpO0+7VD8l6TM+DJQjqSgakcwL 7nfRxndI0WBS+TJ9RXFGeHnCzAeYXArsmvXm6FAn3vn2O11/+vuhwd4UmkGg3xz9CVjw mVpKSQ/IspSkaFii+jFL5WbbRmX1TpAyiSfcpvfaYAsk6zw9BMcI1xz01uBJa+x6n0r1 nPhH5hKfCTK7GZliRdBaB31qut85ulVU9qaPR5Dg2ii35tTYiiVkPtsdNY1sJPTueWwh GFzSB5nOmkfITjvdGap0X8Kn70TkWx56N10DQTY+oojA7P5BXkHHknJFZ0LD3Z5xKLMN Bilg== X-Gm-Message-State: AOJu0YzpizwDtUeNYlvAo7y/XQ5XgErAPJY7Byufrlxg3pPL/ea4DRUp xD5xEW7lAcA9SYYoXXMwDb5MjFw9QlB4MKRCEWduMuHLGXTFZmu27o9ueGGJIJona/8QgJ4wU3p tE1PpF+wSRN7N74OaEKqsJWAVtifGL3/tBxoR05wARoNUY9uk18tp0xwz X-Gm-Gg: ASbGncvjTHgAH3U/1HAYxm2WlSVeeA95o/Qyg15q4qwaHbZyIoXXGyvVpndO9IM7n0G HZa8yqfzcePLo+VuRLMndmYyCrOcqXCQxVnvO7+pdjjQFdGSZe3UF11rzUI0ZKDZO0DelOwDt8l 1dli4Lc3Qs8mHy+V+4kwQo0ibMA/61ggcaYjz1E/48LJMmjCPRRpHX1pdpi0gPSRh/+XkfCs5HE jA46H+vblgM4xF38Gj+IjaJH/rwAVx80RAfkI1f8lR5AxdL+zeIbmUCxPf9aIkn0RaKeZY5NClf QiVrjxJ+qOZ/xNYyAT3ndHsha3rr5MWiFjPJ8psX0A== X-Google-Smtp-Source: AGHT+IGaumlaUL4yWmN89nZeN2MJjQTkBfvdyPyb12nTau66+2mfh7XGOR20cJMBtetSVDHojx1sS0daKwNS X-Received: by 2002:a05:6e02:2408:b0:3d0:4e2b:9bbb with SMTP id e9e14a558f8ab-3d2809580eemr164246195ab.21.1739911032092; Tue, 18 Feb 2025 12:37:12 -0800 (PST) Received: from postal.iol.unh.edu (postal.iol.unh.edu. [2606:4100:3880:1234::84]) by smtp-relay.gmail.com with ESMTPS id e9e14a558f8ab-3d18f9d82d1sm7423195ab.34.2025.02.18.12.37.12 (version=TLS1_2 cipher=ECDHE-ECDSA-AES128-GCM-SHA256 bits=128/128); Tue, 18 Feb 2025 12:37:12 -0800 (PST) X-Relaying-Domain: iol.unh.edu Date: Tue, 18 Feb 2025 12:37:12 -0800 (PST) Message-ID: <67b4ef78.920a0220.3b52bf.6058SMTPIN_ADDED_MISSING@mx.google.com> Received: from [172.17.0.6] (unknown [172.18.0.217]) by postal.iol.unh.edu (Postfix) with ESMTP id 8EC2E6052471; Tue, 18 Feb 2025 15:37:11 -0500 (EST) Subject: |SUCCESS| pw151584 [PATCH] ethdev: fix get_reg_info From: dpdklab@iol.unh.edu To: Test Report Cc: dpdk-test-reports@iol.unh.edu In-Reply-To: <20250218115828.2107335-1-thierry.herbelot@6wind.com> References: <20250218115828.2107335-1-thierry.herbelot@6wind.com> Content-Type: text/plain X-BeenThere: test-report@dpdk.org X-Mailman-Version: 2.1.29 Precedence: list List-Id: automatic DPDK test reports List-Unsubscribe: , List-Archive: List-Post: List-Help: List-Subscribe: , Errors-To: test-report-bounces@dpdk.org Test-Label: iol-abi-testing Test-Status: SUCCESS http://dpdk.org/patch/151584 _Testing PASS_ Submitter: Thierry Herbelot Date: Tuesday, February 18 2025 11:58:28 DPDK git baseline: Repo:dpdk Branch: master CommitID:968f7b6d7b6a7e60e6e551db430c4eecaccbbfd2 151584 --> testing pass Upstream job id: Generic-DPDK-Compile-ABI#116623 Test environment and result as below: +-------------------+----------+ | Environment | abi_test | +===================+==========+ | CentOS Stream 9 | PASS | +-------------------+----------+ | CentOS Stream 10 | PASS | +-------------------+----------+ | Fedora 40 | PASS | +-------------------+----------+ | Debian 12 | PASS | +-------------------+----------+ | Debian Bullseye | PASS | +-------------------+----------+ | Fedora 40 (Clang) | PASS | +-------------------+----------+ | Fedora 41 (Clang) | PASS | +-------------------+----------+ | Fedora 41 | PASS | +-------------------+----------+ | RHEL9 | PASS | +-------------------+----------+ | openSUSE Leap 15 | PASS | +-------------------+----------+ | RHEL8 | PASS | +-------------------+----------+ | Ubuntu 22.04 | PASS | +-------------------+----------+ | Ubuntu 24.04 | PASS | +-------------------+----------+ CentOS Stream 9 Kernel: Depends on container host Compiler: gcc 11.5.0 20240719 (Red Hat 11.5.0-2) CentOS Stream 10 Kernel: Depends on container host Compiler: gcc 14.2.1 20241104 (Red Hat 14.2.1-6) Fedora 40 Kernel: Depends on container host Compiler: gcc 14.2.1 20240912 (Red Hat 14.2.1-3) Debian 12 Kernel: Depends on container host Compiler: gcc (Debian 12.2.0-14) 12.2.0 Debian Bullseye Kernel: Depends on container host Compiler: gcc (Debian 10.2.1-6) 10.2.1 20210110 Fedora 40 (Clang) Kernel: Depends on container host Compiler: clang 18.1.8 (Fedora 18.1.8-1.fc40) Fedora 41 (Clang) Kernel: Depends on container host Compiler: clang 19.1.5 (Fedora 19.1.5-1.fc41) Fedora 41 Kernel: Depends on container host Compiler: gcc 14.2.1 20240912 (Red Hat 14.2.1-3) RHEL9 Kernel: Depends on container host Compiler: gcc 11.5.0 20240719 (Red Hat 11.5.0-2) openSUSE Leap 15 Kernel: Depends on container host Compiler: gcc (SUSE Linux) 7.5.0 RHEL8 Kernel: Depends on container host Compiler: gcc 8.5.0 20210514 (Red Hat 8.5.0-22) Ubuntu 22.04 Kernel: Depends on container host Compiler: gcc (Ubuntu 11.4.0-1ubuntu1~22.04) 11.4.0 Ubuntu 24.04 Kernel: Depends on container host Compiler: gcc (Ubuntu 13.3.0-6ubuntu2~24.04) 13.3.0 To view detailed results, visit: https://lab.dpdk.org/results/dashboard/patchsets/32603/ UNH-IOL DPDK Community Lab To manage your email subscriptions, visit: https://lab.dpdk.org/results/dashboard/preferences/subscriptions/