From mboxrd@z Thu Jan 1 00:00:00 1970 Return-Path: Received: from mails.dpdk.org (mails.dpdk.org [217.70.189.124]) by inbox.dpdk.org (Postfix) with ESMTP id EC18F4625D for ; Tue, 18 Feb 2025 21:40:17 +0100 (CET) Received: from mails.dpdk.org (localhost [127.0.0.1]) by mails.dpdk.org (Postfix) with ESMTP id D606F402A0; Tue, 18 Feb 2025 21:40:17 +0100 (CET) Received: from mail-pl1-f226.google.com (mail-pl1-f226.google.com [209.85.214.226]) by mails.dpdk.org (Postfix) with ESMTP id B9CA240264 for ; Tue, 18 Feb 2025 21:40:15 +0100 (CET) Received: by mail-pl1-f226.google.com with SMTP id d9443c01a7336-219f8263ae0so109525035ad.0 for ; Tue, 18 Feb 2025 12:40:15 -0800 (PST) DKIM-Signature: v=1; a=rsa-sha256; c=relaxed/relaxed; d=iol.unh.edu; s=unh-iol; t=1739911215; x=1740516015; darn=dpdk.org; h=references:in-reply-to:cc:to:from:subject:message-id:date:from:to :cc:subject:date:message-id:reply-to; bh=soX+dOFsBMZlgSi4xoNJjrdUzEWVoQ5h22upJ//8tqA=; b=HhONuQIt0LNvHSH5TPPLgg/CAPdnZmWoFvKmn0Uqly33eOFSNepJWc10LG8HN7Qjgy 4NBzTRHTEBFHVo5bSEAHgkmfD1yJdB1Lo3nRbuGQfEQg6JIpmyo+oT6LFe0FcPLLIgFT B1t9UiHqqsMbUo5mDFpzZYp/9R6eGrFxq1WYg= X-Google-DKIM-Signature: v=1; a=rsa-sha256; c=relaxed/relaxed; d=1e100.net; s=20230601; t=1739911215; x=1740516015; h=references:in-reply-to:cc:to:from:subject:message-id:date :x-gm-message-state:from:to:cc:subject:date:message-id:reply-to; bh=soX+dOFsBMZlgSi4xoNJjrdUzEWVoQ5h22upJ//8tqA=; b=vY3OAqRsXgi96JIN8H2wqoVD8ljVBTtPnuA9rkNtUyryThwmX0ehj69DjKPK4IeS5A Hefn9SrBMzkdqPFYgCjmfPT5aBHRu01pADSEE+7KFG3svf4xHg+KrUJX1upK1UuCo9AD S5/yOpDCicJGHLhYbqcoROtVH8sr1U2yROHV7ijoyOlw4JgZkd1vAZsSPXNQ1/l9lJZh aG6oKY144xbV0/NEVCJqniJ6l1Vsi6ksEY5KkrfedYb6A7kZHb7+sushDfenrMkdaPAP 9dbX9bo0ZK12EcwbFBX5qINPMytj464E2hH4tKXiOTHHTn6IPQd5E1jrqUsnzyXK+smZ Xeww== X-Gm-Message-State: AOJu0Yz4RZX4sa228S7FUBKKBxZSCPWrDyqJUfx9HBc3GT9cxq4GidkN +KgqGDIZ2UyPwEUCPhOHZC8KWQm/PnJGgtcVleXrWzhfeW9LfortmyA8Jk6ylvvXV/nNTfLbAg9 knGUEYWRauODY3hWZC7FQs37qYlHMjhvn/6gFLf8v X-Gm-Gg: ASbGnctem5kfRGP30YGgsn+VtZ1hxN96MGMPehV+X7gP6x1lnRo9NSoCrOx9CE3yoHU DIpf8U/F9xIoTBegaQHpe1Ppbod4VjcrWwgFbHD2icTyNQ8iMyPHK90qoRT9g8ASruMQ0nWdogo BreFhoaNu3Z66RnBGQGTEfIk/jT+dqMQixShlVBMAsjoR91M6Lc0gqCx1xymuWJLWl+XQFF3JEm Vl2Qc/AzFHma/x6/xgJNubtAoPyseJ/cF8XZVmFAqf2hIYOnesYQCD4l40oLXoE+RtT3PHgnQfp BaosclraBqX3w3Ys3sSVlpUpbfNNIw== X-Google-Smtp-Source: AGHT+IEhY7cDqCgJSbSq45llOYrHF2vgl2C3jK37z52dbDWkd1YQ4x6qtBJQGQTv8uw8ZFdPNXl3eLRc5qjv X-Received: by 2002:a17:903:41c6:b0:220:f06b:310 with SMTP id d9443c01a7336-22103efb4cemr264583445ad.10.1739911214898; Tue, 18 Feb 2025 12:40:14 -0800 (PST) Received: from postal.iol.unh.edu (postal.iol.unh.edu. [132.177.123.84]) by smtp-relay.gmail.com with ESMTPS id d9443c01a7336-221334650dcsm2208805ad.71.2025.02.18.12.40.14 (version=TLS1_2 cipher=ECDHE-ECDSA-AES128-GCM-SHA256 bits=128/128); Tue, 18 Feb 2025 12:40:14 -0800 (PST) X-Relaying-Domain: iol.unh.edu Date: Tue, 18 Feb 2025 12:40:14 -0800 (PST) Message-ID: <67b4f02e.170a0220.c0ddd.a1cfSMTPIN_ADDED_MISSING@mx.google.com> Received: from [172.21.0.7] (unknown [172.18.0.240]) by postal.iol.unh.edu (Postfix) with ESMTP id E79C26052471; Tue, 18 Feb 2025 15:40:13 -0500 (EST) Subject: |SUCCESS| pw151584 [PATCH] ethdev: fix get_reg_info From: dpdklab@iol.unh.edu To: Test Report Cc: dpdk-test-reports@iol.unh.edu In-Reply-To: <20250218115828.2107335-1-thierry.herbelot@6wind.com> References: <20250218115828.2107335-1-thierry.herbelot@6wind.com> Content-Type: text/plain X-BeenThere: test-report@dpdk.org X-Mailman-Version: 2.1.29 Precedence: list List-Id: automatic DPDK test reports List-Unsubscribe: , List-Archive: List-Post: List-Help: List-Subscribe: , Errors-To: test-report-bounces@dpdk.org Test-Label: iol-unit-arm64-testing Test-Status: SUCCESS http://dpdk.org/patch/151584 _Testing PASS_ Submitter: Thierry Herbelot Date: Tuesday, February 18 2025 11:58:28 DPDK git baseline: Repo:dpdk Branch: master CommitID:968f7b6d7b6a7e60e6e551db430c4eecaccbbfd2 151584 --> testing pass Upstream job id: Generic-Unit-Test-DPDK#315941 Test environment and result as below: +-----------------------------+----------------+---------------------------+--------------+------------------------------+ | Environment | dpdk_unit_test | cryptodev_sw_zuc_autotest | lpm_autotest | cryptodev_sw_snow3g_autotest | +=============================+================+===========================+==============+==============================+ | CentOS Stream 10 (ARM) | PASS | SKIPPED | SKIPPED | SKIPPED | +-----------------------------+----------------+---------------------------+--------------+------------------------------+ | 32-bit Ubuntu 22.04.4 (ARM) | PASS | SKIPPED | SKIPPED | SKIPPED | +-----------------------------+----------------+---------------------------+--------------+------------------------------+ | CentOS Stream 9 (ARM) | PASS | SKIPPED | SKIPPED | SKIPPED | +-----------------------------+----------------+---------------------------+--------------+------------------------------+ | Debian 12 (arm) | PASS | PASS | SKIPPED | PASS | +-----------------------------+----------------+---------------------------+--------------+------------------------------+ | Fedora 40 (ARM) | PASS | SKIPPED | SKIPPED | SKIPPED | +-----------------------------+----------------+---------------------------+--------------+------------------------------+ | Fedora 41 (ARM) | PASS | SKIPPED | SKIPPED | SKIPPED | +-----------------------------+----------------+---------------------------+--------------+------------------------------+ | Fedora 40 (ARM Clang) | PASS | SKIPPED | SKIPPED | SKIPPED | +-----------------------------+----------------+---------------------------+--------------+------------------------------+ | Debian 11 (Buster) (ARM) | PASS | SKIPPED | SKIPPED | SKIPPED | +-----------------------------+----------------+---------------------------+--------------+------------------------------+ | Fedora 41 (ARM Clang) | PASS | SKIPPED | SKIPPED | SKIPPED | +-----------------------------+----------------+---------------------------+--------------+------------------------------+ | Ubuntu 20.04 (ARM) | PASS | SKIPPED | SKIPPED | SKIPPED | +-----------------------------+----------------+---------------------------+--------------+------------------------------+ | Ubuntu 22.04 (ARM) | PASS | SKIPPED | SKIPPED | SKIPPED | +-----------------------------+----------------+---------------------------+--------------+------------------------------+ | RHEL9 (ARM) | PASS | SKIPPED | SKIPPED | SKIPPED | +-----------------------------+----------------+---------------------------+--------------+------------------------------+ | Ubuntu 24.04 (ARM) | PASS | SKIPPED | SKIPPED | SKIPPED | +-----------------------------+----------------+---------------------------+--------------+------------------------------+ | Ubuntu 20.04 ARM SVE | SKIPPED | SKIPPED | PASS | SKIPPED | +-----------------------------+----------------+---------------------------+--------------+------------------------------+ CentOS Stream 10 (ARM) Kernel: Depends on container host Compiler: gcc 14.2.1 20241104 (Red Hat 14.2.1-6) 32-bit Ubuntu 22.04.4 (ARM) Kernel: 5.15.83+ aarch64 Compiler: gcc (Ubuntu 11.4.0-1ubuntu1~22.04) 11.4.0 CentOS Stream 9 (ARM) Kernel: Depends on container host Compiler: gcc 11.5.0 20240719 (Red Hat 11.5.0-2) Debian 12 (arm) Kernel: Depends on container host Compiler: gcc (Debian 12.2.0-14) 12.2.0 Fedora 40 (ARM) Kernel: Depends on container host Compiler: gcc 14.2.1 20240912 (Red Hat 14.2.1-3) Fedora 41 (ARM) Kernel: Depends on container host Compiler: gcc 14.2.1 20240912 (Red Hat 14.2.1-3) Fedora 40 (ARM Clang) Kernel: Depends on container host Compiler: clang 18.1.8 (Fedora 18.1.8-1.fc40) Debian 11 (Buster) (ARM) Kernel: Depends on container host Compiler: gcc (Debian 10.2.1-6) 10.2.1 20210110 Fedora 41 (ARM Clang) Kernel: Depends on container host Compiler: clang 19.1.5 (Fedora 19.1.5-1.fc41) Ubuntu 20.04 (ARM) Kernel: Depends on container host Compiler: gcc (Ubuntu 9.4.0-1ubuntu1~20.04.2) 9.4.0 Ubuntu 22.04 (ARM) Kernel: Depends on container host Compiler: gcc (Ubuntu 11.4.0-1ubuntu1~22.04) 11.4.0 RHEL9 (ARM) Kernel: Depends on container host Compiler: gcc 11.5.0 20240719 (Red Hat 11.5.0-2) Ubuntu 24.04 (ARM) Kernel: Depends on container host Compiler: gcc (Ubuntu 13.3.0-6ubuntu2~24.04) 13.3.0 Ubuntu 20.04 ARM SVE Kernel: Depends on container host Compiler: gcc (Ubuntu 10.5.0-1ubuntu1~20.04) 10.5.0 To view detailed results, visit: https://lab.dpdk.org/results/dashboard/patchsets/32603/ UNH-IOL DPDK Community Lab To manage your email subscriptions, visit: https://lab.dpdk.org/results/dashboard/preferences/subscriptions/