From mboxrd@z Thu Jan 1 00:00:00 1970 Return-Path: Received: from mails.dpdk.org (mails.dpdk.org [217.70.189.124]) by inbox.dpdk.org (Postfix) with ESMTP id B55004625D for ; Tue, 18 Feb 2025 21:47:09 +0100 (CET) Received: from mails.dpdk.org (localhost [127.0.0.1]) by mails.dpdk.org (Postfix) with ESMTP id 894DE402A0; Tue, 18 Feb 2025 21:47:09 +0100 (CET) Received: from mail-yw1-f227.google.com (mail-yw1-f227.google.com [209.85.128.227]) by mails.dpdk.org (Postfix) with ESMTP id EAC6340264 for ; Tue, 18 Feb 2025 21:47:07 +0100 (CET) Received: by mail-yw1-f227.google.com with SMTP id 00721157ae682-6fb9388f9f8so13370767b3.0 for ; Tue, 18 Feb 2025 12:47:07 -0800 (PST) DKIM-Signature: v=1; a=rsa-sha256; c=relaxed/relaxed; d=iol.unh.edu; s=unh-iol; t=1739911627; x=1740516427; darn=dpdk.org; h=references:in-reply-to:cc:to:from:subject:message-id:date:from:to :cc:subject:date:message-id:reply-to; bh=jyZbG5+tL9I56ZKPkhWkAgm+Rg8c0+nUYNGNl26APkc=; b=jtZ92iiMOG/Ryfq8F5AG/Rj0raEDveTgISxiZDGG5I0/oxUNu0i2Xftu4Ir17Sbz5R I7Q0KEzdMGzt0RZQFZXNKtmwyHAeLpD5tB5wP4EwtXWgj9yjGQZy5ltLvvpuxaFFPB4U 9BzMP124j+tndv6O8mztQ8Xt+ZhIG72A4Tpkc= X-Google-DKIM-Signature: v=1; a=rsa-sha256; c=relaxed/relaxed; d=1e100.net; s=20230601; t=1739911627; x=1740516427; h=references:in-reply-to:cc:to:from:subject:message-id:date :x-gm-message-state:from:to:cc:subject:date:message-id:reply-to; bh=jyZbG5+tL9I56ZKPkhWkAgm+Rg8c0+nUYNGNl26APkc=; b=Nayy95ciw5evt6IruEFQDCPhEF8NrnFNXRZq/yQViGsYs4/RHUXrt7yNN+MGEj7n9Z yIvrytdYDPwF1kd+Ay0Vmfnpj934nvuIFVpOq7rxwth4a+eXKdv3L38uxSO0r0KLf67M kSkTjcHoESuymhFF6+QNrBmH1uQptKzrQbG4PgQg2d9Qdw0etQiZR7HIvMGMy/xUHioK ethUX845+LzIULyLK7R9gEIZ40ClR1FMNlZ4URKMvs/J5QwwYNKO0hwqRZfHOoL6JWTl jSIEha2RhpQjoLkTKVrNKtcWTWQ7p48XGLyY5EGk1CZtQlpMF3QUCa1seo0wsIs52XFQ k7sA== X-Gm-Message-State: AOJu0YxZS7z+9NSYUSkfZ6Yf6m+x4ZRVYAkIV2/sLqNmZSdQbHUUcB4v OVqrbmd6deQP/JzPgQpDLP7uz4NDooi+tqxuMZgz5HA8oUtDythm+JEY1uF4IDnVe+X0dDl+VAG Dss03ld03O0k+YeZLeMJR7RAnUIbtF/QlIVpAtOSa0asmyD+Slqziim7g X-Gm-Gg: ASbGncuEBs8AOl2jjCdqz8yAZjtsflNS6gYqJUgMfV7+LVX4bdP5vr/e+mWlXYJy5nJ hEVVFVO2fwsfrpkWPhhfdjVHIrVIR1d5mPOpEocQsz6q8A7vy7vL7EHKrggkIkzBlP3kwy6WwEP 5R6TTlNLPEi3iozU/WdFO7stL2uYqNsV4ielWSegYYhTF3A/enf/Yy10klQZVcR2sM5uN4wl7u0 MH6BStxoCeR7zDuEdS3+pzYyfrMg1s0gC2hlVkonC0OFCR8Fqq7cqOos6YnzeYNG1fUAkfTDXzw Y5yeNPtNCgMQQEO//f7yiR2fifnmM7+QGauQWEmODg== X-Google-Smtp-Source: AGHT+IHfbRJsSTlEV8BvPMzEZdHYh6rsrlGNGuZermeNo6HeaR3dOquJMX7YbTliQPZO9toKAzHkrKONEAB8 X-Received: by 2002:a05:690c:6005:b0:6fb:1c5a:80ea with SMTP id 00721157ae682-6fb583907c5mr146273577b3.32.1739911627306; Tue, 18 Feb 2025 12:47:07 -0800 (PST) Received: from postal.iol.unh.edu (postal.iol.unh.edu. [2606:4100:3880:1234::84]) by smtp-relay.gmail.com with ESMTPS id 00721157ae682-6fb35e6cabbsm2764617b3.31.2025.02.18.12.47.07 (version=TLS1_2 cipher=ECDHE-ECDSA-AES128-GCM-SHA256 bits=128/128); Tue, 18 Feb 2025 12:47:07 -0800 (PST) X-Relaying-Domain: iol.unh.edu Date: Tue, 18 Feb 2025 12:47:07 -0800 (PST) Message-ID: <67b4f1cb.050a0220.2915c.ce44SMTPIN_ADDED_MISSING@mx.google.com> Received: from [172.17.0.3] (unknown [172.18.0.217]) by postal.iol.unh.edu (Postfix) with ESMTP id DA8A16052471; Tue, 18 Feb 2025 15:47:06 -0500 (EST) Subject: |SUCCESS| pw151584 [PATCH] ethdev: fix get_reg_info From: dpdklab@iol.unh.edu To: Test Report Cc: dpdk-test-reports@iol.unh.edu In-Reply-To: <20250218115828.2107335-1-thierry.herbelot@6wind.com> References: <20250218115828.2107335-1-thierry.herbelot@6wind.com> Content-Type: text/plain X-BeenThere: test-report@dpdk.org X-Mailman-Version: 2.1.29 Precedence: list List-Id: automatic DPDK test reports List-Unsubscribe: , List-Archive: List-Post: List-Help: List-Subscribe: , Errors-To: test-report-bounces@dpdk.org Test-Label: iol-sample-apps-testing Test-Status: SUCCESS http://dpdk.org/patch/151584 _Testing PASS_ Submitter: Thierry Herbelot Date: Tuesday, February 18 2025 11:58:28 DPDK git baseline: Repo:dpdk Branch: master CommitID:968f7b6d7b6a7e60e6e551db430c4eecaccbbfd2 151584 --> testing pass Upstream job id: ACVP-FIPS-testing#8949 Test environment and result as below: +--------------------+----------------------+----------------------+ | Environment | compressdev_zlib_pmd | dpdk_fips_validation | +====================+======================+======================+ | Ubuntu 22.04 (ARM) | PASS | SKIPPED | +--------------------+----------------------+----------------------+ | Ubuntu 22.04 | PASS | SKIPPED | +--------------------+----------------------+----------------------+ | Ubuntu 20.04 | SKIPPED | PASS | +--------------------+----------------------+----------------------+ Ubuntu 22.04 (ARM) Kernel: 5.15.0-97-generic Compiler: gcc gcc (Ubuntu 11.4.0-1ubuntu1~22.04) 11.4.0 Ubuntu 22.04 Kernel: 5.15.0-100-generic Compiler: gcc gcc (Ubuntu 11.4.0-1ubuntu1~22.04) 11.4.0 Ubuntu 20.04 Kernel: Depends on container host Compiler: gcc (Ubuntu 9.4.0-1ubuntu1~20.04.2) 9.4.0 To view detailed results, visit: https://lab.dpdk.org/results/dashboard/patchsets/32603/ UNH-IOL DPDK Community Lab To manage your email subscriptions, visit: https://lab.dpdk.org/results/dashboard/preferences/subscriptions/