From mboxrd@z Thu Jan 1 00:00:00 1970 Return-Path: Received: from mails.dpdk.org (mails.dpdk.org [217.70.189.124]) by inbox.dpdk.org (Postfix) with ESMTP id 0950F4625D for ; Tue, 18 Feb 2025 21:51:09 +0100 (CET) Received: from mails.dpdk.org (localhost [127.0.0.1]) by mails.dpdk.org (Postfix) with ESMTP id 0264B402A0; Tue, 18 Feb 2025 21:51:09 +0100 (CET) Received: from mail-qv1-f98.google.com (mail-qv1-f98.google.com [209.85.219.98]) by mails.dpdk.org (Postfix) with ESMTP id 9B86A40264 for ; Tue, 18 Feb 2025 21:51:08 +0100 (CET) Received: by mail-qv1-f98.google.com with SMTP id 6a1803df08f44-6e6864ab228so16531816d6.0 for ; Tue, 18 Feb 2025 12:51:08 -0800 (PST) DKIM-Signature: v=1; a=rsa-sha256; c=relaxed/relaxed; d=iol.unh.edu; s=unh-iol; t=1739911868; x=1740516668; darn=dpdk.org; h=references:in-reply-to:cc:to:from:subject:message-id:date:from:to :cc:subject:date:message-id:reply-to; bh=F415x2b+0B43obPL38mcyzCp48rUA+aMdTmIEqz96GI=; b=QriJofASacHcm2vOY3I6LSpe0EQcd1zJTSFe9Yt/uuyozXYyA/LQ5UA9MIMKam/Qvj nxzKHzBdrq/IHZ6OeTq523gwsTdQHGmd21vzN9ZFddPVOIxTn8RhYFIObnxn35rLE4EC 4rMc5+XpFtae5Ly7BTr/z2AYaT6y6qamxRD5k= X-Google-DKIM-Signature: v=1; a=rsa-sha256; c=relaxed/relaxed; d=1e100.net; s=20230601; t=1739911868; x=1740516668; h=references:in-reply-to:cc:to:from:subject:message-id:date :x-gm-message-state:from:to:cc:subject:date:message-id:reply-to; bh=F415x2b+0B43obPL38mcyzCp48rUA+aMdTmIEqz96GI=; b=sd/QAiXpd55xQLtA7FVZisO/ZKecjihqRypEKYjrZTH6AzK+aIYjGA7nKrF7I47wP2 uIGHFMB8wji/ny/pOowR4FbmwCqJsnSnvDRk7vyP/fiibSdb/ym7RXezp311t27Jp97w RXyxTYeqAOKeMUAlvcdBWiUgwLR80JwdiD+PRH3bUxbaUjZxqwIVX77tveRGi4jWzobG mpCowICtaYA/rOAZtBBXvBENXEYSCWpDYmqGMStTF6cBY9WfGxNcu/W15BrIoCePNfcS oeZchFInMBRFOcPvJV7xQdN7cQ7PkJ+vX7kFJl2x4fvr4FzwJBRyWyzHTNxXe3FyRUep GcEg== X-Gm-Message-State: AOJu0YzdrXsYrrzLlruKNi4Tq9/Zm2KpmRBITfyIFdwhlMxlrT8pmunv GfmoSmRVk7jnvCfnG1uldPniGWCltVz4Mg9leqHKp8/Ac3jRL3Ihe7ytZ9jcoug1uGSk7PfBOvg plbVplBIojDRl5Zfm5gFVfcFfpvJHSfdDmf42GvOP X-Gm-Gg: ASbGncsGWcb+TQwXpjKvPrd2TXWtY3FX6NHMQ0PvBGaSmz0DEixy9Ww5ZGE0uafjbfq l6DDSpRj59FYNSCgTnKCtggkAbCI5LNUaMjZBcyroKiAtc1ZnZ3oWlT6Ct+o7HBaRzI135c9SHA LeBWHB+tKWQ58Tlw8q9+ZC7+uhgWmt1Ovh19MxZsNjp1a09lEAul87TCL//mBEjMslEludr/zRl YSBj/V9WuU/4v7bcv91l5BfnI7FHriOmdVZlrxtTVEmXZZda/wubTBUTRUd/CbYqAeqk+RFsp0+ Ui4P3ayjnDP3XKuSti0Wj2rKvakDXw== X-Google-Smtp-Source: AGHT+IEridYfxkr7jy2a11+Sy3RLYAIus0ReITU0OBXXKRH/uTsFtf+6Fz09TT5R624h9V8LHde35Amf4wsq X-Received: by 2002:a05:6214:19e1:b0:6e6:659d:296 with SMTP id 6a1803df08f44-6e6974f600cmr18694996d6.5.1739911867981; Tue, 18 Feb 2025 12:51:07 -0800 (PST) Received: from postal.iol.unh.edu (postal.iol.unh.edu. [132.177.123.84]) by smtp-relay.gmail.com with ESMTPS id 6a1803df08f44-6e65d783ca5sm4755946d6.48.2025.02.18.12.51.07 (version=TLS1_2 cipher=ECDHE-ECDSA-AES128-GCM-SHA256 bits=128/128); Tue, 18 Feb 2025 12:51:07 -0800 (PST) X-Relaying-Domain: iol.unh.edu Date: Tue, 18 Feb 2025 12:51:07 -0800 (PST) Message-ID: <67b4f2bb.d40a0220.41887.79bbSMTPIN_ADDED_MISSING@mx.google.com> Received: from [172.21.0.6] (unknown [172.18.0.240]) by postal.iol.unh.edu (Postfix) with ESMTP id A629C6052471; Tue, 18 Feb 2025 15:51:07 -0500 (EST) Subject: |SUCCESS| pw151584 [PATCH] ethdev: fix get_reg_info From: dpdklab@iol.unh.edu To: Test Report Cc: dpdk-test-reports@iol.unh.edu In-Reply-To: <20250218115828.2107335-1-thierry.herbelot@6wind.com> References: <20250218115828.2107335-1-thierry.herbelot@6wind.com> Content-Type: text/plain X-BeenThere: test-report@dpdk.org X-Mailman-Version: 2.1.29 Precedence: list List-Id: automatic DPDK test reports List-Unsubscribe: , List-Archive: List-Post: List-Help: List-Subscribe: , Errors-To: test-report-bounces@dpdk.org Test-Label: iol-unit-amd64-testing Test-Status: SUCCESS http://dpdk.org/patch/151584 _Testing PASS_ Submitter: Thierry Herbelot Date: Tuesday, February 18 2025 11:58:28 DPDK git baseline: Repo:dpdk Branch: master CommitID:968f7b6d7b6a7e60e6e551db430c4eecaccbbfd2 151584 --> testing pass Upstream job id: Generic-Unit-Test-DPDK#315943 Test environment and result as below: +-------------------+----------------+ | Environment | dpdk_unit_test | +===================+================+ | CentOS Stream 9 | PASS | +-------------------+----------------+ | Debian Bullseye | PASS | +-------------------+----------------+ | CentOS Stream 10 | PASS | +-------------------+----------------+ | Debian 12 | PASS | +-------------------+----------------+ | Fedora 40 | PASS | +-------------------+----------------+ | Fedora 40 (Clang) | PASS | +-------------------+----------------+ | Fedora 41 | PASS | +-------------------+----------------+ | Fedora 41 (Clang) | PASS | +-------------------+----------------+ | Ubuntu 20.04 | PASS | +-------------------+----------------+ | RHEL8 | PASS | +-------------------+----------------+ | RHEL9 | PASS | +-------------------+----------------+ | Ubuntu 22.04 | PASS | +-------------------+----------------+ | Ubuntu 24.04 | PASS | +-------------------+----------------+ CentOS Stream 9 Kernel: Depends on container host Compiler: gcc 11.5.0 20240719 (Red Hat 11.5.0-2) Debian Bullseye Kernel: Depends on container host Compiler: gcc (Debian 10.2.1-6) 10.2.1 20210110 CentOS Stream 10 Kernel: Depends on container host Compiler: gcc 14.2.1 20241104 (Red Hat 14.2.1-6) Debian 12 Kernel: Depends on container host Compiler: gcc (Debian 12.2.0-14) 12.2.0 Fedora 40 Kernel: Depends on container host Compiler: gcc 14.2.1 20240912 (Red Hat 14.2.1-3) Fedora 40 (Clang) Kernel: Depends on container host Compiler: clang 18.1.8 (Fedora 18.1.8-1.fc40) Fedora 41 Kernel: Depends on container host Compiler: gcc 14.2.1 20240912 (Red Hat 14.2.1-3) Fedora 41 (Clang) Kernel: Depends on container host Compiler: clang 19.1.5 (Fedora 19.1.5-1.fc41) Ubuntu 20.04 Kernel: Depends on container host Compiler: gcc (Ubuntu 9.4.0-1ubuntu1~20.04.2) 9.4.0 RHEL8 Kernel: Depends on container host Compiler: gcc 8.5.0 20210514 (Red Hat 8.5.0-22) RHEL9 Kernel: Depends on container host Compiler: gcc 11.5.0 20240719 (Red Hat 11.5.0-2) Ubuntu 22.04 Kernel: Depends on container host Compiler: gcc (Ubuntu 11.4.0-1ubuntu1~22.04) 11.4.0 Ubuntu 24.04 Kernel: Depends on container host Compiler: gcc (Ubuntu 13.3.0-6ubuntu2~24.04) 13.3.0 To view detailed results, visit: https://lab.dpdk.org/results/dashboard/patchsets/32603/ UNH-IOL DPDK Community Lab To manage your email subscriptions, visit: https://lab.dpdk.org/results/dashboard/preferences/subscriptions/