From mboxrd@z Thu Jan 1 00:00:00 1970 Return-Path: Received: from mails.dpdk.org (mails.dpdk.org [217.70.189.124]) by inbox.dpdk.org (Postfix) with ESMTP id 70F224625E for ; Tue, 18 Feb 2025 22:10:12 +0100 (CET) Received: from mails.dpdk.org (localhost [127.0.0.1]) by mails.dpdk.org (Postfix) with ESMTP id 487DD402A0; Tue, 18 Feb 2025 22:10:12 +0100 (CET) Received: from mail-pl1-f227.google.com (mail-pl1-f227.google.com [209.85.214.227]) by mails.dpdk.org (Postfix) with ESMTP id 0011440264 for ; Tue, 18 Feb 2025 22:10:10 +0100 (CET) Received: by mail-pl1-f227.google.com with SMTP id d9443c01a7336-21f61b01630so3129255ad.1 for ; Tue, 18 Feb 2025 13:10:10 -0800 (PST) DKIM-Signature: v=1; a=rsa-sha256; c=relaxed/relaxed; d=iol.unh.edu; s=unh-iol; t=1739913010; x=1740517810; darn=dpdk.org; h=cc:to:from:subject:message-id:date:from:to:cc:subject:date :message-id:reply-to; bh=NqjsjyitoJNnpJQD5aE5EU014srEfGejP1KiZYVbHSo=; b=J7ZsMaTm29Br3Cgf7I4TRRw2eJ2pRP4NS/vJK4ObmZUikix0gZpTrc9iNDX2oWF8VJ FrvebhhyzgephKpuYwjtsdtph+SiM5xFR1aRVUUP+vEnzkBwehKObBiDy9yvf0FvdoMt MJqgsFzSNaJcrwOejrL8jVTY01BsyofETwSp0= X-Google-DKIM-Signature: v=1; a=rsa-sha256; c=relaxed/relaxed; d=1e100.net; s=20230601; t=1739913010; x=1740517810; h=cc:to:from:subject:message-id:date:x-gm-message-state:from:to:cc :subject:date:message-id:reply-to; bh=NqjsjyitoJNnpJQD5aE5EU014srEfGejP1KiZYVbHSo=; b=f71Liw8aUWXxQfokSGkK+gF1LEBmm/U/83GCettnHtoy+oO/PQ6B0QOcxEt0l6Du4P Ju8kAdZZ2w5+iyEOB1Xs4lACteLLC4/tw5sNz4waZiElSNQTU6UFx8mTYwfQ8ZIc2LnI X6en36JiKbA6ZoyfXgplVEYnvkevVNIGugJafui9nZGJiFh2cphyhaMl3f7iLP12wd7V hIWU+ykE/CPFUvjbAZkeh/lQvIAfXo6cGHq21tnl7LMFW8DIj6bfL7AbRm9TNJ8mfOgi VkPvEmGYPuiWj1UKcKQ6vIxuLp2EpgTAtSFHvmvNO1EKXGxNcSTaUcOomsXa/EeYcxP+ zGOA== X-Gm-Message-State: AOJu0YyxTqfUEonUX6+5UlHgisiiYZ0kgrj3Wdv1KlUBUhGxn2Od9zqB 8RfqCu9m7wIkOuS+5ANIivbWfxJWCXyoX1GCF0k2gZ6FlpPK3WGjBZod7YOnDePaptdpZruWYDm 1HJeqhEGgJvzVrgYfC6lBDOScoykFwUBYeRGJ9kYQd6ahYQiHpknN+2Jr X-Gm-Gg: ASbGncvDtHvSsgGxSnN4/e16D/6oeakO+Li2DhbkIs+2yZDCDUDqqDRtWzkPkwVa/yh ubxB6UnIx6yRSV9CA+r10X96esCwE01xQaBvylfZsAmZeEeC0xTVIyJmFyT7iXSCFJrmxvGzMAR 2gNSvO8cH/M9tvYLJ6BV6cj/7jvvWLlHUJCRk+ZCNVd7sRN/SNjY7PicLVPgRT3UJn5mVrQexhu TpZx1J/JNx9gd/c6YB+MnIvoBGTMlB+9y8DWj/FNblH/ig/E38fGW6dibqGIIgeOyQLUwqXmYm2 wYV75Gn5ROviTrt+qrdXjZrD1pBI3YovJdl/i6s2lw== X-Google-Smtp-Source: AGHT+IHRpWk/eAp66MGfAzSaFu2u+3j/0t09bXalDi3p88+KJCJBWhnKggRMu6xYPoKnhatR5yr7dydgBdUV X-Received: by 2002:a05:6a00:99d:b0:732:6d8a:5867 with SMTP id d2e1a72fcca58-7329cd7718cmr2010975b3a.2.1739913010094; Tue, 18 Feb 2025 13:10:10 -0800 (PST) Received: from postal.iol.unh.edu (postal.iol.unh.edu. [2606:4100:3880:1234::84]) by smtp-relay.gmail.com with ESMTPS id d2e1a72fcca58-732624d8c82sm636602b3a.12.2025.02.18.13.10.09 (version=TLS1_2 cipher=ECDHE-ECDSA-AES128-GCM-SHA256 bits=128/128); Tue, 18 Feb 2025 13:10:10 -0800 (PST) X-Relaying-Domain: iol.unh.edu Date: Tue, 18 Feb 2025 13:10:10 -0800 (PST) Message-ID: <67b4f732.050a0220.2ba10b.dd77SMTPIN_ADDED_MISSING@mx.google.com> Received: from [172.21.0.6] (unknown [172.18.0.240]) by postal.iol.unh.edu (Postfix) with ESMTP id 4C4DF6052471; Tue, 18 Feb 2025 16:10:09 -0500 (EST) Subject: |SUCCESS| [GIT MASTER] c0ee1640d89bf118f26e844a03e3182fb0b211c4 From: dpdklab@iol.unh.edu To: Test Report Cc: dpdk-test-reports@iol.unh.edu, Jerin Jacob Content-Type: text/plain X-BeenThere: test-report@dpdk.org X-Mailman-Version: 2.1.29 Precedence: list List-Id: automatic DPDK test reports List-Unsubscribe: , List-Archive: List-Post: List-Help: List-Subscribe: , Errors-To: test-report-bounces@dpdk.org _Testing PASS_ Branch: dpdk-next-eventdev c0ee1640d89bf118f26e844a03e3182fb0b211c4 --> testing pass Upstream job id: Generic-Unit-Test-DPDK#315966 Test environment and result as below: +--------------------------+----------------+ | Environment | dpdk_unit_test | +==========================+================+ | Debian 12 (arm) | PASS | +--------------------------+----------------+ | Debian 11 (Buster) (ARM) | PASS | +--------------------------+----------------+ | CentOS Stream 10 (ARM) | PASS | +--------------------------+----------------+ | CentOS Stream 9 (ARM) | PASS | +--------------------------+----------------+ | Fedora 40 (ARM) | PASS | +--------------------------+----------------+ | Fedora 41 (ARM) | PASS | +--------------------------+----------------+ | Fedora 40 (ARM Clang) | PASS | +--------------------------+----------------+ | RHEL9 (ARM) | PASS | +--------------------------+----------------+ | Fedora 41 (ARM Clang) | PASS | +--------------------------+----------------+ | Ubuntu 24.04 (ARM) | PASS | +--------------------------+----------------+ | Ubuntu 20.04 (ARM) | PASS | +--------------------------+----------------+ | Ubuntu 22.04 (ARM) | PASS | +--------------------------+----------------+ Debian 12 (arm) Kernel: Depends on container host Compiler: gcc (Debian 12.2.0-14) 12.2.0 Debian 11 (Buster) (ARM) Kernel: Depends on container host Compiler: gcc (Debian 10.2.1-6) 10.2.1 20210110 CentOS Stream 10 (ARM) Kernel: Depends on container host Compiler: gcc 14.2.1 20241104 (Red Hat 14.2.1-6) CentOS Stream 9 (ARM) Kernel: Depends on container host Compiler: gcc 11.5.0 20240719 (Red Hat 11.5.0-2) Fedora 40 (ARM) Kernel: Depends on container host Compiler: gcc 14.2.1 20240912 (Red Hat 14.2.1-3) Fedora 41 (ARM) Kernel: Depends on container host Compiler: gcc 14.2.1 20240912 (Red Hat 14.2.1-3) Fedora 40 (ARM Clang) Kernel: Depends on container host Compiler: clang 18.1.8 (Fedora 18.1.8-1.fc40) RHEL9 (ARM) Kernel: Depends on container host Compiler: gcc 11.5.0 20240719 (Red Hat 11.5.0-2) Fedora 41 (ARM Clang) Kernel: Depends on container host Compiler: clang 19.1.5 (Fedora 19.1.5-1.fc41) Ubuntu 24.04 (ARM) Kernel: Depends on container host Compiler: gcc (Ubuntu 13.3.0-6ubuntu2~24.04) 13.3.0 Ubuntu 20.04 (ARM) Kernel: Depends on container host Compiler: gcc (Ubuntu 9.4.0-1ubuntu1~20.04.2) 9.4.0 Ubuntu 22.04 (ARM) Kernel: Depends on container host Compiler: gcc (Ubuntu 11.4.0-1ubuntu1~22.04) 11.4.0 To view detailed results, visit: https://lab.dpdk.org/results/dashboard/tarballs/32614/ UNH-IOL DPDK Community Lab To manage your email subscriptions, visit: https://lab.dpdk.org/results/dashboard/preferences/subscriptions/