From mboxrd@z Thu Jan 1 00:00:00 1970 Return-Path: Received: from mails.dpdk.org (mails.dpdk.org [217.70.189.124]) by inbox.dpdk.org (Postfix) with ESMTP id DDCF34625E for ; Tue, 18 Feb 2025 22:32:10 +0100 (CET) Received: from mails.dpdk.org (localhost [127.0.0.1]) by mails.dpdk.org (Postfix) with ESMTP id D9109402A0; Tue, 18 Feb 2025 22:32:10 +0100 (CET) Received: from mail-pl1-f227.google.com (mail-pl1-f227.google.com [209.85.214.227]) by mails.dpdk.org (Postfix) with ESMTP id 2436940264 for ; Tue, 18 Feb 2025 22:32:10 +0100 (CET) Received: by mail-pl1-f227.google.com with SMTP id d9443c01a7336-220ecbdb4c2so123118785ad.3 for ; Tue, 18 Feb 2025 13:32:10 -0800 (PST) DKIM-Signature: v=1; a=rsa-sha256; c=relaxed/relaxed; d=iol.unh.edu; s=unh-iol; t=1739914329; x=1740519129; darn=dpdk.org; h=cc:to:from:subject:message-id:date:from:to:cc:subject:date :message-id:reply-to; bh=j8DC55bcyBg/2E6IImiV4zIMvAVyFWpMbZ3+B7ukh6Y=; b=ZDBEpa6cOH3EuMiaGzauxpxSFgXrnSACePR8d7qPYn7SZ61TdWHXGXIX2ctoM5poUy nuMQoxU0opiw9AR3V7peTwO0KqrTT4830RKp7NWPJD4MPg40Vh4BMbV9j7AecipogUFb 42oNtBe1S5kjUMBnp7G/hS263pF4SV6H/EY7Q= X-Google-DKIM-Signature: v=1; a=rsa-sha256; c=relaxed/relaxed; d=1e100.net; s=20230601; t=1739914329; x=1740519129; h=cc:to:from:subject:message-id:date:x-gm-message-state:from:to:cc :subject:date:message-id:reply-to; bh=j8DC55bcyBg/2E6IImiV4zIMvAVyFWpMbZ3+B7ukh6Y=; b=C09nSL/Xfg9HuLYL5Pj6QvaAbfbIPc1yOu79JFXOG5OCesuYcNc0jKGgX0xkhvlmjU lhq46IhJuug9MCk9izZ73JiXwYbyr3bWd5stwGCVDQydTZJP+r/fw4/eDitZOv/0XyyK QtLPg7bdjQ5eVE0+kg5cKDFftGnLyvbvRh4Z/LMFBLWG0gKa/8Pxzz9l680l5tptZIon fTTVJ0cwWJxqK8RDECQ2axcYPlvbrNbZgNYew9XEQoiDKjik/UEeEfpqBDzt7n4e9L70 +DCl1yaQ086EAsktLNohrOIYfZcpLiKD5YH8DJUk3SVqFcS147BegNyAtNiPY0UZSEDu gfTg== X-Gm-Message-State: AOJu0YxOXOJuUBz0fRzLGzZOlM8ME+/UR13B0Weer1XU/1RjuLznPKQ/ 5WJuxTOrLKUKx+zKPxnWTpWDaJIoVU4w75VIkXe5uuZiczQbV8dKvu9LfzEgDJQr34xVb688ffr rKtktkbmnITlpQWRzSiNbCaoZiKDx1iqfDWGGznWnIdzrGTUk2dUEsREy X-Gm-Gg: ASbGncttebSrtmamR/sHx29IfcOWbjllBacUSeXUsYWGs8bvin+/8uC1/w7RUgHW+Jf FVk/sERpnhm5VRlwTFd7m/VRbtf5NAVfVDoQT1B+0NPBC3Fm/ZiQAQAf0ZVesxwMS+5Fg6qLRRE GIkUQq0XCZb2ZV+IRWKVSPCYydOJwKWFI2iwJ1qw4TfLganvVGLqbPD4TThE5zlb7GIDZney1qB fDUqfP4KXEDBv4QYTZ02JP6n0m6hCcba6QpqKavzgdUhOLT0WkerwbpxEemIKI8L3otwRlK7pS6 5vrq6pNVv93o0Z2mMXIWjTs+OegAiyzewynD9mSqDA== X-Google-Smtp-Source: AGHT+IGeWdyB4QkDuF+bpmMH7l2Dze1TfqMQRDR+bsAign3FX9ZFPsZOjY08I0TJb1iXgJC0qBKwNSWNvUOU X-Received: by 2002:a17:902:f68c:b0:220:c164:6ee1 with SMTP id d9443c01a7336-221040a9ea1mr257240565ad.32.1739914329322; Tue, 18 Feb 2025 13:32:09 -0800 (PST) Received: from postal.iol.unh.edu (postal.iol.unh.edu. [2606:4100:3880:1234::84]) by smtp-relay.gmail.com with ESMTPS id d9443c01a7336-220d541d037sm5988595ad.108.2025.02.18.13.32.09 (version=TLS1_2 cipher=ECDHE-ECDSA-AES128-GCM-SHA256 bits=128/128); Tue, 18 Feb 2025 13:32:09 -0800 (PST) X-Relaying-Domain: iol.unh.edu Date: Tue, 18 Feb 2025 13:32:09 -0800 (PST) Message-ID: <67b4fc59.170a0220.24c69e.d293SMTPIN_ADDED_MISSING@mx.google.com> Received: from [172.21.0.7] (unknown [172.18.0.240]) by postal.iol.unh.edu (Postfix) with ESMTP id C267D6052471; Tue, 18 Feb 2025 16:32:08 -0500 (EST) Subject: |SUCCESS| [GIT MASTER] c0ee1640d89bf118f26e844a03e3182fb0b211c4 From: dpdklab@iol.unh.edu To: Test Report Cc: dpdk-test-reports@iol.unh.edu, Jerin Jacob Content-Type: text/plain X-BeenThere: test-report@dpdk.org X-Mailman-Version: 2.1.29 Precedence: list List-Id: automatic DPDK test reports List-Unsubscribe: , List-Archive: List-Post: List-Help: List-Subscribe: , Errors-To: test-report-bounces@dpdk.org _Testing PASS_ Branch: dpdk-next-eventdev c0ee1640d89bf118f26e844a03e3182fb0b211c4 --> testing pass Upstream job id: Generic-VM-Unit-Test-DPDK#27270 Test environment and result as below: +---------------------+----------------+ | Environment | dpdk_unit_test | +=====================+================+ | CentOS Stream 9 | PASS | +---------------------+----------------+ | Debian Bullseye | PASS | +---------------------+----------------+ | Fedora 40 (Clang) | PASS | +---------------------+----------------+ | Fedora 41 | PASS | +---------------------+----------------+ | Fedora 40 | PASS | +---------------------+----------------+ | Debian 12 | PASS | +---------------------+----------------+ | CentOS Stream 10 | PASS | +---------------------+----------------+ | Fedora 41 (Clang) | PASS | +---------------------+----------------+ | RHEL8 | PASS | +---------------------+----------------+ | RHEL9 | PASS | +---------------------+----------------+ | Ubuntu 20.04 | PASS | +---------------------+----------------+ | Ubuntu 24.04 | PASS | +---------------------+----------------+ | Ubuntu 22.04 | PASS | +---------------------+----------------+ | Windows Server 2022 | PASS | +---------------------+----------------+ CentOS Stream 9 Kernel: Depends on container host Compiler: gcc 11.5.0 20240719 (Red Hat 11.5.0-2) Debian Bullseye Kernel: Depends on container host Compiler: gcc (Debian 10.2.1-6) 10.2.1 20210110 Fedora 40 (Clang) Kernel: Depends on container host Compiler: clang 18.1.8 (Fedora 18.1.8-1.fc40) Fedora 41 Kernel: Depends on container host Compiler: gcc 14.2.1 20240912 (Red Hat 14.2.1-3) Fedora 40 Kernel: Depends on container host Compiler: gcc 14.2.1 20240912 (Red Hat 14.2.1-3) Debian 12 Kernel: Depends on container host Compiler: gcc (Debian 12.2.0-14) 12.2.0 CentOS Stream 10 Kernel: Depends on container host Compiler: gcc 14.2.1 20241104 (Red Hat 14.2.1-6) Fedora 41 (Clang) Kernel: Depends on container host Compiler: clang 19.1.5 (Fedora 19.1.5-1.fc41) RHEL8 Kernel: Depends on container host Compiler: gcc 8.5.0 20210514 (Red Hat 8.5.0-22) RHEL9 Kernel: Depends on container host Compiler: gcc 11.5.0 20240719 (Red Hat 11.5.0-2) Ubuntu 20.04 Kernel: Depends on container host Compiler: gcc (Ubuntu 9.4.0-1ubuntu1~20.04.2) 9.4.0 Ubuntu 24.04 Kernel: Depends on container host Compiler: gcc (Ubuntu 13.3.0-6ubuntu2~24.04) 13.3.0 Ubuntu 22.04 Kernel: Depends on container host Compiler: gcc (Ubuntu 11.4.0-1ubuntu1~22.04) 11.4.0 Windows Server 2022 Kernel: 10.0.20348.2031 Compiler: clang 15.0.7, gcc 14.1.0 (MinGW), and MSVC VS 19.39.33521 To view detailed results, visit: https://lab.dpdk.org/results/dashboard/tarballs/32614/ UNH-IOL DPDK Community Lab To manage your email subscriptions, visit: https://lab.dpdk.org/results/dashboard/preferences/subscriptions/