From mboxrd@z Thu Jan 1 00:00:00 1970 Return-Path: Received: from mails.dpdk.org (mails.dpdk.org [217.70.189.124]) by inbox.dpdk.org (Postfix) with ESMTP id 063E04625E for ; Tue, 18 Feb 2025 22:33:08 +0100 (CET) Received: from mails.dpdk.org (localhost [127.0.0.1]) by mails.dpdk.org (Postfix) with ESMTP id F4121402A0; Tue, 18 Feb 2025 22:33:07 +0100 (CET) Received: from mail-io1-f97.google.com (mail-io1-f97.google.com [209.85.166.97]) by mails.dpdk.org (Postfix) with ESMTP id 5339D40264 for ; Tue, 18 Feb 2025 22:33:07 +0100 (CET) Received: by mail-io1-f97.google.com with SMTP id ca18e2360f4ac-854a68f5afcso143103439f.0 for ; Tue, 18 Feb 2025 13:33:07 -0800 (PST) DKIM-Signature: v=1; a=rsa-sha256; c=relaxed/relaxed; d=iol.unh.edu; s=unh-iol; t=1739914386; x=1740519186; darn=dpdk.org; h=references:in-reply-to:cc:to:from:subject:message-id:date:from:to :cc:subject:date:message-id:reply-to; bh=BN6D9HSu1IbJ3MXRxTmR3mg9HUYDUJ0rbyM3gYi7aME=; b=TX+dPMQTsgvz7oPuqBWhhV85pH+8fp8cGkN2W+TGD4l9scFsWUl9KatG/BzKtmjf3N 4/z3gTejYYQsbBjVX80lL2LPYLN+sTG3SlSzv0EI9Kg7B5kgdMCn7wqjSFRgnBS/xBIL zOZeuQuuyi0RkqQe3YKvPEwxG6L4RUm4cLVVQ= X-Google-DKIM-Signature: v=1; a=rsa-sha256; c=relaxed/relaxed; d=1e100.net; s=20230601; t=1739914386; x=1740519186; h=references:in-reply-to:cc:to:from:subject:message-id:date :x-gm-message-state:from:to:cc:subject:date:message-id:reply-to; bh=BN6D9HSu1IbJ3MXRxTmR3mg9HUYDUJ0rbyM3gYi7aME=; b=KRXjtKFDMQIe6ZKwV7z1M58N1dupCND0nwHl1QQ5wAUoX9aO3lkoYO/zOpjDP51+qD JyiM29Th2dPGJcR6t3z+9DQ6vpCqB4o2YKnSi4+lRbHsPe8bM3OUgyhb+zFBGp5BuveX vgrBjDzYqzIAPh5I0rVjps9aFTWFKiryJ2JzUEb+62w7bvY51rSKtiS3ZFrsNiCuUnZa fgPMKlf2ONP1DUn/GqMc/UJdZur4s6+Ga2Upq+wvJiDds2+eRrAhW+fCQLQsGEY7ktbp SLm8+iNfJTQja7iarcP3sPYf0OfNCN3kNfIeFki8djj6cz3zP/vJgvHvnLh0tXsNlfbM TTCQ== X-Gm-Message-State: AOJu0YwVk/dJsJnQ8GFacbIa2/XX+PpMIEroUi8rBTcqdnHufPMvoszw 5As/g0wb9Iom5LkbT9myvw8ZH5sgfdydgRTTR9V6ZmFjnkSW2ATq6OzXm/PmlovLhbzwEamLxDn t8GcCizcd2FNq7kBi/Ct0a5U/AoZYtfvgBRe3klGCJc/YLefoWoNV5O1i X-Gm-Gg: ASbGncshKI8nVBwwdxaIgEMdKt07GmMUZik5+UH2jCMiF/XRPNzxQd2w9bt3Q8rGeMA zkQsHYCObxopPYzkoS5baR22F7GF4Iym3KmLICO8yJxLecG/49Rlq571+ZQ0Sas8NefKlUzvfiu 0y7jRPzgOinjUuMjlZU0ivCVMqRROvLhm/yqiF41bkRHDw6RvoRc+7lQVdg7AscN+n62Ab/a151 dSACepTWzml1lMo+ixba9Y6Grzy8ipkasIr8iBDb+Jh57KP/SAIR3YyZqOMc8B6i4x0jAYH5YEB QVOYO/r8CNwmOQ3wmlxRHF0y53c/fdTURrA9T+A23w== X-Google-Smtp-Source: AGHT+IGDMBGaATzOu7hUCA/AwGfVfSWV/RTLBHDMJTNq8VyPnxOmBVUeP+vob76WAmuZYBZqiByb2Ysorbum X-Received: by 2002:a05:6602:1342:b0:855:b27c:e834 with SMTP id ca18e2360f4ac-855b27cea30mr188900539f.5.1739914386454; Tue, 18 Feb 2025 13:33:06 -0800 (PST) Received: from postal.iol.unh.edu (postal.iol.unh.edu. [2606:4100:3880:1234::84]) by smtp-relay.gmail.com with ESMTPS id ca18e2360f4ac-855b232d74asm4423139f.8.2025.02.18.13.33.06 (version=TLS1_2 cipher=ECDHE-ECDSA-AES128-GCM-SHA256 bits=128/128); Tue, 18 Feb 2025 13:33:06 -0800 (PST) X-Relaying-Domain: iol.unh.edu Date: Tue, 18 Feb 2025 13:33:06 -0800 (PST) Message-ID: <67b4fc92.050a0220.2326b1.24ddSMTPIN_ADDED_MISSING@mx.google.com> Received: from [172.17.0.5] (unknown [172.18.0.217]) by postal.iol.unh.edu (Postfix) with ESMTP id EF6456052471; Tue, 18 Feb 2025 16:33:05 -0500 (EST) Subject: |SUCCESS| pw151584 [PATCH] ethdev: fix get_reg_info From: dpdklab@iol.unh.edu To: Test Report Cc: dpdk-test-reports@iol.unh.edu In-Reply-To: <20250218115828.2107335-1-thierry.herbelot@6wind.com> References: <20250218115828.2107335-1-thierry.herbelot@6wind.com> Content-Type: text/plain X-BeenThere: test-report@dpdk.org X-Mailman-Version: 2.1.29 Precedence: list List-Id: automatic DPDK test reports List-Unsubscribe: , List-Archive: List-Post: List-Help: List-Subscribe: , Errors-To: test-report-bounces@dpdk.org Test-Label: iol-compile-amd64-testing Test-Status: SUCCESS http://dpdk.org/patch/151584 _Testing PASS_ Submitter: Thierry Herbelot Date: Tuesday, February 18 2025 11:58:28 DPDK git baseline: Repo:dpdk Branch: master CommitID:968f7b6d7b6a7e60e6e551db430c4eecaccbbfd2 151584 --> testing pass Upstream job id: Windows-Compile-DPDK-Native#26751 Test environment and result as below: +---------------------+--------------------+-------------------+------------------+-------------------+-------------------------+ | Environment | dpdk_meson_compile | dpdk_compile_spdk | dpdk_compile_ovs | dpdk_msvc_compile | dpdk_llvm_clang_compile | +=====================+====================+===================+==================+===================+=========================+ | CentOS Stream 10 | PASS | SKIPPED | SKIPPED | SKIPPED | SKIPPED | +---------------------+--------------------+-------------------+------------------+-------------------+-------------------------+ | Debian Bullseye | PASS | PASS | SKIPPED | SKIPPED | SKIPPED | +---------------------+--------------------+-------------------+------------------+-------------------+-------------------------+ | CentOS Stream 9 | PASS | PASS | SKIPPED | SKIPPED | SKIPPED | +---------------------+--------------------+-------------------+------------------+-------------------+-------------------------+ | Debian 12 | PASS | PASS | SKIPPED | SKIPPED | SKIPPED | +---------------------+--------------------+-------------------+------------------+-------------------+-------------------------+ | Fedora 40 (Clang) | PASS | PASS | SKIPPED | SKIPPED | SKIPPED | +---------------------+--------------------+-------------------+------------------+-------------------+-------------------------+ | Fedora 40 | PASS | PASS | SKIPPED | SKIPPED | SKIPPED | +---------------------+--------------------+-------------------+------------------+-------------------+-------------------------+ | Fedora 41 (Clang) | PASS | PASS | PASS | SKIPPED | SKIPPED | +---------------------+--------------------+-------------------+------------------+-------------------+-------------------------+ | Fedora 41 | PASS | PASS | PASS | SKIPPED | SKIPPED | +---------------------+--------------------+-------------------+------------------+-------------------+-------------------------+ | openSUSE Leap 15 | PASS | SKIPPED | SKIPPED | SKIPPED | SKIPPED | +---------------------+--------------------+-------------------+------------------+-------------------+-------------------------+ | RHEL8 | PASS | SKIPPED | SKIPPED | SKIPPED | SKIPPED | +---------------------+--------------------+-------------------+------------------+-------------------+-------------------------+ | RHEL9 | PASS | SKIPPED | SKIPPED | SKIPPED | SKIPPED | +---------------------+--------------------+-------------------+------------------+-------------------+-------------------------+ | Ubuntu 20.04 | PASS | SKIPPED | SKIPPED | SKIPPED | SKIPPED | +---------------------+--------------------+-------------------+------------------+-------------------+-------------------------+ | Ubuntu 22.04 | PASS | PASS | SKIPPED | SKIPPED | SKIPPED | +---------------------+--------------------+-------------------+------------------+-------------------+-------------------------+ | Ubuntu 24.04 | PASS | PASS | PASS | SKIPPED | SKIPPED | +---------------------+--------------------+-------------------+------------------+-------------------+-------------------------+ | Alpine | PASS | SKIPPED | SKIPPED | SKIPPED | SKIPPED | +---------------------+--------------------+-------------------+------------------+-------------------+-------------------------+ | FreeBSD 13.4 | PASS | SKIPPED | SKIPPED | SKIPPED | SKIPPED | +---------------------+--------------------+-------------------+------------------+-------------------+-------------------------+ | FreeBSD 14.2 | PASS | SKIPPED | SKIPPED | SKIPPED | SKIPPED | +---------------------+--------------------+-------------------+------------------+-------------------+-------------------------+ | Windows Server 2022 | SKIPPED | SKIPPED | SKIPPED | PASS | PASS | +---------------------+--------------------+-------------------+------------------+-------------------+-------------------------+ CentOS Stream 10 Kernel: Depends on container host Compiler: gcc 14.2.1 20241104 (Red Hat 14.2.1-6) Debian Bullseye Kernel: Depends on container host Compiler: gcc (Debian 10.2.1-6) 10.2.1 20210110 CentOS Stream 9 Kernel: Depends on container host Compiler: gcc 11.5.0 20240719 (Red Hat 11.5.0-2) Debian 12 Kernel: Depends on container host Compiler: gcc (Debian 12.2.0-14) 12.2.0 Fedora 40 (Clang) Kernel: Depends on container host Compiler: clang 18.1.8 (Fedora 18.1.8-1.fc40) Fedora 40 Kernel: Depends on container host Compiler: gcc 14.2.1 20240912 (Red Hat 14.2.1-3) Fedora 41 (Clang) Kernel: Depends on container host Compiler: clang 19.1.5 (Fedora 19.1.5-1.fc41) Fedora 41 Kernel: Depends on container host Compiler: gcc 14.2.1 20240912 (Red Hat 14.2.1-3) openSUSE Leap 15 Kernel: Depends on container host Compiler: gcc (SUSE Linux) 7.5.0 RHEL8 Kernel: Depends on container host Compiler: gcc 8.5.0 20210514 (Red Hat 8.5.0-22) RHEL9 Kernel: Depends on container host Compiler: gcc 11.5.0 20240719 (Red Hat 11.5.0-2) Ubuntu 20.04 Kernel: Depends on container host Compiler: gcc (Ubuntu 9.4.0-1ubuntu1~20.04.2) 9.4.0 Ubuntu 22.04 Kernel: Depends on container host Compiler: gcc (Ubuntu 11.4.0-1ubuntu1~22.04) 11.4.0 Ubuntu 24.04 Kernel: Depends on container host Compiler: gcc (Ubuntu 13.3.0-6ubuntu2~24.04) 13.3.0 Alpine Kernel: Depends on container host Compiler: gcc (Alpine 14.2.0) 14.2.0 FreeBSD 13.4 Kernel: 13.4-RELEASE-p1 Compiler: clang 18.1.6 FreeBSD 14.2 Kernel: 14.2-RELEASE Compiler: clang 18.1.6 Windows Server 2022 Kernel: 10.0.20348.2031 Compiler: clang 15.0.7, gcc 14.1.0 (MinGW), and MSVC VS 19.39.33521 To view detailed results, visit: https://lab.dpdk.org/results/dashboard/patchsets/32603/ UNH-IOL DPDK Community Lab To manage your email subscriptions, visit: https://lab.dpdk.org/results/dashboard/preferences/subscriptions/