From mboxrd@z Thu Jan 1 00:00:00 1970 Return-Path: Received: from mails.dpdk.org (mails.dpdk.org [217.70.189.124]) by inbox.dpdk.org (Postfix) with ESMTP id 8AC294625E for ; Tue, 18 Feb 2025 23:05:20 +0100 (CET) Received: from mails.dpdk.org (localhost [127.0.0.1]) by mails.dpdk.org (Postfix) with ESMTP id 83FC8402A0; Tue, 18 Feb 2025 23:05:20 +0100 (CET) Received: from mail-yw1-f228.google.com (mail-yw1-f228.google.com [209.85.128.228]) by mails.dpdk.org (Postfix) with ESMTP id E882240264 for ; Tue, 18 Feb 2025 23:05:18 +0100 (CET) Received: by mail-yw1-f228.google.com with SMTP id 00721157ae682-6efe4e3d698so56367727b3.0 for ; Tue, 18 Feb 2025 14:05:18 -0800 (PST) DKIM-Signature: v=1; a=rsa-sha256; c=relaxed/relaxed; d=iol.unh.edu; s=unh-iol; t=1739916318; x=1740521118; darn=dpdk.org; h=cc:to:from:subject:message-id:date:from:to:cc:subject:date :message-id:reply-to; bh=FVA42YTiayiovY0mQz5OwmGydwHZkQe3Q/DhcGBPnTU=; b=jNRkvzXECUqeympHAf5IKgErl4u2vKV4yrGS05VPz8bNYzh9P+wdU1hS/7+kV89TrG PgWt/7rCg+cLPBpSMnWBXWI77ZFXXoTSJRIJBg+acC6wc3jOMY0FGs6Kz+udtJ8gSu4o vRU7zyZmNEACH5UXDwlWE6e0LImR8kZ0uytp4= X-Google-DKIM-Signature: v=1; a=rsa-sha256; c=relaxed/relaxed; d=1e100.net; s=20230601; t=1739916318; x=1740521118; h=cc:to:from:subject:message-id:date:x-gm-message-state:from:to:cc :subject:date:message-id:reply-to; bh=FVA42YTiayiovY0mQz5OwmGydwHZkQe3Q/DhcGBPnTU=; b=M2A6OKHkgrqyxpnU2fK1Jdqa6DkPvFieXBGr7cfF3viD0ngEFemeS0R0HN16uzbkGC +hRs0vN3O7hHdJlk075fS9VvcGgtrECKghl9kBKh4GnPuhlMIaJN+qWWZmFyQ5ut92Xw Cnc5pKT/OrHNo/DgllO4ToPvWrRUJhceXsSBqkaK/MJvZ5e9+h3MUZiePKjDhR3rPuvN m8/qtoJnKqU38s+INABiUozaLhtRxY/3CjJ7D18mUsSenPXrHBLDPEcwU3kXwS/34RN9 4mxFH1dFmu3nGEo1NXBu2dwVHZwOzUovqBAu5Nme0c+a+xIrvx7W0sn8/rFGg57DLPyA wXFw== X-Gm-Message-State: AOJu0YxeJJjYiG3LQhgEbUYzSPACZXCUoC51yZDPx9iPqkyD3pH+Ix2/ 4DZCvrIbeN5LG53TT7zyDencvasciuEfSHAf2dqnvDMr4MIEBGv2V9gNmFHoSuhRpW5B0ie3/Tn UHX8tzd0aroK9UPC6tM/Ck9sWeR6FrTfbtyNNUJ0qmv4GpkDcFXpELfbH X-Gm-Gg: ASbGnctFCdODdr9MaMW/j8J1OLXiT4l0F16QBJrKFs7JCKYm0jcFh/iIyyc8qJJMqRy fxjWhbB37dWNtU2d5lOJ0EuywagbQHoCGhAL8hv70884zaj+O+qffX+Uhm6Y1brh4WQj9V9bWWS Ymdh5bm54H7O30STJQ0ywzaWV3HQvTYbl846gM357HsveIQ/zXDZCZrE33aGRw36iiVF5Q+1FEu pq0KHN3GexAZg1xJeeG0B9ZUAtQc1nMrm0awRg7x+Jo3KNzyiTg12fahNUZyQ9ujHcWO8zzIew+ A13USkAg9tdSvMP5VJsxsrfC8h8Xqba3o7WOhBsjTw== X-Google-Smtp-Source: AGHT+IGV9kiFGvaFpdURWls0Qth8/HFVj0yPe0NBthjxrGzrGcN75FYgTqATI99M0jv/+RTIlJ8RIK+h0p8k X-Received: by 2002:a05:690c:46ca:b0:6f9:8b50:bac7 with SMTP id 00721157ae682-6fba575fc4bmr16254347b3.29.1739916318226; Tue, 18 Feb 2025 14:05:18 -0800 (PST) Received: from postal.iol.unh.edu (postal.iol.unh.edu. [2606:4100:3880:1234::84]) by smtp-relay.gmail.com with ESMTPS id 00721157ae682-6fb704f7c50sm1886147b3.43.2025.02.18.14.05.18 (version=TLS1_2 cipher=ECDHE-ECDSA-AES128-GCM-SHA256 bits=128/128); Tue, 18 Feb 2025 14:05:18 -0800 (PST) X-Relaying-Domain: iol.unh.edu Date: Tue, 18 Feb 2025 14:05:18 -0800 (PST) Message-ID: <67b5041e.810a0220.a2489.8c1fSMTPIN_ADDED_MISSING@mx.google.com> Received: from [172.17.0.3] (unknown [172.18.0.217]) by postal.iol.unh.edu (Postfix) with ESMTP id C8CE36052471; Tue, 18 Feb 2025 17:05:17 -0500 (EST) Subject: |SUCCESS| [GIT MASTER] c0ee1640d89bf118f26e844a03e3182fb0b211c4 From: dpdklab@iol.unh.edu To: Test Report Cc: dpdk-test-reports@iol.unh.edu, Jerin Jacob Content-Type: text/plain X-BeenThere: test-report@dpdk.org X-Mailman-Version: 2.1.29 Precedence: list List-Id: automatic DPDK test reports List-Unsubscribe: , List-Archive: List-Post: List-Help: List-Subscribe: , Errors-To: test-report-bounces@dpdk.org _Testing PASS_ Branch: dpdk-next-eventdev c0ee1640d89bf118f26e844a03e3182fb0b211c4 --> testing pass Upstream job id: Generic-DPDK-Compile-Meson#362711 Test environment and result as below: +---------------------+--------------------+-------------------+------------------+-------------------+-------------------------+ | Environment | dpdk_meson_compile | dpdk_compile_spdk | dpdk_compile_ovs | dpdk_msvc_compile | dpdk_llvm_clang_compile | +=====================+====================+===================+==================+===================+=========================+ | CentOS Stream 9 | PASS | PASS | SKIPPED | SKIPPED | SKIPPED | +---------------------+--------------------+-------------------+------------------+-------------------+-------------------------+ | CentOS Stream 10 | PASS | SKIPPED | SKIPPED | SKIPPED | SKIPPED | +---------------------+--------------------+-------------------+------------------+-------------------+-------------------------+ | Debian Bullseye | PASS | PASS | SKIPPED | SKIPPED | SKIPPED | +---------------------+--------------------+-------------------+------------------+-------------------+-------------------------+ | Debian 12 | PASS | PASS | SKIPPED | SKIPPED | SKIPPED | +---------------------+--------------------+-------------------+------------------+-------------------+-------------------------+ | Fedora 40 (Clang) | PASS | PASS | SKIPPED | SKIPPED | SKIPPED | +---------------------+--------------------+-------------------+------------------+-------------------+-------------------------+ | Fedora 40 | PASS | PASS | SKIPPED | SKIPPED | SKIPPED | +---------------------+--------------------+-------------------+------------------+-------------------+-------------------------+ | Fedora 41 (Clang) | PASS | PASS | PASS | SKIPPED | SKIPPED | +---------------------+--------------------+-------------------+------------------+-------------------+-------------------------+ | Fedora 41 | PASS | PASS | PASS | SKIPPED | SKIPPED | +---------------------+--------------------+-------------------+------------------+-------------------+-------------------------+ | openSUSE Leap 15 | PASS | SKIPPED | SKIPPED | SKIPPED | SKIPPED | +---------------------+--------------------+-------------------+------------------+-------------------+-------------------------+ | RHEL8 | PASS | SKIPPED | SKIPPED | SKIPPED | SKIPPED | +---------------------+--------------------+-------------------+------------------+-------------------+-------------------------+ | RHEL9 | PASS | SKIPPED | SKIPPED | SKIPPED | SKIPPED | +---------------------+--------------------+-------------------+------------------+-------------------+-------------------------+ | Ubuntu 20.04 | PASS | SKIPPED | SKIPPED | SKIPPED | SKIPPED | +---------------------+--------------------+-------------------+------------------+-------------------+-------------------------+ | Ubuntu 22.04 | PASS | PASS | SKIPPED | SKIPPED | SKIPPED | +---------------------+--------------------+-------------------+------------------+-------------------+-------------------------+ | Ubuntu 24.04 | PASS | PASS | PASS | SKIPPED | SKIPPED | +---------------------+--------------------+-------------------+------------------+-------------------+-------------------------+ | Alpine | PASS | SKIPPED | SKIPPED | SKIPPED | SKIPPED | +---------------------+--------------------+-------------------+------------------+-------------------+-------------------------+ | FreeBSD 13.4 | PASS | SKIPPED | SKIPPED | SKIPPED | SKIPPED | +---------------------+--------------------+-------------------+------------------+-------------------+-------------------------+ | FreeBSD 14.2 | PASS | SKIPPED | SKIPPED | SKIPPED | SKIPPED | +---------------------+--------------------+-------------------+------------------+-------------------+-------------------------+ | Windows Server 2022 | SKIPPED | SKIPPED | SKIPPED | PASS | PASS | +---------------------+--------------------+-------------------+------------------+-------------------+-------------------------+ CentOS Stream 9 Kernel: Depends on container host Compiler: gcc 11.5.0 20240719 (Red Hat 11.5.0-2) CentOS Stream 10 Kernel: Depends on container host Compiler: gcc 14.2.1 20241104 (Red Hat 14.2.1-6) Debian Bullseye Kernel: Depends on container host Compiler: gcc (Debian 10.2.1-6) 10.2.1 20210110 Debian 12 Kernel: Depends on container host Compiler: gcc (Debian 12.2.0-14) 12.2.0 Fedora 40 (Clang) Kernel: Depends on container host Compiler: clang 18.1.8 (Fedora 18.1.8-1.fc40) Fedora 40 Kernel: Depends on container host Compiler: gcc 14.2.1 20240912 (Red Hat 14.2.1-3) Fedora 41 (Clang) Kernel: Depends on container host Compiler: clang 19.1.5 (Fedora 19.1.5-1.fc41) Fedora 41 Kernel: Depends on container host Compiler: gcc 14.2.1 20240912 (Red Hat 14.2.1-3) openSUSE Leap 15 Kernel: Depends on container host Compiler: gcc (SUSE Linux) 7.5.0 RHEL8 Kernel: Depends on container host Compiler: gcc 8.5.0 20210514 (Red Hat 8.5.0-22) RHEL9 Kernel: Depends on container host Compiler: gcc 11.5.0 20240719 (Red Hat 11.5.0-2) Ubuntu 20.04 Kernel: Depends on container host Compiler: gcc (Ubuntu 9.4.0-1ubuntu1~20.04.2) 9.4.0 Ubuntu 22.04 Kernel: Depends on container host Compiler: gcc (Ubuntu 11.4.0-1ubuntu1~22.04) 11.4.0 Ubuntu 24.04 Kernel: Depends on container host Compiler: gcc (Ubuntu 13.3.0-6ubuntu2~24.04) 13.3.0 Alpine Kernel: Depends on container host Compiler: gcc (Alpine 14.2.0) 14.2.0 FreeBSD 13.4 Kernel: 13.4-RELEASE-p1 Compiler: clang 18.1.6 FreeBSD 14.2 Kernel: 14.2-RELEASE Compiler: clang 18.1.6 Windows Server 2022 Kernel: 10.0.20348.2031 Compiler: clang 15.0.7, gcc 14.1.0 (MinGW), and MSVC VS 19.39.33521 To view detailed results, visit: https://lab.dpdk.org/results/dashboard/tarballs/32614/ UNH-IOL DPDK Community Lab To manage your email subscriptions, visit: https://lab.dpdk.org/results/dashboard/preferences/subscriptions/