From mboxrd@z Thu Jan 1 00:00:00 1970 Return-Path: Received: from mails.dpdk.org (mails.dpdk.org [217.70.189.124]) by inbox.dpdk.org (Postfix) with ESMTP id 335914625E for ; Tue, 18 Feb 2025 23:21:01 +0100 (CET) Received: from mails.dpdk.org (localhost [127.0.0.1]) by mails.dpdk.org (Postfix) with ESMTP id 0A25E402A0; Tue, 18 Feb 2025 23:21:01 +0100 (CET) Received: from mail-oa1-f100.google.com (mail-oa1-f100.google.com [209.85.160.100]) by mails.dpdk.org (Postfix) with ESMTP id 29A7A40264 for ; Tue, 18 Feb 2025 23:21:00 +0100 (CET) Received: by mail-oa1-f100.google.com with SMTP id 586e51a60fabf-2bcca6aae0bso1465448fac.1 for ; Tue, 18 Feb 2025 14:21:00 -0800 (PST) DKIM-Signature: v=1; a=rsa-sha256; c=relaxed/relaxed; d=iol.unh.edu; s=unh-iol; t=1739917259; x=1740522059; darn=dpdk.org; h=references:in-reply-to:cc:to:from:subject:message-id:date:from:to :cc:subject:date:message-id:reply-to; bh=6ovgOLqHFPnKCdhosBnM+fQHELvMDA96kInVNyfp3pM=; b=fHcJeNLZtpCGU0BHojtGBZVgrCzGIdNcmWfLMO+MG4ycMjt5fC5qoHFmvDedgBOARI ggkoouZvpu9ox1mgmHfYfLkDUBzx4IHptyBEOdnVairglTUyylpy+1edHAyh4w1hYe3y ZKoMlpwh9HVXFa+pRT1iTO71KSTfaz9vYGiCE= X-Google-DKIM-Signature: v=1; a=rsa-sha256; c=relaxed/relaxed; d=1e100.net; s=20230601; t=1739917259; x=1740522059; h=references:in-reply-to:cc:to:from:subject:message-id:date :x-gm-message-state:from:to:cc:subject:date:message-id:reply-to; bh=6ovgOLqHFPnKCdhosBnM+fQHELvMDA96kInVNyfp3pM=; b=Lj/46iNLv68Zgs5TCW4+31K7Wx0KdyvpljvqdIkyTE9ODoWzLTjCYdrLvXBalBkJN6 CjrdODzwv6VQeN3y0Ajo/m1kj60AVVF2g5709pQugegAwb79BzPiefn3rxrL4FPO6HuT JIyO4ByO2qDiz+rvCA9QEARz0/rER6msD++ejF5GL2E4oY9+RYlYRARm6o3Ae0IFyp2d DP/OR+V50hF81HdZsAl+pTOVdLsLuMBo+qTWpMnnPO4X++RBF0+vK+ExrVS/s9cOo/UD ioDmMxwAGXs4M5L2nBYcbQOEbx3fc+TaRrOP9PN2OhsgJAogVZ1yDH4NIs254BwkoAr5 iLYg== X-Gm-Message-State: AOJu0YwpkTOXGxRIsHW3d3OUnn1a4PBcmKWxkhEwR2hO18VG9rNNdEaX RTYwgRFmdnpQoL09Jt60IzhlqYhPhiUmIRCdxa/o/a2BmdiKwRne1nlQyoWQ1aANvaGeoaxHmm8 /ZNJzCu9SZrqDbE2WasqJDRmv6R6h1bM4CgxVMetcjBAloXjYwOWMihKs X-Gm-Gg: ASbGncsTSpVQlXxx+zpREzFMxMcIxOd4JWoVpBW3oIWU1fUcqZt+Q4K6plUNKohxfRG LPCQFoDOkgnMXiSJDA+5mtPw5P35P0VASIayJ0MFTMGjuNzCFKjSTOZAHpnSfDxhnDrcqgLok7E IlkiOgedOsEwYSPU6jhbvqbdiaMKcVji+LAGjvoyy6bClU6V0gSr9/jr5rxel9nVXL4iVZOPANQ MHX3RIcJjA8dulXQMyrHCkhZZd/kh1O9PkVIuQHGgm6/P2xmLcNv8+xrT9EWzjVC6NNPpEacGdE ImgbN2kZRoZDbUVOEjGpV5WclkOsYypT0HK/RvXQQw== X-Google-Smtp-Source: AGHT+IFAGBWfMctV7n300s+HFsepCZkeg/42Ql6WjRBT5KxKHkiMFHGggLKQZQEVV2KLz9DQCn+ZrvisqepF X-Received: by 2002:a05:6870:d152:b0:29e:4ba5:4ddc with SMTP id 586e51a60fabf-2bd10405e75mr1074825fac.24.1739917259168; Tue, 18 Feb 2025 14:20:59 -0800 (PST) Received: from postal.iol.unh.edu (postal.iol.unh.edu. [2606:4100:3880:1234::84]) by smtp-relay.gmail.com with ESMTPS id 586e51a60fabf-2b963a0dd9bsm827959fac.35.2025.02.18.14.20.59 (version=TLS1_2 cipher=ECDHE-ECDSA-AES128-GCM-SHA256 bits=128/128); Tue, 18 Feb 2025 14:20:59 -0800 (PST) X-Relaying-Domain: iol.unh.edu Date: Tue, 18 Feb 2025 14:20:59 -0800 (PST) Message-ID: <67b507cb.050a0220.304ed0.af3dSMTPIN_ADDED_MISSING@mx.google.com> Received: from [172.21.0.5] (unknown [172.18.0.240]) by postal.iol.unh.edu (Postfix) with ESMTP id A356D6052471; Tue, 18 Feb 2025 17:20:58 -0500 (EST) Subject: |SUCCESS| pw151605 [PATCH] [v2] net/mana: use mana_local_data for tr From: dpdklab@iol.unh.edu To: Test Report Cc: dpdk-test-reports@iol.unh.edu In-Reply-To: <1739912366-6052-1-git-send-email-longli@linuxonhyperv.com> References: <1739912366-6052-1-git-send-email-longli@linuxonhyperv.com> Content-Type: text/plain X-BeenThere: test-report@dpdk.org X-Mailman-Version: 2.1.29 Precedence: list List-Id: automatic DPDK test reports List-Unsubscribe: , List-Archive: List-Post: List-Help: List-Subscribe: , Errors-To: test-report-bounces@dpdk.org Test-Label: iol-unit-amd64-testing Test-Status: SUCCESS http://dpdk.org/patch/151605 _Testing PASS_ Submitter: Long Li Date: Tuesday, February 18 2025 20:59:26 DPDK git baseline: Repo:dpdk Branch: master CommitID:968f7b6d7b6a7e60e6e551db430c4eecaccbbfd2 151605 --> testing pass Upstream job id: Generic-Unit-Test-DPDK#315990 Test environment and result as below: +-------------------+----------------+ | Environment | dpdk_unit_test | +===================+================+ | Debian 12 | PASS | +-------------------+----------------+ | CentOS Stream 9 | PASS | +-------------------+----------------+ | Debian Bullseye | PASS | +-------------------+----------------+ | CentOS Stream 10 | PASS | +-------------------+----------------+ | Fedora 41 | PASS | +-------------------+----------------+ | Fedora 40 | PASS | +-------------------+----------------+ | Fedora 40 (Clang) | PASS | +-------------------+----------------+ | RHEL9 | PASS | +-------------------+----------------+ | Ubuntu 20.04 | PASS | +-------------------+----------------+ | RHEL8 | PASS | +-------------------+----------------+ | Fedora 41 (Clang) | PASS | +-------------------+----------------+ | Ubuntu 22.04 | PASS | +-------------------+----------------+ | Ubuntu 24.04 | PASS | +-------------------+----------------+ Debian 12 Kernel: Depends on container host Compiler: gcc (Debian 12.2.0-14) 12.2.0 CentOS Stream 9 Kernel: Depends on container host Compiler: gcc 11.5.0 20240719 (Red Hat 11.5.0-2) Debian Bullseye Kernel: Depends on container host Compiler: gcc (Debian 10.2.1-6) 10.2.1 20210110 CentOS Stream 10 Kernel: Depends on container host Compiler: gcc 14.2.1 20241104 (Red Hat 14.2.1-6) Fedora 41 Kernel: Depends on container host Compiler: gcc 14.2.1 20240912 (Red Hat 14.2.1-3) Fedora 40 Kernel: Depends on container host Compiler: gcc 14.2.1 20240912 (Red Hat 14.2.1-3) Fedora 40 (Clang) Kernel: Depends on container host Compiler: clang 18.1.8 (Fedora 18.1.8-1.fc40) RHEL9 Kernel: Depends on container host Compiler: gcc 11.5.0 20240719 (Red Hat 11.5.0-2) Ubuntu 20.04 Kernel: Depends on container host Compiler: gcc (Ubuntu 9.4.0-1ubuntu1~20.04.2) 9.4.0 RHEL8 Kernel: Depends on container host Compiler: gcc 8.5.0 20210514 (Red Hat 8.5.0-22) Fedora 41 (Clang) Kernel: Depends on container host Compiler: clang 19.1.5 (Fedora 19.1.5-1.fc41) Ubuntu 22.04 Kernel: Depends on container host Compiler: gcc (Ubuntu 11.4.0-1ubuntu1~22.04) 11.4.0 Ubuntu 24.04 Kernel: Depends on container host Compiler: gcc (Ubuntu 13.3.0-6ubuntu2~24.04) 13.3.0 To view detailed results, visit: https://lab.dpdk.org/results/dashboard/patchsets/32606/ UNH-IOL DPDK Community Lab To manage your email subscriptions, visit: https://lab.dpdk.org/results/dashboard/preferences/subscriptions/