From mboxrd@z Thu Jan 1 00:00:00 1970 Return-Path: Received: from mails.dpdk.org (mails.dpdk.org [217.70.189.124]) by inbox.dpdk.org (Postfix) with ESMTP id 8AB884625E for ; Tue, 18 Feb 2025 23:38:20 +0100 (CET) Received: from mails.dpdk.org (localhost [127.0.0.1]) by mails.dpdk.org (Postfix) with ESMTP id 841BD402A0; Tue, 18 Feb 2025 23:38:20 +0100 (CET) Received: from mail-qk1-f227.google.com (mail-qk1-f227.google.com [209.85.222.227]) by mails.dpdk.org (Postfix) with ESMTP id 27A5140264 for ; Tue, 18 Feb 2025 23:38:19 +0100 (CET) Received: by mail-qk1-f227.google.com with SMTP id af79cd13be357-7c08f9d0ef3so172961385a.2 for ; Tue, 18 Feb 2025 14:38:19 -0800 (PST) DKIM-Signature: v=1; a=rsa-sha256; c=relaxed/relaxed; d=iol.unh.edu; s=unh-iol; t=1739918298; x=1740523098; darn=dpdk.org; h=references:in-reply-to:cc:to:from:subject:message-id:date:from:to :cc:subject:date:message-id:reply-to; bh=F+6JFvCdbaVMRlUrVAEEkyhE7puH146/JXY3mt0Dj7I=; b=FoignKsNXSEO4Q6W6OPNqE/RiKv2YK/b3x8LTQYQ9UN/ruGPPMq0T3me1p6BIRSKfZ N2T1H1WDmwqdoTYsdzHcgJcLQEQiRabSFyHlMF7cu5JoWA9b+sqIA0WyapRsMfoYI+d8 gHvii18ft1puo4Mu255AbSYzW0nE01OVy1hhs= X-Google-DKIM-Signature: v=1; a=rsa-sha256; c=relaxed/relaxed; d=1e100.net; s=20230601; t=1739918298; x=1740523098; h=references:in-reply-to:cc:to:from:subject:message-id:date :x-gm-message-state:from:to:cc:subject:date:message-id:reply-to; bh=F+6JFvCdbaVMRlUrVAEEkyhE7puH146/JXY3mt0Dj7I=; b=BsBOkKjSyu1pOY+lKPexRNaWTv5dG8jPwX0iCelxdkhCRIIVvCOtusRdifsNNsGR+2 cpvkQpmDcQ1tv+ekx7u8RMrg6lCoZT2IULauzSj+xTenxfDur/ePoifc7RI0PIscKPp0 PNBiFCjTMbDdbKM6ThwoK1qYUqib+JBU/GWziYaWEYLQjH+xrYwJ011nE05wzz0SeB40 Q9svob9EsnHMJWImJi7uTsvGpggSqMo2rUnKOHM2EsiTV08LHD//YHPQAxUtjSXBTEzL IcDxIKXId+EsqufjaJgjpCSva7IEpgrP4kzZY6ft+mcNaI5TD9c/XDfOqak1jsGxcFMF f9aQ== X-Gm-Message-State: AOJu0YwUfRb+pdq/5QFedLT0s2uZkxBydVAAcOD4nxlJamdOgvHn1L54 dFnXtI4TmLkib3eWfzXxoxJJ05ujIiCb33KiwKQLCOuwgTfF3CjxaL4+EsrlOaImEbksOk0v/rL boRUOdNYT/4wlOq5OHmj2PzbjV9Lu2ZdfN7eoCDYZ X-Gm-Gg: ASbGnct0y2HT99MLQjNzEn/sAWeXRtPUhfI7GUt4YJG5wU4fZnr91G3uX9poQnmGSsA swD4jMWQHMMRmidoX5sLWDIzW2qbYQb66I8iWEOu3VWzvvW0I3WQ6lQAFGtlxItZ4wKwtIur4xZ kEDJS4fPtIXhtxoTIGwzPv/0cZcOPMK6cxQ0Q4GgrGEdpIOF1GBeIM3HKav/MfQP6c/I4GqYfvc K63lwVEd95jPAazPhOtywZIrBpI3jAAcBtsTpT1s5DnzR/v5aRzyo0qabdDNKPAkR+DreyoZxup 9FWqJPXFcSuek/nC5/8Y+NCDNonmAA== X-Google-Smtp-Source: AGHT+IFoGVoTRmkDvlJTwduXaWroSPK+JxiFaBkLfoWASITh/Pe7ibXV2MZz9rZcUu2kvo+Fy9J5J4Rc52LK X-Received: by 2002:a05:620a:1a86:b0:7c0:9dc9:7543 with SMTP id af79cd13be357-7c0b52868c9mr195181685a.33.1739918298451; Tue, 18 Feb 2025 14:38:18 -0800 (PST) Received: from postal.iol.unh.edu (postal.iol.unh.edu. [132.177.123.84]) by smtp-relay.gmail.com with ESMTPS id d75a77b69052e-471c2b0b875sm5946231cf.20.2025.02.18.14.38.18 (version=TLS1_2 cipher=ECDHE-ECDSA-AES128-GCM-SHA256 bits=128/128); Tue, 18 Feb 2025 14:38:18 -0800 (PST) X-Relaying-Domain: iol.unh.edu Date: Tue, 18 Feb 2025 14:38:18 -0800 (PST) Message-ID: <67b50bda.c80a0220.257c22.e5feSMTPIN_ADDED_MISSING@mx.google.com> Received: from [172.21.0.6] (unknown [172.18.0.240]) by postal.iol.unh.edu (Postfix) with ESMTP id 249A86052471; Tue, 18 Feb 2025 17:38:18 -0500 (EST) Subject: |SUCCESS| pw151605 [PATCH] [v2] net/mana: use mana_local_data for tr From: dpdklab@iol.unh.edu To: Test Report Cc: dpdk-test-reports@iol.unh.edu In-Reply-To: <1739912366-6052-1-git-send-email-longli@linuxonhyperv.com> References: <1739912366-6052-1-git-send-email-longli@linuxonhyperv.com> Content-Type: text/plain X-BeenThere: test-report@dpdk.org X-Mailman-Version: 2.1.29 Precedence: list List-Id: automatic DPDK test reports List-Unsubscribe: , List-Archive: List-Post: List-Help: List-Subscribe: , Errors-To: test-report-bounces@dpdk.org Test-Label: iol-unit-amd64-testing Test-Status: SUCCESS http://dpdk.org/patch/151605 _Testing PASS_ Submitter: Long Li Date: Tuesday, February 18 2025 20:59:26 DPDK git baseline: Repo:dpdk Branch: master CommitID:968f7b6d7b6a7e60e6e551db430c4eecaccbbfd2 151605 --> testing pass Upstream job id: Generic-VM-Unit-Test-DPDK#27271 Test environment and result as below: +---------------------+----------------+ | Environment | dpdk_unit_test | +=====================+================+ | Debian 12 | PASS | +---------------------+----------------+ | CentOS Stream 9 | PASS | +---------------------+----------------+ | Debian Bullseye | PASS | +---------------------+----------------+ | CentOS Stream 10 | PASS | +---------------------+----------------+ | Fedora 41 | PASS | +---------------------+----------------+ | Fedora 40 | PASS | +---------------------+----------------+ | Fedora 40 (Clang) | PASS | +---------------------+----------------+ | RHEL9 | PASS | +---------------------+----------------+ | Ubuntu 20.04 | PASS | +---------------------+----------------+ | RHEL8 | PASS | +---------------------+----------------+ | Fedora 41 (Clang) | PASS | +---------------------+----------------+ | Ubuntu 22.04 | PASS | +---------------------+----------------+ | Ubuntu 24.04 | PASS | +---------------------+----------------+ | Windows Server 2022 | PASS | +---------------------+----------------+ Debian 12 Kernel: Depends on container host Compiler: gcc (Debian 12.2.0-14) 12.2.0 CentOS Stream 9 Kernel: Depends on container host Compiler: gcc 11.5.0 20240719 (Red Hat 11.5.0-2) Debian Bullseye Kernel: Depends on container host Compiler: gcc (Debian 10.2.1-6) 10.2.1 20210110 CentOS Stream 10 Kernel: Depends on container host Compiler: gcc 14.2.1 20241104 (Red Hat 14.2.1-6) Fedora 41 Kernel: Depends on container host Compiler: gcc 14.2.1 20240912 (Red Hat 14.2.1-3) Fedora 40 Kernel: Depends on container host Compiler: gcc 14.2.1 20240912 (Red Hat 14.2.1-3) Fedora 40 (Clang) Kernel: Depends on container host Compiler: clang 18.1.8 (Fedora 18.1.8-1.fc40) RHEL9 Kernel: Depends on container host Compiler: gcc 11.5.0 20240719 (Red Hat 11.5.0-2) Ubuntu 20.04 Kernel: Depends on container host Compiler: gcc (Ubuntu 9.4.0-1ubuntu1~20.04.2) 9.4.0 RHEL8 Kernel: Depends on container host Compiler: gcc 8.5.0 20210514 (Red Hat 8.5.0-22) Fedora 41 (Clang) Kernel: Depends on container host Compiler: clang 19.1.5 (Fedora 19.1.5-1.fc41) Ubuntu 22.04 Kernel: Depends on container host Compiler: gcc (Ubuntu 11.4.0-1ubuntu1~22.04) 11.4.0 Ubuntu 24.04 Kernel: Depends on container host Compiler: gcc (Ubuntu 13.3.0-6ubuntu2~24.04) 13.3.0 Windows Server 2022 Kernel: 10.0.20348.2031 Compiler: clang 15.0.7, gcc 14.1.0 (MinGW), and MSVC VS 19.39.33521 To view detailed results, visit: https://lab.dpdk.org/results/dashboard/patchsets/32606/ UNH-IOL DPDK Community Lab To manage your email subscriptions, visit: https://lab.dpdk.org/results/dashboard/preferences/subscriptions/