From mboxrd@z Thu Jan 1 00:00:00 1970 Return-Path: Received: from mails.dpdk.org (mails.dpdk.org [217.70.189.124]) by inbox.dpdk.org (Postfix) with ESMTP id 6075C4625E for ; Tue, 18 Feb 2025 23:57:07 +0100 (CET) Received: from mails.dpdk.org (localhost [127.0.0.1]) by mails.dpdk.org (Postfix) with ESMTP id 59C56402A0; Tue, 18 Feb 2025 23:57:07 +0100 (CET) Received: from mail-il1-f226.google.com (mail-il1-f226.google.com [209.85.166.226]) by mails.dpdk.org (Postfix) with ESMTP id 688EE40264 for ; Tue, 18 Feb 2025 23:57:06 +0100 (CET) Received: by mail-il1-f226.google.com with SMTP id e9e14a558f8ab-3d2b6ed8128so465835ab.0 for ; Tue, 18 Feb 2025 14:57:06 -0800 (PST) DKIM-Signature: v=1; a=rsa-sha256; c=relaxed/relaxed; d=iol.unh.edu; s=unh-iol; t=1739919425; x=1740524225; darn=dpdk.org; h=references:in-reply-to:cc:to:from:subject:message-id:date:from:to :cc:subject:date:message-id:reply-to; bh=YfUHiTXfedNC5oKmropf8WWIqrOpbpAvtXbZttj/CeA=; b=JvqOVOIVzYZI7lRQ+OXVk16KsBVe4s1phHsdXkrmm1TbDn523rmcE6wZztDxLLzl/J 0Gv3qXEgHhU2Tn4jNnpcyzu7avgeX7uGUp48w99hza+McN8duuGfdyjzmbrhrPi1FQ5K Q/Xd7jbctJaY1RcxPybCxAAvz/j4NDiRB3tkY= X-Google-DKIM-Signature: v=1; a=rsa-sha256; c=relaxed/relaxed; d=1e100.net; s=20230601; t=1739919425; x=1740524225; h=references:in-reply-to:cc:to:from:subject:message-id:date :x-gm-message-state:from:to:cc:subject:date:message-id:reply-to; bh=YfUHiTXfedNC5oKmropf8WWIqrOpbpAvtXbZttj/CeA=; b=GTER245SkcTqiadsKNtDoLoMDyUtFres1InwvlB9/XENucw2plpOn7+7UTo8BIJDNZ zEk3wAnfwyHjiAx9Xb/ZRIi9BV64iN+SpnnUMcKCtyXss/l5aCCeZjIkj/zpSU4nQ+ls ayr2naGkwTuUYEXpAB23GFsplXSTxGmdshmg7268/hIFXYNMvFG4xHQpe6xG41sFWx+m hTSzNuCSdUaU4DxXtOUxiHXMPxqKAOSFpJx+PdCCnkKZwGoRYOyU1mOE8mXJQQNGX5jF 5pBrAM7CIhcmS9XAZIepp++zn34Lg0wtXD0haHokSNhMzpQ3fBRstY534/N2NtKywawI Vi6g== X-Gm-Message-State: AOJu0YyZpvh8d8ubvOIFkuAgJpNPnvXt3BJ9JIfg0SCuEGgIIP2MsH6f mTI5EbcM1OxdaLvzdu5yYw49NMO6n1SHtt4osI6Y5y5Elah83HAg6Zve6m4lbs5HHy5cDXvF82e 4r+jiJNq9pYHlYS+F1YwGTJ48yAXkhfBAZe/JxiRH4uV6rai4TKeN3kR4 X-Gm-Gg: ASbGncvgNuyFrBp3RYPmFfnTN8j1il8i3BgURTuu10QB4/TZUSALG0Led4Q1ohzuNe5 arKGfAcb6eCjQKp799pQHWOjeReL1W8wGCh5P9u0b0CEzXkjCo6BOUHaY8vJCiUBj3T/i6T6pya o3EZ2hUA5EEZNuT2vS8wrNJffMOXT2p3S+s/Sm1qKaiVPrRurVgFEcb5Xh/uGnbTkVKpMkEtjF4 FqnNOcWFrmsos/H4/OJYaYIYteIUIOhWQJoPTNbqLIKptw63mqqwun+vNIvipWHs/1hKgNXqMdV 1U4IMNh9vNDCgcVTC6TpA4Fbi7h3ZMNeuclyS/8CiA== X-Google-Smtp-Source: AGHT+IGfzfxVtfL3AlJTw3wBSW/wuzf9T0h0ukWRRNnPKhs4w2EfkU6Kr+XjeQyG1GrhChIa4l5xKrfN6fSi X-Received: by 2002:a92:506:0:b0:3d1:84ad:165e with SMTP id e9e14a558f8ab-3d2b4b9abbamr14183195ab.7.1739919425468; Tue, 18 Feb 2025 14:57:05 -0800 (PST) Received: from postal.iol.unh.edu (postal.iol.unh.edu. [2606:4100:3880:1234::84]) by smtp-relay.gmail.com with ESMTPS id 8926c6da1cb9f-4ee863f23bbsm512427173.35.2025.02.18.14.57.05 (version=TLS1_2 cipher=ECDHE-ECDSA-AES128-GCM-SHA256 bits=128/128); Tue, 18 Feb 2025 14:57:05 -0800 (PST) X-Relaying-Domain: iol.unh.edu Date: Tue, 18 Feb 2025 14:57:05 -0800 (PST) Message-ID: <67b51041.050a0220.df49a.8945SMTPIN_ADDED_MISSING@mx.google.com> Received: from [172.21.0.5] (unknown [172.18.0.240]) by postal.iol.unh.edu (Postfix) with ESMTP id E37256052471; Tue, 18 Feb 2025 17:57:04 -0500 (EST) Subject: |SUCCESS| pw151605 [PATCH] [v2] net/mana: use mana_local_data for tr From: dpdklab@iol.unh.edu To: Test Report Cc: dpdk-test-reports@iol.unh.edu In-Reply-To: <1739912366-6052-1-git-send-email-longli@linuxonhyperv.com> References: <1739912366-6052-1-git-send-email-longli@linuxonhyperv.com> Content-Type: text/plain X-BeenThere: test-report@dpdk.org X-Mailman-Version: 2.1.29 Precedence: list List-Id: automatic DPDK test reports List-Unsubscribe: , List-Archive: List-Post: List-Help: List-Subscribe: , Errors-To: test-report-bounces@dpdk.org Test-Label: iol-abi-testing Test-Status: SUCCESS http://dpdk.org/patch/151605 _Testing PASS_ Submitter: Long Li Date: Tuesday, February 18 2025 20:59:26 DPDK git baseline: Repo:dpdk Branch: master CommitID:968f7b6d7b6a7e60e6e551db430c4eecaccbbfd2 151605 --> testing pass Upstream job id: Generic-DPDK-Compile-ABI#116631 Test environment and result as below: +-------------------+----------+ | Environment | abi_test | +===================+==========+ | CentOS Stream 10 | PASS | +-------------------+----------+ | CentOS Stream 9 | PASS | +-------------------+----------+ | Debian Bullseye | PASS | +-------------------+----------+ | Debian 12 | PASS | +-------------------+----------+ | Fedora 40 (Clang) | PASS | +-------------------+----------+ | Fedora 40 | PASS | +-------------------+----------+ | openSUSE Leap 15 | PASS | +-------------------+----------+ | Fedora 41 (Clang) | PASS | +-------------------+----------+ | RHEL8 | PASS | +-------------------+----------+ | RHEL9 | PASS | +-------------------+----------+ | Ubuntu 22.04 | PASS | +-------------------+----------+ | Ubuntu 24.04 | PASS | +-------------------+----------+ | Fedora 41 | PASS | +-------------------+----------+ CentOS Stream 10 Kernel: Depends on container host Compiler: gcc 14.2.1 20241104 (Red Hat 14.2.1-6) CentOS Stream 9 Kernel: Depends on container host Compiler: gcc 11.5.0 20240719 (Red Hat 11.5.0-2) Debian Bullseye Kernel: Depends on container host Compiler: gcc (Debian 10.2.1-6) 10.2.1 20210110 Debian 12 Kernel: Depends on container host Compiler: gcc (Debian 12.2.0-14) 12.2.0 Fedora 40 (Clang) Kernel: Depends on container host Compiler: clang 18.1.8 (Fedora 18.1.8-1.fc40) Fedora 40 Kernel: Depends on container host Compiler: gcc 14.2.1 20240912 (Red Hat 14.2.1-3) openSUSE Leap 15 Kernel: Depends on container host Compiler: gcc (SUSE Linux) 7.5.0 Fedora 41 (Clang) Kernel: Depends on container host Compiler: clang 19.1.5 (Fedora 19.1.5-1.fc41) RHEL8 Kernel: Depends on container host Compiler: gcc 8.5.0 20210514 (Red Hat 8.5.0-22) RHEL9 Kernel: Depends on container host Compiler: gcc 11.5.0 20240719 (Red Hat 11.5.0-2) Ubuntu 22.04 Kernel: Depends on container host Compiler: gcc (Ubuntu 11.4.0-1ubuntu1~22.04) 11.4.0 Ubuntu 24.04 Kernel: Depends on container host Compiler: gcc (Ubuntu 13.3.0-6ubuntu2~24.04) 13.3.0 Fedora 41 Kernel: Depends on container host Compiler: gcc 14.2.1 20240912 (Red Hat 14.2.1-3) To view detailed results, visit: https://lab.dpdk.org/results/dashboard/patchsets/32606/ UNH-IOL DPDK Community Lab To manage your email subscriptions, visit: https://lab.dpdk.org/results/dashboard/preferences/subscriptions/