From mboxrd@z Thu Jan 1 00:00:00 1970 Return-Path: Received: from mails.dpdk.org (mails.dpdk.org [217.70.189.124]) by inbox.dpdk.org (Postfix) with ESMTP id 4E1C54625E for ; Wed, 19 Feb 2025 00:23:10 +0100 (CET) Received: from mails.dpdk.org (localhost [127.0.0.1]) by mails.dpdk.org (Postfix) with ESMTP id 2A10540265; Wed, 19 Feb 2025 00:23:10 +0100 (CET) Received: from mail-il1-f226.google.com (mail-il1-f226.google.com [209.85.166.226]) by mails.dpdk.org (Postfix) with ESMTP id 80A0440264 for ; Wed, 19 Feb 2025 00:23:09 +0100 (CET) Received: by mail-il1-f226.google.com with SMTP id e9e14a558f8ab-3d191bfeafbso22934305ab.0 for ; Tue, 18 Feb 2025 15:23:09 -0800 (PST) DKIM-Signature: v=1; a=rsa-sha256; c=relaxed/relaxed; d=iol.unh.edu; s=unh-iol; t=1739920988; x=1740525788; darn=dpdk.org; h=cc:to:from:subject:message-id:date:from:to:cc:subject:date :message-id:reply-to; bh=1BWTbCzWaPdEISQJYTBd2S2IeFh8c4rShISTnbZ8CQM=; b=EOMLWoH1ihWdq7g5GoIaVAYDAspNEaHzsPLG+tLiLbxRTTkd8YqbsggqtN/jqbrRvF QmhcI+xFYBUXA/Uwz0ENTbcvFbDqC/USx+33yDhpbNy8ytiL1mrKHX89pHoC8ZcgbBOz abf787VIUwBU3U3xyXDg0TksaLteef1i9SX8Q= X-Google-DKIM-Signature: v=1; a=rsa-sha256; c=relaxed/relaxed; d=1e100.net; s=20230601; t=1739920988; x=1740525788; h=cc:to:from:subject:message-id:date:x-gm-message-state:from:to:cc :subject:date:message-id:reply-to; bh=1BWTbCzWaPdEISQJYTBd2S2IeFh8c4rShISTnbZ8CQM=; b=rhJzNtTDR/AVYBOG9lxI7DDwQLUJ7u3NsIg68RmP7251FKW9M7NVD9XLBav3lIMRnz TmfUouHfq9rlBp/pmrnaQJW8K0HE6zFdAFOoLSMJcu+ryWaVuVTM75euY5EpT+RBajPC cen3M+lmRlYHePWTVlFy6bb8E7yKKfYEM1/jYP1MS/0Z5zAgleLJfsBoU7eQU/bngRo8 TJ5UfG04lwxmcdTHtz6+MgX74ORsSmUdrrTrNPwCMoNoDMLUMoQBPNJt0qzDOs6C8Kik OIqkslLl5Q2Akt1qOP3QYUTsF5GkHMXV+dRTdrHutBL1aLvRUtvAJHTADC7jd6CRQNa9 CYNA== X-Gm-Message-State: AOJu0YxtUcbZ/59WeYTYIyq1BFo97D5zNWi5R/8bfsTDb39wY+CbqvoJ ParHHXWvK2MtakGduBuGNK30hichpJMfvGEhdmbArnlYSB6ztFqW0G0igtKLijwMpfgt2F+Y0KF MgroEdXr9npDHT/w1zz5iELC1H29+z45VHAyq/8fu3T9OZGeoivI6re1y X-Gm-Gg: ASbGnctgcjZt9te7npDKqk5WVK1mdtLX/babufJ12EMXIBmPvYfDC36Tk6hX8un/+Sw vxPkngLGhWCwgu1q1NKDtL8s70UYLqccKMliOTlUR9fs72kU9l8sNttt/o7IyajQqH9GjYnZf5k 2bIZMwxjmZTgqMUtbL8Dos1fU15ZTf0da0AlEjCksVDESx4cg7XzHIQJAg2fWkkks5KWFZSnPLO GuZlwEao681d2KAsQVdX8d8gyl1b2ZXoDfGQ/q6Kgz0faFUqTbCimuY18pnwQW0ujn2X/Rrf/ds 5ay3stqAcQtVGyE7MTxkQo91AecAKl2ImGyIy+tNWw== X-Google-Smtp-Source: AGHT+IGj+pn8gTha2hyvGLc9AL2sFvuJf9QVD8uABBExVsy2SmkWA7IYGtqLtppenxxpcJYY0itCSndsXf1B X-Received: by 2002:a05:6e02:1b09:b0:3cf:c7d3:e4b with SMTP id e9e14a558f8ab-3d280919df3mr180371995ab.21.1739920988641; Tue, 18 Feb 2025 15:23:08 -0800 (PST) Received: from postal.iol.unh.edu (postal.iol.unh.edu. [2606:4100:3880:1234::84]) by smtp-relay.gmail.com with ESMTPS id e9e14a558f8ab-3d2875d2d34sm4733095ab.12.2025.02.18.15.23.08 (version=TLS1_2 cipher=ECDHE-ECDSA-AES128-GCM-SHA256 bits=128/128); Tue, 18 Feb 2025 15:23:08 -0800 (PST) X-Relaying-Domain: iol.unh.edu Date: Tue, 18 Feb 2025 15:23:08 -0800 (PST) Message-ID: <67b5165c.050a0220.380101.5d76SMTPIN_ADDED_MISSING@mx.google.com> Received: from [172.21.0.5] (unknown [172.18.0.240]) by postal.iol.unh.edu (Postfix) with ESMTP id 219BF6052471; Tue, 18 Feb 2025 18:23:08 -0500 (EST) Subject: |SUCCESS| [GIT MASTER] c0ee1640d89bf118f26e844a03e3182fb0b211c4 From: dpdklab@iol.unh.edu To: Test Report Cc: dpdk-test-reports@iol.unh.edu, Jerin Jacob Content-Type: text/plain X-BeenThere: test-report@dpdk.org X-Mailman-Version: 2.1.29 Precedence: list List-Id: automatic DPDK test reports List-Unsubscribe: , List-Archive: List-Post: List-Help: List-Subscribe: , Errors-To: test-report-bounces@dpdk.org _Testing PASS_ Branch: dpdk-next-eventdev c0ee1640d89bf118f26e844a03e3182fb0b211c4 --> testing pass Upstream job id: ACVP-FIPS-testing#8951 Test environment and result as below: +--------------------+----------------------+----------------------+ | Environment | compressdev_zlib_pmd | dpdk_fips_validation | +====================+======================+======================+ | Ubuntu 22.04 (ARM) | PASS | SKIPPED | +--------------------+----------------------+----------------------+ | Ubuntu 22.04 | PASS | SKIPPED | +--------------------+----------------------+----------------------+ | Ubuntu 20.04 | SKIPPED | PASS | +--------------------+----------------------+----------------------+ Ubuntu 22.04 (ARM) Kernel: 5.15.0-97-generic Compiler: gcc gcc (Ubuntu 11.4.0-1ubuntu1~22.04) 11.4.0 Ubuntu 22.04 Kernel: 5.15.0-100-generic Compiler: gcc gcc (Ubuntu 11.4.0-1ubuntu1~22.04) 11.4.0 Ubuntu 20.04 Kernel: Depends on container host Compiler: gcc (Ubuntu 9.4.0-1ubuntu1~20.04.2) 9.4.0 To view detailed results, visit: https://lab.dpdk.org/results/dashboard/tarballs/32614/ UNH-IOL DPDK Community Lab To manage your email subscriptions, visit: https://lab.dpdk.org/results/dashboard/preferences/subscriptions/