From mboxrd@z Thu Jan 1 00:00:00 1970 Return-Path: Received: from mails.dpdk.org (mails.dpdk.org [217.70.189.124]) by inbox.dpdk.org (Postfix) with ESMTP id 492CE46260 for ; Wed, 19 Feb 2025 03:45:41 +0100 (CET) Received: from mails.dpdk.org (localhost [127.0.0.1]) by mails.dpdk.org (Postfix) with ESMTP id 42EF240A73; Wed, 19 Feb 2025 03:45:41 +0100 (CET) Received: from mail-oa1-f99.google.com (mail-oa1-f99.google.com [209.85.160.99]) by mails.dpdk.org (Postfix) with ESMTP id 0E7344025A for ; Wed, 19 Feb 2025 03:45:38 +0100 (CET) Received: by mail-oa1-f99.google.com with SMTP id 586e51a60fabf-2b5acf00c5bso2737809fac.0 for ; Tue, 18 Feb 2025 18:45:38 -0800 (PST) DKIM-Signature: v=1; a=rsa-sha256; c=relaxed/relaxed; d=iol.unh.edu; s=unh-iol; t=1739933137; x=1740537937; darn=dpdk.org; h=references:in-reply-to:cc:to:from:subject:message-id:date:from:to :cc:subject:date:message-id:reply-to; bh=z1gjxu8VYzdU5BtDQwqRg9Iyg5R3yWTvBKWdMuFMmM8=; b=YHWBda0RX2KYbMvUvH+zZySNPd1CBJyja4Bb9Xnmfgfn4mN4cPCFyFbNIfp4o8VCg3 rcLqSbuZX+v+Kcs/eFjS5Z0TyHFDxUveP/Of8u8TqfTyNObC2dTxevlekj/0weQF/MbD AZDmAhuGT/YS92VpeZw5aGYwOpypPk+w/jVzo= X-Google-DKIM-Signature: v=1; a=rsa-sha256; c=relaxed/relaxed; d=1e100.net; s=20230601; t=1739933137; x=1740537937; h=references:in-reply-to:cc:to:from:subject:message-id:date :x-gm-message-state:from:to:cc:subject:date:message-id:reply-to; bh=z1gjxu8VYzdU5BtDQwqRg9Iyg5R3yWTvBKWdMuFMmM8=; b=I9jk2Maxuw1lW4iCEs/QJ2TdA+6cmKEjMb/wTvn255DJS2Lg+KjWqkBAPuvlKF/Hn3 wqWblHd2OIQhNX+VNKnACfwSizX8mHJdy7wbG2nzGsV58iqAPAGIFpEpDDbDmKtJ4W+F wou5fltTJ+LRK1tLgtx928fsKj3J5paqgPcmUDDwdvGIPm3LED4xSOOrWqQJ8pPvVZGs irF/amaANfFJe4n6YFLlVuunXPiJsfOxIDFFUQSumttp25ZqI3tjwxJEAEuy2Nut+UQd WVGAHfKp135aZ6X3oqwfn0Pq6u+Wr4srXOxpgrnArDVYbf5DXZQgxrNYUr6dr03duGyG GmDg== X-Gm-Message-State: AOJu0Ywi1C6da5Fw/jqenHi8/tI59TenWIi5w94w3ESP2YvOVMRnaN/U aJObLXq1Hu/bfItBw6PkumztGNSlWTgYDfrTEiW7cVAsg0q38ZmHELC81wPddcAJXLG2/SBtd5p xUPU3FYnrXXpKh3kL+PGmcRO91kH2j5UwHnypw7zS X-Gm-Gg: ASbGncviHpdy6XidHxpWU32RfPYnGcHQ5k2r0TMNKDX0h0qt6LoJWfNxeov94wjgnmL icnPHpBq1zlVkuhrYvA9TinNmTbec0jJVeQA15mSaEO+G9IJ+U7OeqjZ8ohEjUntgDPoT7EgmBb 6sFRu0n9YYCd/xcYkhajDiHk9HTGSsPOm5xf3syskbdJ54WWaU5MPIxKPda9BbhtRzlrT5qT/GY QuJRVBHbNhIoUxSTr47+lYqkbBPrnBwNTVQpm+p27r7eZkGJswWQGX093Vkbo1wpNYFGzLMGHvv Zbhyuw5wVSpUjQHxodk4rOmAowE15g== X-Google-Smtp-Source: AGHT+IEmp+RSoi5dDa6WbtZWtEq3a0+Nz8Yefifpm8Y9CSU41jOnnPJaQHLOvgOueBnbL2QAusgQaDzgMCxM X-Received: by 2002:a05:6870:780f:b0:296:dd30:e90f with SMTP id 586e51a60fabf-2bd101ec0e6mr1496564fac.16.1739933137187; Tue, 18 Feb 2025 18:45:37 -0800 (PST) Received: from postal.iol.unh.edu (postal.iol.unh.edu. [132.177.123.84]) by smtp-relay.gmail.com with ESMTPS id 586e51a60fabf-2b954868445sm745083fac.10.2025.02.18.18.45.37 (version=TLS1_2 cipher=ECDHE-ECDSA-AES128-GCM-SHA256 bits=128/128); Tue, 18 Feb 2025 18:45:37 -0800 (PST) X-Relaying-Domain: iol.unh.edu Date: Tue, 18 Feb 2025 18:45:37 -0800 (PST) Message-ID: <67b545d1.050a0220.1ebbc9.45b8SMTPIN_ADDED_MISSING@mx.google.com> Received: from [172.21.0.6] (unknown [172.18.0.240]) by postal.iol.unh.edu (Postfix) with ESMTP id A12C66052471; Tue, 18 Feb 2025 21:45:36 -0500 (EST) Subject: |SUCCESS| pw151607-151611 [PATCH] [v2,5/5] mbuf: enable to be compil From: dpdklab@iol.unh.edu To: Test Report Cc: dpdk-test-reports@iol.unh.edu In-Reply-To: <1739929198-28432-6-git-send-email-andremue@linux.microsoft.com> References: <1739929198-28432-6-git-send-email-andremue@linux.microsoft.com> Content-Type: text/plain X-BeenThere: test-report@dpdk.org X-Mailman-Version: 2.1.29 Precedence: list List-Id: automatic DPDK test reports List-Unsubscribe: , List-Archive: List-Post: List-Help: List-Subscribe: , Errors-To: test-report-bounces@dpdk.org Test-Label: iol-unit-arm64-testing Test-Status: SUCCESS http://dpdk.org/patch/151611 _Testing PASS_ Submitter: Andre Muezerie Date: Wednesday, February 19 2025 01:39:58 DPDK git baseline: Repo:dpdk Branch: master CommitID:e5176f23ae8b31437c3e5eb875c81f95bf3a9942 151607-151611 --> testing pass Upstream job id: Generic-Unit-Test-DPDK#316050 Test environment and result as below: +-----------------------------+----------------+---------------------------+--------------+------------------------------+ | Environment | dpdk_unit_test | cryptodev_sw_zuc_autotest | lpm_autotest | cryptodev_sw_snow3g_autotest | +=============================+================+===========================+==============+==============================+ | 32-bit Ubuntu 22.04.4 (ARM) | PASS | SKIPPED | SKIPPED | SKIPPED | +-----------------------------+----------------+---------------------------+--------------+------------------------------+ | Debian 12 (arm) | PASS | PASS | SKIPPED | PASS | +-----------------------------+----------------+---------------------------+--------------+------------------------------+ | Fedora 40 (ARM) | PASS | SKIPPED | SKIPPED | SKIPPED | +-----------------------------+----------------+---------------------------+--------------+------------------------------+ | Debian 11 (Buster) (ARM) | PASS | SKIPPED | SKIPPED | SKIPPED | +-----------------------------+----------------+---------------------------+--------------+------------------------------+ | CentOS Stream 9 (ARM) | PASS | SKIPPED | SKIPPED | SKIPPED | +-----------------------------+----------------+---------------------------+--------------+------------------------------+ | Fedora 41 (ARM Clang) | PASS | SKIPPED | SKIPPED | SKIPPED | +-----------------------------+----------------+---------------------------+--------------+------------------------------+ | Fedora 41 (ARM) | PASS | SKIPPED | SKIPPED | SKIPPED | +-----------------------------+----------------+---------------------------+--------------+------------------------------+ | Ubuntu 20.04 (ARM) | PASS | SKIPPED | SKIPPED | SKIPPED | +-----------------------------+----------------+---------------------------+--------------+------------------------------+ | CentOS Stream 10 (ARM) | PASS | SKIPPED | SKIPPED | SKIPPED | +-----------------------------+----------------+---------------------------+--------------+------------------------------+ | Fedora 40 (ARM Clang) | PASS | SKIPPED | SKIPPED | SKIPPED | +-----------------------------+----------------+---------------------------+--------------+------------------------------+ | RHEL9 (ARM) | PASS | SKIPPED | SKIPPED | SKIPPED | +-----------------------------+----------------+---------------------------+--------------+------------------------------+ | Ubuntu 22.04 (ARM) | PASS | SKIPPED | SKIPPED | SKIPPED | +-----------------------------+----------------+---------------------------+--------------+------------------------------+ | Ubuntu 24.04 (ARM) | PASS | SKIPPED | SKIPPED | SKIPPED | +-----------------------------+----------------+---------------------------+--------------+------------------------------+ | Ubuntu 20.04 ARM SVE | SKIPPED | SKIPPED | PASS | SKIPPED | +-----------------------------+----------------+---------------------------+--------------+------------------------------+ 32-bit Ubuntu 22.04.4 (ARM) Kernel: 5.15.83+ aarch64 Compiler: gcc (Ubuntu 11.4.0-1ubuntu1~22.04) 11.4.0 Debian 12 (arm) Kernel: Depends on container host Compiler: gcc (Debian 12.2.0-14) 12.2.0 Fedora 40 (ARM) Kernel: Depends on container host Compiler: gcc 14.2.1 20240912 (Red Hat 14.2.1-3) Debian 11 (Buster) (ARM) Kernel: Depends on container host Compiler: gcc (Debian 10.2.1-6) 10.2.1 20210110 CentOS Stream 9 (ARM) Kernel: Depends on container host Compiler: gcc 11.5.0 20240719 (Red Hat 11.5.0-2) Fedora 41 (ARM Clang) Kernel: Depends on container host Compiler: clang 19.1.5 (Fedora 19.1.5-1.fc41) Fedora 41 (ARM) Kernel: Depends on container host Compiler: gcc 14.2.1 20240912 (Red Hat 14.2.1-3) Ubuntu 20.04 (ARM) Kernel: Depends on container host Compiler: gcc (Ubuntu 9.4.0-1ubuntu1~20.04.2) 9.4.0 CentOS Stream 10 (ARM) Kernel: Depends on container host Compiler: gcc 14.2.1 20241104 (Red Hat 14.2.1-6) Fedora 40 (ARM Clang) Kernel: Depends on container host Compiler: clang 18.1.8 (Fedora 18.1.8-1.fc40) RHEL9 (ARM) Kernel: Depends on container host Compiler: gcc 11.5.0 20240719 (Red Hat 11.5.0-2) Ubuntu 22.04 (ARM) Kernel: Depends on container host Compiler: gcc (Ubuntu 11.4.0-1ubuntu1~22.04) 11.4.0 Ubuntu 24.04 (ARM) Kernel: Depends on container host Compiler: gcc (Ubuntu 13.3.0-6ubuntu2~24.04) 13.3.0 Ubuntu 20.04 ARM SVE Kernel: Depends on container host Compiler: gcc (Ubuntu 10.5.0-1ubuntu1~20.04) 10.5.0 To view detailed results, visit: https://lab.dpdk.org/results/dashboard/patchsets/32608/ UNH-IOL DPDK Community Lab To manage your email subscriptions, visit: https://lab.dpdk.org/results/dashboard/preferences/subscriptions/