From mboxrd@z Thu Jan 1 00:00:00 1970 Return-Path: Received: from mails.dpdk.org (mails.dpdk.org [217.70.189.124]) by inbox.dpdk.org (Postfix) with ESMTP id BCFF746260 for ; Wed, 19 Feb 2025 03:48:41 +0100 (CET) Received: from mails.dpdk.org (localhost [127.0.0.1]) by mails.dpdk.org (Postfix) with ESMTP id 96CD440A73; Wed, 19 Feb 2025 03:48:41 +0100 (CET) Received: from mail-qv1-f97.google.com (mail-qv1-f97.google.com [209.85.219.97]) by mails.dpdk.org (Postfix) with ESMTP id DF7434025A for ; Wed, 19 Feb 2025 03:48:39 +0100 (CET) Received: by mail-qv1-f97.google.com with SMTP id 6a1803df08f44-6dd049b5428so54341306d6.2 for ; Tue, 18 Feb 2025 18:48:39 -0800 (PST) DKIM-Signature: v=1; a=rsa-sha256; c=relaxed/relaxed; d=iol.unh.edu; s=unh-iol; t=1739933319; x=1740538119; darn=dpdk.org; h=references:in-reply-to:cc:to:from:subject:message-id:date:from:to :cc:subject:date:message-id:reply-to; bh=WlCF0ghAW1R2A5mBGL2ppEaByq3dlb/LCrUIwPMW+XI=; b=VzarGnUkDb3bHEbGBqGoKFzNC09vEBKMYmdphOZPUXSf8sU6NJSsG2vNw5gmHOoXZT tiURsPg9vuP5KgoeAuKdNbKWjbXimGeuvwDr4nq7lOJT4tuU5TkQH2TfoVRh1ozAjFdA de+redty74L4uq85FQlUtzt8YfCYzuQHsHKB4= X-Google-DKIM-Signature: v=1; a=rsa-sha256; c=relaxed/relaxed; d=1e100.net; s=20230601; t=1739933319; x=1740538119; h=references:in-reply-to:cc:to:from:subject:message-id:date :x-gm-message-state:from:to:cc:subject:date:message-id:reply-to; bh=WlCF0ghAW1R2A5mBGL2ppEaByq3dlb/LCrUIwPMW+XI=; b=L/4lQOrJcy6DxFhmkUgw5T1MLwy4hIz29EPVpGoo4jjBiHylmqyCMR5a7UR7dfS0Xd 0HA24fwUPQsse2dAjNIB2op4BA2glcCQ4p/tiKCxabyJYhKjwG9MM1sgivzSqek5PK5I HP9AMM7ltAadNNvKAvJV4lNDtjdivrDqwUIhe8zQVREcWdNXd8WqgD4CnAuKSuaDbZff OVarvcHj/0HSxgLngbUg0N96Jd+C9SdEsC+FSt2IZqUetV8v8nW7t4zJhFjGbGxkBuqj 9rPDP2mW2kiDQ2+y4K0SUrw5nis1T2rEYN/18kmkK5iZnA/KkKB2z0Q+PazPwpzJEmt1 KCbA== X-Gm-Message-State: AOJu0YzPr48mxcFdf87wC9H8IFXXTrDec22eb79FYKxwWmfYYSH4/Fgx s+UlY130257T/PJfcsOJYhYiNK0mQ8wyqSkE7uDEqzFi2E0Eq4v2UyTCnGZfr45FSpIjcyT4YRz QbZc57J799GMWf9wBSH/EC2m8XipfSKWvRmBy+wza X-Gm-Gg: ASbGncvT5qioNO49hzI4VWTXGy0ZxADS4DPym8KtxwzbFprgstqbpuMEl9xPObLD9HE BIvEX1px21ed63gup9qdb8P7SyPcW5YU1surkn6U9lhoDtx7NwmbSEkyFFtFWHQMhCuz8v+CPmG s22wjGn3R1R9Kq6i5HSQ9kv+q5p/6qzFAwUT4PHuLevBWTiia3xbEuw8Oiw5cVCPWHE6gfzyiir FhHSrYGUOqkOFNZv0HOJZk1GYBhgq1vhCuECMxYTFpbKE8XvSHBANzsxLSRqKwu3yrbVZxHzWQa 5rESVSCIadYLuFsUnS4iSnzsAcUG+A== X-Google-Smtp-Source: AGHT+IEIEZMNFVkD2ZoVin+5h/VPXT13R/0q/9m/wSazk3MJWk9yNK5hbsYuNjRY7OCGe5HzZluqi6AXNIB7 X-Received: by 2002:ad4:5b89:0:b0:6e6:6964:ca77 with SMTP id 6a1803df08f44-6e697557d17mr35249006d6.28.1739933319239; Tue, 18 Feb 2025 18:48:39 -0800 (PST) Received: from postal.iol.unh.edu (postal.iol.unh.edu. [132.177.123.84]) by smtp-relay.gmail.com with ESMTPS id 6a1803df08f44-6e65d72c5c1sm4720096d6.10.2025.02.18.18.48.39 (version=TLS1_2 cipher=ECDHE-ECDSA-AES128-GCM-SHA256 bits=128/128); Tue, 18 Feb 2025 18:48:39 -0800 (PST) X-Relaying-Domain: iol.unh.edu Date: Tue, 18 Feb 2025 18:48:39 -0800 (PST) Message-ID: <67b54687.050a0220.c498.6d03SMTPIN_ADDED_MISSING@mx.google.com> Received: from [172.17.0.3] (unknown [172.18.0.217]) by postal.iol.unh.edu (Postfix) with ESMTP id E431D6052471; Tue, 18 Feb 2025 21:48:38 -0500 (EST) Subject: |SUCCESS| pw151607-151611 [PATCH] [v2,5/5] mbuf: enable to be compil From: dpdklab@iol.unh.edu To: Test Report Cc: dpdk-test-reports@iol.unh.edu In-Reply-To: <1739929198-28432-6-git-send-email-andremue@linux.microsoft.com> References: <1739929198-28432-6-git-send-email-andremue@linux.microsoft.com> Content-Type: text/plain X-BeenThere: test-report@dpdk.org X-Mailman-Version: 2.1.29 Precedence: list List-Id: automatic DPDK test reports List-Unsubscribe: , List-Archive: List-Post: List-Help: List-Subscribe: , Errors-To: test-report-bounces@dpdk.org Test-Label: iol-unit-amd64-testing Test-Status: SUCCESS http://dpdk.org/patch/151611 _Testing PASS_ Submitter: Andre Muezerie Date: Wednesday, February 19 2025 01:39:58 DPDK git baseline: Repo:dpdk Branch: master CommitID:e5176f23ae8b31437c3e5eb875c81f95bf3a9942 151607-151611 --> testing pass Upstream job id: Generic-Unit-Test-DPDK#316045 Test environment and result as below: +---------------------+----------------+ | Environment | dpdk_unit_test | +=====================+================+ | Debian Bullseye | PASS | +---------------------+----------------+ | CentOS Stream 9 | PASS | +---------------------+----------------+ | Debian 12 | PASS | +---------------------+----------------+ | CentOS Stream 10 | PASS | +---------------------+----------------+ | Ubuntu 24.04 | PASS | +---------------------+----------------+ | RHEL9 | PASS | +---------------------+----------------+ | RHEL8 | PASS | +---------------------+----------------+ | Fedora 41 (Clang) | PASS | +---------------------+----------------+ | Fedora 41 | PASS | +---------------------+----------------+ | Ubuntu 22.04 | PASS | +---------------------+----------------+ | Fedora 40 (Clang) | PASS | +---------------------+----------------+ | Fedora 40 | PASS | +---------------------+----------------+ | Ubuntu 20.04 | PASS | +---------------------+----------------+ | Windows Server 2022 | PASS | +---------------------+----------------+ Debian Bullseye Kernel: Depends on container host Compiler: gcc (Debian 10.2.1-6) 10.2.1 20210110 CentOS Stream 9 Kernel: Depends on container host Compiler: gcc 11.5.0 20240719 (Red Hat 11.5.0-2) Debian 12 Kernel: Depends on container host Compiler: gcc (Debian 12.2.0-14) 12.2.0 CentOS Stream 10 Kernel: Depends on container host Compiler: gcc 14.2.1 20241104 (Red Hat 14.2.1-6) Ubuntu 24.04 Kernel: Depends on container host Compiler: gcc (Ubuntu 13.3.0-6ubuntu2~24.04) 13.3.0 RHEL9 Kernel: Depends on container host Compiler: gcc 11.5.0 20240719 (Red Hat 11.5.0-2) RHEL8 Kernel: Depends on container host Compiler: gcc 8.5.0 20210514 (Red Hat 8.5.0-22) Fedora 41 (Clang) Kernel: Depends on container host Compiler: clang 19.1.5 (Fedora 19.1.5-1.fc41) Fedora 41 Kernel: Depends on container host Compiler: gcc 14.2.1 20240912 (Red Hat 14.2.1-3) Ubuntu 22.04 Kernel: Depends on container host Compiler: gcc (Ubuntu 11.4.0-1ubuntu1~22.04) 11.4.0 Fedora 40 (Clang) Kernel: Depends on container host Compiler: clang 18.1.8 (Fedora 18.1.8-1.fc40) Fedora 40 Kernel: Depends on container host Compiler: gcc 14.2.1 20240912 (Red Hat 14.2.1-3) Ubuntu 20.04 Kernel: Depends on container host Compiler: gcc (Ubuntu 9.4.0-1ubuntu1~20.04.2) 9.4.0 Windows Server 2022 Kernel: 10.0.20348.2031 Compiler: clang 15.0.7, gcc 14.1.0 (MinGW), and MSVC VS 19.39.33521 To view detailed results, visit: https://lab.dpdk.org/results/dashboard/patchsets/32608/ UNH-IOL DPDK Community Lab To manage your email subscriptions, visit: https://lab.dpdk.org/results/dashboard/preferences/subscriptions/