From mboxrd@z Thu Jan 1 00:00:00 1970 Return-Path: Received: from mails.dpdk.org (mails.dpdk.org [217.70.189.124]) by inbox.dpdk.org (Postfix) with ESMTP id 6A9A546262 for ; Wed, 19 Feb 2025 04:22:25 +0100 (CET) Received: from mails.dpdk.org (localhost [127.0.0.1]) by mails.dpdk.org (Postfix) with ESMTP id 3F61C40A73; Wed, 19 Feb 2025 04:22:25 +0100 (CET) Received: from mail-qv1-f98.google.com (mail-qv1-f98.google.com [209.85.219.98]) by mails.dpdk.org (Postfix) with ESMTP id EB52A4025A for ; Wed, 19 Feb 2025 04:22:23 +0100 (CET) Received: by mail-qv1-f98.google.com with SMTP id 6a1803df08f44-6e6698667c7so57319296d6.2 for ; Tue, 18 Feb 2025 19:22:23 -0800 (PST) DKIM-Signature: v=1; a=rsa-sha256; c=relaxed/relaxed; d=iol.unh.edu; s=unh-iol; t=1739935343; x=1740540143; darn=dpdk.org; h=references:in-reply-to:cc:to:from:subject:message-id:date:from:to :cc:subject:date:message-id:reply-to; bh=9IfBtX7BbkA7EvmeuYxgaRWVry1+vsi40JnNv9F/Ykk=; b=N/isxc+2Cl/QILXC3ZQt4iWeKejcxdoNtmBs+R6qU145zPlyWg2Beeb8vtuBlZgd4N 7X7m+koyt36I/Oj65iP0JCWu+22x0ynMQLUFOhozY78PuLQXW1l/SK5LYb6GQzAP7xMu AvaceU3FAO6vkBQm7Ru86GXabK21vDJSSsabg= X-Google-DKIM-Signature: v=1; a=rsa-sha256; c=relaxed/relaxed; d=1e100.net; s=20230601; t=1739935343; x=1740540143; h=references:in-reply-to:cc:to:from:subject:message-id:date :x-gm-message-state:from:to:cc:subject:date:message-id:reply-to; bh=9IfBtX7BbkA7EvmeuYxgaRWVry1+vsi40JnNv9F/Ykk=; b=JmFpS7+xVrti6F49lQtsh5El+QKOAXHHYxgmFEl+7N/DK+pynH7KB8JYjfrZvA7onj pgmWBKiQ1NMvFqqD43f4cL6Vv6VXiPh7twE+G1a+1hNPFHQRFzqHpjtQCQ7Qfj7poTCR ifRS2rQMdq6RV4d+xMG0KOTDJn2R8x4junlVw7f+NgjuFAWaOQ95B+mEPKNUzJh7S7fo 0sCVSHpDlNLPYs0YsNEgwBUZcuJ0TrDmTmOnMved+YHpffd3XA5BA/Myoi+WrUgA2Cgf 5VbN9UfDpEyht4Z2WJOELVQtx4X2v9jNCoB4qBVyRmqcIrmsdRANLScRCN0rpkZYNNVV WOBg== X-Gm-Message-State: AOJu0Yy30sHz+i2iK4xJdiY/hvzFqSZU4aNMeE0atYngxMGIzT23bMmg vzbOCN2dlY4LlgqHuW4GN4XyOPm7R1I+Hb/6Uf2BiKfWnCd/l6FgftO0dbQ1imCyIAajQJzIwPu EYwPBIE9nRmIE5KefvJA3OyawSa5bj8ldvAszh6As X-Gm-Gg: ASbGncuhJS3paQ5NojT47ln+OQAwgFsrs3vyY4+I884WPlaLH9pOgtnwEw8lEGoQygy CI5E9++CqcYC0gxvU5Srf5E6QNO/Ask7JqvDh/3z9PkkMA07pvIOl2jQCMAOtMv/rAiOq1KUynW h5lsdoYOB0NT7Fi8Ku8pi7vszIja8AyDmyqbi6pF/lzRe10ZCMMHbHBCPY4nIkT0GOSMMBQduFU QEv3OoThSO5Hy8Vj48v/4VA3mgdAofFIrBGvJgpehMgQpiz248Jc/d6LCmmHD7vd46LpG14ih1K emGudSkXcZdCKOIIK2cWlVtPmOCF9w== X-Google-Smtp-Source: AGHT+IGzFs7hvPXSCpddHF8VXuKSAjpeK1+Osa9fXQDKMT1C9qUA/5fJW8XFHLeAqY0YiBNIDBxZQ93x6whw X-Received: by 2002:ad4:596f:0:b0:6e4:6ee2:1a0d with SMTP id 6a1803df08f44-6e66ccc2c67mr252284276d6.18.1739935343337; Tue, 18 Feb 2025 19:22:23 -0800 (PST) Received: from postal.iol.unh.edu (postal.iol.unh.edu. [132.177.123.84]) by smtp-relay.gmail.com with ESMTPS id 6a1803df08f44-6e65d7ac138sm4641276d6.70.2025.02.18.19.22.23 (version=TLS1_2 cipher=ECDHE-ECDSA-AES128-GCM-SHA256 bits=128/128); Tue, 18 Feb 2025 19:22:23 -0800 (PST) X-Relaying-Domain: iol.unh.edu Date: Tue, 18 Feb 2025 19:22:23 -0800 (PST) Message-ID: <67b54e6f.0c0a0220.a1a59.6a98SMTPIN_ADDED_MISSING@mx.google.com> Received: from [172.21.0.7] (unknown [172.18.0.240]) by postal.iol.unh.edu (Postfix) with ESMTP id 07FCF6052471; Tue, 18 Feb 2025 22:22:23 -0500 (EST) Subject: |SUCCESS| pw151607-151611 [PATCH] [v2,5/5] mbuf: enable to be compil From: dpdklab@iol.unh.edu To: Test Report Cc: dpdk-test-reports@iol.unh.edu In-Reply-To: <1739929198-28432-6-git-send-email-andremue@linux.microsoft.com> References: <1739929198-28432-6-git-send-email-andremue@linux.microsoft.com> Content-Type: text/plain X-BeenThere: test-report@dpdk.org X-Mailman-Version: 2.1.29 Precedence: list List-Id: automatic DPDK test reports List-Unsubscribe: , List-Archive: List-Post: List-Help: List-Subscribe: , Errors-To: test-report-bounces@dpdk.org Test-Label: iol-abi-testing Test-Status: SUCCESS http://dpdk.org/patch/151611 _Testing PASS_ Submitter: Andre Muezerie Date: Wednesday, February 19 2025 01:39:58 DPDK git baseline: Repo:dpdk Branch: master CommitID:e5176f23ae8b31437c3e5eb875c81f95bf3a9942 151607-151611 --> testing pass Upstream job id: Generic-DPDK-Compile-ABI#116659 Test environment and result as below: +-------------------+----------+ | Environment | abi_test | +===================+==========+ | CentOS Stream 9 | PASS | +-------------------+----------+ | Debian 12 | PASS | +-------------------+----------+ | Debian Bullseye | PASS | +-------------------+----------+ | CentOS Stream 10 | PASS | +-------------------+----------+ | Fedora 41 (Clang) | PASS | +-------------------+----------+ | Fedora 40 (Clang) | PASS | +-------------------+----------+ | Fedora 40 | PASS | +-------------------+----------+ | openSUSE Leap 15 | PASS | +-------------------+----------+ | Fedora 41 | PASS | +-------------------+----------+ | RHEL9 | PASS | +-------------------+----------+ | Ubuntu 22.04 | PASS | +-------------------+----------+ | RHEL8 | PASS | +-------------------+----------+ | Ubuntu 24.04 | PASS | +-------------------+----------+ CentOS Stream 9 Kernel: Depends on container host Compiler: gcc 11.5.0 20240719 (Red Hat 11.5.0-2) Debian 12 Kernel: Depends on container host Compiler: gcc (Debian 12.2.0-14) 12.2.0 Debian Bullseye Kernel: Depends on container host Compiler: gcc (Debian 10.2.1-6) 10.2.1 20210110 CentOS Stream 10 Kernel: Depends on container host Compiler: gcc 14.2.1 20241104 (Red Hat 14.2.1-6) Fedora 41 (Clang) Kernel: Depends on container host Compiler: clang 19.1.5 (Fedora 19.1.5-1.fc41) Fedora 40 (Clang) Kernel: Depends on container host Compiler: clang 18.1.8 (Fedora 18.1.8-1.fc40) Fedora 40 Kernel: Depends on container host Compiler: gcc 14.2.1 20240912 (Red Hat 14.2.1-3) openSUSE Leap 15 Kernel: Depends on container host Compiler: gcc (SUSE Linux) 7.5.0 Fedora 41 Kernel: Depends on container host Compiler: gcc 14.2.1 20240912 (Red Hat 14.2.1-3) RHEL9 Kernel: Depends on container host Compiler: gcc 11.5.0 20240719 (Red Hat 11.5.0-2) Ubuntu 22.04 Kernel: Depends on container host Compiler: gcc (Ubuntu 11.4.0-1ubuntu1~22.04) 11.4.0 RHEL8 Kernel: Depends on container host Compiler: gcc 8.5.0 20210514 (Red Hat 8.5.0-22) Ubuntu 24.04 Kernel: Depends on container host Compiler: gcc (Ubuntu 13.3.0-6ubuntu2~24.04) 13.3.0 To view detailed results, visit: https://lab.dpdk.org/results/dashboard/patchsets/32608/ UNH-IOL DPDK Community Lab To manage your email subscriptions, visit: https://lab.dpdk.org/results/dashboard/preferences/subscriptions/