From mboxrd@z Thu Jan 1 00:00:00 1970 Return-Path: Received: from mails.dpdk.org (mails.dpdk.org [217.70.189.124]) by inbox.dpdk.org (Postfix) with ESMTP id 148A546262 for ; Wed, 19 Feb 2025 04:39:52 +0100 (CET) Received: from mails.dpdk.org (localhost [127.0.0.1]) by mails.dpdk.org (Postfix) with ESMTP id EA3D240A73; Wed, 19 Feb 2025 04:39:51 +0100 (CET) Received: from mail-yw1-f228.google.com (mail-yw1-f228.google.com [209.85.128.228]) by mails.dpdk.org (Postfix) with ESMTP id 86C214025A for ; Wed, 19 Feb 2025 04:39:50 +0100 (CET) Received: by mail-yw1-f228.google.com with SMTP id 00721157ae682-6f74b78df93so55908417b3.0 for ; Tue, 18 Feb 2025 19:39:50 -0800 (PST) DKIM-Signature: v=1; a=rsa-sha256; c=relaxed/relaxed; d=iol.unh.edu; s=unh-iol; t=1739936389; x=1740541189; darn=dpdk.org; h=references:in-reply-to:cc:to:from:subject:message-id:date:from:to :cc:subject:date:message-id:reply-to; bh=4CY+ZQeBJk1nMqp04jg8c0XhLruGPfK9F4Ws3oeV0KU=; b=LQdHPRrN49RA7OcR9WY7F7GAMjkr8yTs7jm/kPVwFz8A58V4Ij7Znqi7l9j7QG6jYP oOdGC5tqxgK9CMG0NLJodERQYa1ZF5jMWNc/DxsWJov06LqqwlIBtb1ZauNq7gfeNPUA HmQcu/jXyiLO055E+LIH/h3U+/Ip7AIu2PwHE= X-Google-DKIM-Signature: v=1; a=rsa-sha256; c=relaxed/relaxed; d=1e100.net; s=20230601; t=1739936389; x=1740541189; h=references:in-reply-to:cc:to:from:subject:message-id:date :x-gm-message-state:from:to:cc:subject:date:message-id:reply-to; bh=4CY+ZQeBJk1nMqp04jg8c0XhLruGPfK9F4Ws3oeV0KU=; b=Nj69B5P5NLEDx5M+4T3tFpNDeIgn9n4hJQRQY6X0Mzrpgau8GrD2KsCyX1ot0xa/tf g6gKAb6lOkyLiiasWfEvOFrGadlihTauQKKlTrGPnGX2hAOYldCHPFQAnHAGdyOeuS7z eydNSgJAdN8YBJvl8YsbzypaKTjg6TM01p6NJ8I3SEMU1hRrKVEy9QXS8FI+oOR/7oa1 66PRqpj2FWeFHhSwUWSlirpFUpoP0ec2z3/ypkfrxU8lv9iH/pGAKcWe+lB6I0VblVdB i16i7sOM1IqZNpnGlycA89a4iMBXDqT06q4rzPVTdVpruujqRMzzIWzYfsL2vEh3AlrE /+mw== X-Gm-Message-State: AOJu0Yzsa1ElcwfD9qa2+caCjNZgYau9j3n1R2IDYvtafRJJJlaIVFpG d5rJz7Xnp6bZM4Mzov7Ob//qNPcDSgomBahUlMGFgHyT/zZgBABiLEaY3FW9zfwBf3GUXP09V+J O/jG6djlD7xAcPwTivGoMqBOXi8or2fcr62YqphbE X-Gm-Gg: ASbGncsdohDG404jwsJlq2YfkFHJiQ9JBDvRIgjsJ9yDvIi9Dqpvedp5ELj9JURsxwK 2vJP/HoSeUAz2BageUiGa4DM9281/Ky3LnyR8fl/6umI30X6J6SUEXsjUyuGG20rAKh3mbzZ08q zj6kE21opWj6/JvJXYi5TMeTtcc+WD2Za/pUlawx5CBSyRdK0T3Vg7xDDaONS86NQ/RPQDhAbD5 OEv79UaBU6I2AVYL+JUkclf6nqylbjT1gVqvvAeJUMnHiFqU7NyG90V49OQ0dBbxWEMapZ2EES5 RFrZosUamHrHL9WyxPD15dd3vHJN9Q== X-Google-Smtp-Source: AGHT+IEdqgc2v6Jc2ZsYxoatC7rRIExkL2danKcUXbAe5NwrZNrOaOl5Cn9N3eMPhhOhJA+YvnkRCQ8dP/S1 X-Received: by 2002:a05:690c:2789:b0:6fb:9786:5871 with SMTP id 00721157ae682-6fba5649bc1mr21551747b3.7.1739936389723; Tue, 18 Feb 2025 19:39:49 -0800 (PST) Received: from postal.iol.unh.edu (postal.iol.unh.edu. [132.177.123.84]) by smtp-relay.gmail.com with ESMTPS id 00721157ae682-6fb35d118b5sm3343337b3.3.2025.02.18.19.39.49 (version=TLS1_2 cipher=ECDHE-ECDSA-AES128-GCM-SHA256 bits=128/128); Tue, 18 Feb 2025 19:39:49 -0800 (PST) X-Relaying-Domain: iol.unh.edu Date: Tue, 18 Feb 2025 19:39:49 -0800 (PST) Message-ID: <67b55285.050a0220.2983e4.0621SMTPIN_ADDED_MISSING@mx.google.com> Received: from [172.21.0.6] (unknown [172.18.0.240]) by postal.iol.unh.edu (Postfix) with ESMTP id 4EDAE6052471; Tue, 18 Feb 2025 22:39:49 -0500 (EST) Subject: |SUCCESS| pw151607-151611 [PATCH] [v2,5/5] mbuf: enable to be compil From: dpdklab@iol.unh.edu To: Test Report Cc: dpdk-test-reports@iol.unh.edu In-Reply-To: <1739929198-28432-6-git-send-email-andremue@linux.microsoft.com> References: <1739929198-28432-6-git-send-email-andremue@linux.microsoft.com> Content-Type: text/plain X-BeenThere: test-report@dpdk.org X-Mailman-Version: 2.1.29 Precedence: list List-Id: automatic DPDK test reports List-Unsubscribe: , List-Archive: List-Post: List-Help: List-Subscribe: , Errors-To: test-report-bounces@dpdk.org Test-Label: iol-compile-amd64-testing Test-Status: SUCCESS http://dpdk.org/patch/151611 _Testing PASS_ Submitter: Andre Muezerie Date: Wednesday, February 19 2025 01:39:58 DPDK git baseline: Repo:dpdk Branch: master CommitID:e5176f23ae8b31437c3e5eb875c81f95bf3a9942 151607-151611 --> testing pass Upstream job id: Generic-DPDK-Compile-Meson#362832 Test environment and result as below: +---------------------+--------------------+-------------------+------------------+-------------------+-------------------------+----------------------+ | Environment | dpdk_meson_compile | dpdk_compile_spdk | dpdk_compile_ovs | dpdk_msvc_compile | dpdk_llvm_clang_compile | dpdk_mingw64_compile | +=====================+====================+===================+==================+===================+=========================+======================+ | CentOS Stream 9 | PASS | PASS | SKIPPED | SKIPPED | SKIPPED | SKIPPED | +---------------------+--------------------+-------------------+------------------+-------------------+-------------------------+----------------------+ | CentOS Stream 10 | PASS | SKIPPED | SKIPPED | SKIPPED | SKIPPED | SKIPPED | +---------------------+--------------------+-------------------+------------------+-------------------+-------------------------+----------------------+ | Debian Bullseye | PASS | PASS | SKIPPED | SKIPPED | SKIPPED | SKIPPED | +---------------------+--------------------+-------------------+------------------+-------------------+-------------------------+----------------------+ | Debian 12 | PASS | PASS | SKIPPED | SKIPPED | SKIPPED | SKIPPED | +---------------------+--------------------+-------------------+------------------+-------------------+-------------------------+----------------------+ | Fedora 40 (Clang) | PASS | PASS | SKIPPED | SKIPPED | SKIPPED | SKIPPED | +---------------------+--------------------+-------------------+------------------+-------------------+-------------------------+----------------------+ | Fedora 41 | PASS | PASS | PASS | SKIPPED | SKIPPED | SKIPPED | +---------------------+--------------------+-------------------+------------------+-------------------+-------------------------+----------------------+ | Ubuntu 22.04 | PASS | PASS | SKIPPED | SKIPPED | SKIPPED | SKIPPED | +---------------------+--------------------+-------------------+------------------+-------------------+-------------------------+----------------------+ | Fedora 40 | PASS | PASS | SKIPPED | SKIPPED | SKIPPED | SKIPPED | +---------------------+--------------------+-------------------+------------------+-------------------+-------------------------+----------------------+ | Fedora 41 (Clang) | PASS | PASS | PASS | SKIPPED | SKIPPED | SKIPPED | +---------------------+--------------------+-------------------+------------------+-------------------+-------------------------+----------------------+ | RHEL9 | PASS | SKIPPED | SKIPPED | SKIPPED | SKIPPED | SKIPPED | +---------------------+--------------------+-------------------+------------------+-------------------+-------------------------+----------------------+ | Ubuntu 20.04 | PASS | SKIPPED | SKIPPED | SKIPPED | SKIPPED | SKIPPED | +---------------------+--------------------+-------------------+------------------+-------------------+-------------------------+----------------------+ | openSUSE Leap 15 | PASS | SKIPPED | SKIPPED | SKIPPED | SKIPPED | SKIPPED | +---------------------+--------------------+-------------------+------------------+-------------------+-------------------------+----------------------+ | Ubuntu 24.04 | PASS | PASS | PASS | SKIPPED | SKIPPED | SKIPPED | +---------------------+--------------------+-------------------+------------------+-------------------+-------------------------+----------------------+ | FreeBSD 13.4 | PASS | SKIPPED | SKIPPED | SKIPPED | SKIPPED | SKIPPED | +---------------------+--------------------+-------------------+------------------+-------------------+-------------------------+----------------------+ | Alpine | PASS | SKIPPED | SKIPPED | SKIPPED | SKIPPED | SKIPPED | +---------------------+--------------------+-------------------+------------------+-------------------+-------------------------+----------------------+ | FreeBSD 14.2 | PASS | SKIPPED | SKIPPED | SKIPPED | SKIPPED | SKIPPED | +---------------------+--------------------+-------------------+------------------+-------------------+-------------------------+----------------------+ | Windows Server 2022 | SKIPPED | SKIPPED | SKIPPED | PASS | PASS | PASS | +---------------------+--------------------+-------------------+------------------+-------------------+-------------------------+----------------------+ CentOS Stream 9 Kernel: Depends on container host Compiler: gcc 11.5.0 20240719 (Red Hat 11.5.0-2) CentOS Stream 10 Kernel: Depends on container host Compiler: gcc 14.2.1 20241104 (Red Hat 14.2.1-6) Debian Bullseye Kernel: Depends on container host Compiler: gcc (Debian 10.2.1-6) 10.2.1 20210110 Debian 12 Kernel: Depends on container host Compiler: gcc (Debian 12.2.0-14) 12.2.0 Fedora 40 (Clang) Kernel: Depends on container host Compiler: clang 18.1.8 (Fedora 18.1.8-1.fc40) Fedora 41 Kernel: Depends on container host Compiler: gcc 14.2.1 20240912 (Red Hat 14.2.1-3) Ubuntu 22.04 Kernel: Depends on container host Compiler: gcc (Ubuntu 11.4.0-1ubuntu1~22.04) 11.4.0 Fedora 40 Kernel: Depends on container host Compiler: gcc 14.2.1 20240912 (Red Hat 14.2.1-3) Fedora 41 (Clang) Kernel: Depends on container host Compiler: clang 19.1.5 (Fedora 19.1.5-1.fc41) RHEL9 Kernel: Depends on container host Compiler: gcc 11.5.0 20240719 (Red Hat 11.5.0-2) Ubuntu 20.04 Kernel: Depends on container host Compiler: gcc (Ubuntu 9.4.0-1ubuntu1~20.04.2) 9.4.0 openSUSE Leap 15 Kernel: Depends on container host Compiler: gcc (SUSE Linux) 7.5.0 Ubuntu 24.04 Kernel: Depends on container host Compiler: gcc (Ubuntu 13.3.0-6ubuntu2~24.04) 13.3.0 FreeBSD 13.4 Kernel: 13.4-RELEASE-p1 Compiler: clang 18.1.6 Alpine Kernel: Depends on container host Compiler: gcc (Alpine 14.2.0) 14.2.0 FreeBSD 14.2 Kernel: 14.2-RELEASE Compiler: clang 18.1.6 Windows Server 2022 Kernel: 10.0.20348.2031 Compiler: clang 15.0.7, gcc 14.1.0 (MinGW), and MSVC VS 19.39.33521 To view detailed results, visit: https://lab.dpdk.org/results/dashboard/patchsets/32608/ UNH-IOL DPDK Community Lab To manage your email subscriptions, visit: https://lab.dpdk.org/results/dashboard/preferences/subscriptions/