From mboxrd@z Thu Jan 1 00:00:00 1970 Return-Path: Received: from mails.dpdk.org (mails.dpdk.org [217.70.189.124]) by inbox.dpdk.org (Postfix) with ESMTP id 1B87046262 for ; Wed, 19 Feb 2025 04:40:01 +0100 (CET) Received: from mails.dpdk.org (localhost [127.0.0.1]) by mails.dpdk.org (Postfix) with ESMTP id 13E9740A73; Wed, 19 Feb 2025 04:40:01 +0100 (CET) Received: from mail-oa1-f97.google.com (mail-oa1-f97.google.com [209.85.160.97]) by mails.dpdk.org (Postfix) with ESMTP id E163F4025A for ; Wed, 19 Feb 2025 04:39:59 +0100 (CET) Received: by mail-oa1-f97.google.com with SMTP id 586e51a60fabf-2b8e2606a58so3273547fac.0 for ; Tue, 18 Feb 2025 19:39:59 -0800 (PST) DKIM-Signature: v=1; a=rsa-sha256; c=relaxed/relaxed; d=iol.unh.edu; s=unh-iol; t=1739936399; x=1740541199; darn=dpdk.org; h=references:in-reply-to:cc:to:from:subject:message-id:date:from:to :cc:subject:date:message-id:reply-to; bh=m6NaD1cP1CtBoJjdhYJX25ZdP1D7frKfY51FtnWaNXg=; b=GKiNjR2q7tBHS0up5Oc3M9s+kWv1YVLJp9nbuZdesOQHh4xBj7xDDf5gh9Hei/mPEU Jvd1JN1J+axcBbJVFnkQuyn4CJGTLNZtObBF957PLdTFvZ2nMTGkT2aCpu+XQrsAXIsj B5mtxgvcvt2TVQAVfbmhju4jIsXBdUofHVo6M= X-Google-DKIM-Signature: v=1; a=rsa-sha256; c=relaxed/relaxed; d=1e100.net; s=20230601; t=1739936399; x=1740541199; h=references:in-reply-to:cc:to:from:subject:message-id:date :x-gm-message-state:from:to:cc:subject:date:message-id:reply-to; bh=m6NaD1cP1CtBoJjdhYJX25ZdP1D7frKfY51FtnWaNXg=; b=DTH3+yrp3k9Cb4SHTtNu59JWmjOjdBrcHfNqnXQ81GP4+LYhUROhCn2wQuyh78f8Xc HZnM4BaVICIZZEBktZkmqCigU8PBY7Pg5g+Qi8Lh9dKbHdi2K8MRLxv8QZ4GQBmaAECS RkjK6gs3dzKLdfM16Tm44BniUAHdwP/bDeS36dXs29EtJwxDFUlh3Y6JMiWvXyX0nIBY vLG5yiHcfjDfbcXmhtAMbbgz6Sj+Gn90FG5bC5fpHDhi5HyDlpr/BETGPzhrHMmIbqMr usqfFeSsDbUpnKWMMevi8oEyM4hWCeSXDsAOGPLkWn9Y6CO2f2cht/ocTFKeqCSltCRT 7Tkg== X-Gm-Message-State: AOJu0Yyd3uv7GmFgCdulEToInyDht8h+u7UM7Wv3odRpvUDwn/GUorG8 BG4aveaPEABnk3o61NqNjPSAqyXx/LTpsX841sbBSpcHTdy0z8B/N8o4UzQYUKf9PpWNa6Qy++A R6I/OFsP25NxGTs7A/f7zEOX0gqS7ys0x/dtty5KSErFeFXl82Enafbfn X-Gm-Gg: ASbGnctEXiKZNzpWfFFXxNgdco39KTFd3Tcje3EFMmyDytIk74sFuprAhAI4ku04IaM aZM8o5luEvNuWDp9yQmS1eavxb4CVMkbWlv5BJXoeytvYTyTCBktI14LVKkxQ/QFa0HH67g8WeK +xcohkyK0ZfIBcPx02ksnbWLv9HbqEdxjTE9e01ExcrYI3fbCBMOk9+XSXAQ0Hgv4Qtyp3DDVzs daIYN29WMcNn1QYLRWEoLsRiLDShT3qJkt9lXFWRA0mDZw7p4br1yfsRP62GknCqUWL2Rq2rKHC Dd7T8W6K7GANfrOylYebMMHonz79MsAW+uI4fqxRzg== X-Google-Smtp-Source: AGHT+IGnIRmtk/rt3kguecL4cKCDl8JRJvkDQAXN/oAN0ZnnwB2qgRhoaRncYeAtXlek+y1kTZkrIDAAxuoR X-Received: by 2002:a05:6870:5148:b0:2bc:7acb:b073 with SMTP id 586e51a60fabf-2bc99a935c2mr11329276fac.9.1739936399191; Tue, 18 Feb 2025 19:39:59 -0800 (PST) Received: from postal.iol.unh.edu (postal.iol.unh.edu. [2606:4100:3880:1234::84]) by smtp-relay.gmail.com with ESMTPS id 586e51a60fabf-2b95a6c03d5sm718217fac.25.2025.02.18.19.39.59 (version=TLS1_2 cipher=ECDHE-ECDSA-AES128-GCM-SHA256 bits=128/128); Tue, 18 Feb 2025 19:39:59 -0800 (PST) X-Relaying-Domain: iol.unh.edu Date: Tue, 18 Feb 2025 19:39:59 -0800 (PST) Message-ID: <67b5528f.050a0220.106857.2347SMTPIN_ADDED_MISSING@mx.google.com> Received: from [172.21.0.5] (unknown [172.18.0.240]) by postal.iol.unh.edu (Postfix) with ESMTP id A86A36052471; Tue, 18 Feb 2025 22:39:58 -0500 (EST) Subject: |SUCCESS| pw151606 [PATCH] net/netvsc: add stats counters from VF From: dpdklab@iol.unh.edu To: Test Report Cc: dpdk-test-reports@iol.unh.edu In-Reply-To: <1739913199-8988-1-git-send-email-longli@linuxonhyperv.com> References: <1739913199-8988-1-git-send-email-longli@linuxonhyperv.com> Content-Type: text/plain X-BeenThere: test-report@dpdk.org X-Mailman-Version: 2.1.29 Precedence: list List-Id: automatic DPDK test reports List-Unsubscribe: , List-Archive: List-Post: List-Help: List-Subscribe: , Errors-To: test-report-bounces@dpdk.org Test-Label: iol-unit-arm64-testing Test-Status: SUCCESS http://dpdk.org/patch/151606 _Testing PASS_ Submitter: Long Li Date: Tuesday, February 18 2025 21:13:19 DPDK git baseline: Repo:dpdk Branch: master CommitID:968f7b6d7b6a7e60e6e551db430c4eecaccbbfd2 151606 --> testing pass Upstream job id: Generic-Unit-Test-DPDK#316078 Test environment and result as below: +-----------------------------+----------------+--------------+------------------------------+---------------------------+ | Environment | dpdk_unit_test | lpm_autotest | cryptodev_sw_snow3g_autotest | cryptodev_sw_zuc_autotest | +=============================+================+==============+==============================+===========================+ | 32-bit Ubuntu 22.04.4 (ARM) | PASS | SKIPPED | SKIPPED | SKIPPED | +-----------------------------+----------------+--------------+------------------------------+---------------------------+ | Debian 12 (arm) | PASS | SKIPPED | PASS | PASS | +-----------------------------+----------------+--------------+------------------------------+---------------------------+ | CentOS Stream 9 (ARM) | PASS | SKIPPED | SKIPPED | SKIPPED | +-----------------------------+----------------+--------------+------------------------------+---------------------------+ | CentOS Stream 10 (ARM) | PASS | SKIPPED | SKIPPED | SKIPPED | +-----------------------------+----------------+--------------+------------------------------+---------------------------+ | Debian 11 (Buster) (ARM) | PASS | SKIPPED | SKIPPED | SKIPPED | +-----------------------------+----------------+--------------+------------------------------+---------------------------+ | RHEL9 (ARM) | PASS | SKIPPED | SKIPPED | SKIPPED | +-----------------------------+----------------+--------------+------------------------------+---------------------------+ | Fedora 40 (ARM Clang) | PASS | SKIPPED | SKIPPED | SKIPPED | +-----------------------------+----------------+--------------+------------------------------+---------------------------+ | Fedora 40 (ARM) | PASS | SKIPPED | SKIPPED | SKIPPED | +-----------------------------+----------------+--------------+------------------------------+---------------------------+ | Fedora 41 (ARM) | PASS | SKIPPED | SKIPPED | SKIPPED | +-----------------------------+----------------+--------------+------------------------------+---------------------------+ | Ubuntu 20.04 (ARM) | PASS | SKIPPED | SKIPPED | SKIPPED | +-----------------------------+----------------+--------------+------------------------------+---------------------------+ | Fedora 41 (ARM Clang) | PASS | SKIPPED | SKIPPED | SKIPPED | +-----------------------------+----------------+--------------+------------------------------+---------------------------+ | Ubuntu 24.04 (ARM) | PASS | SKIPPED | SKIPPED | SKIPPED | +-----------------------------+----------------+--------------+------------------------------+---------------------------+ | Ubuntu 22.04 (ARM) | PASS | SKIPPED | SKIPPED | SKIPPED | +-----------------------------+----------------+--------------+------------------------------+---------------------------+ | Ubuntu 20.04 ARM SVE | SKIPPED | PASS | SKIPPED | SKIPPED | +-----------------------------+----------------+--------------+------------------------------+---------------------------+ 32-bit Ubuntu 22.04.4 (ARM) Kernel: 5.15.83+ aarch64 Compiler: gcc (Ubuntu 11.4.0-1ubuntu1~22.04) 11.4.0 Debian 12 (arm) Kernel: Depends on container host Compiler: gcc (Debian 12.2.0-14) 12.2.0 CentOS Stream 9 (ARM) Kernel: Depends on container host Compiler: gcc 11.5.0 20240719 (Red Hat 11.5.0-2) CentOS Stream 10 (ARM) Kernel: Depends on container host Compiler: gcc 14.2.1 20241104 (Red Hat 14.2.1-6) Debian 11 (Buster) (ARM) Kernel: Depends on container host Compiler: gcc (Debian 10.2.1-6) 10.2.1 20210110 RHEL9 (ARM) Kernel: Depends on container host Compiler: gcc 11.5.0 20240719 (Red Hat 11.5.0-2) Fedora 40 (ARM Clang) Kernel: Depends on container host Compiler: clang 18.1.8 (Fedora 18.1.8-1.fc40) Fedora 40 (ARM) Kernel: Depends on container host Compiler: gcc 14.2.1 20240912 (Red Hat 14.2.1-3) Fedora 41 (ARM) Kernel: Depends on container host Compiler: gcc 14.2.1 20240912 (Red Hat 14.2.1-3) Ubuntu 20.04 (ARM) Kernel: Depends on container host Compiler: gcc (Ubuntu 9.4.0-1ubuntu1~20.04.2) 9.4.0 Fedora 41 (ARM Clang) Kernel: Depends on container host Compiler: clang 19.1.5 (Fedora 19.1.5-1.fc41) Ubuntu 24.04 (ARM) Kernel: Depends on container host Compiler: gcc (Ubuntu 13.3.0-6ubuntu2~24.04) 13.3.0 Ubuntu 22.04 (ARM) Kernel: Depends on container host Compiler: gcc (Ubuntu 11.4.0-1ubuntu1~22.04) 11.4.0 Ubuntu 20.04 ARM SVE Kernel: Depends on container host Compiler: gcc (Ubuntu 10.5.0-1ubuntu1~20.04) 10.5.0 To view detailed results, visit: https://lab.dpdk.org/results/dashboard/patchsets/32607/ UNH-IOL DPDK Community Lab To manage your email subscriptions, visit: https://lab.dpdk.org/results/dashboard/preferences/subscriptions/