From mboxrd@z Thu Jan 1 00:00:00 1970 Return-Path: Received: from mails.dpdk.org (mails.dpdk.org [217.70.189.124]) by inbox.dpdk.org (Postfix) with ESMTP id 174D046262 for ; Wed, 19 Feb 2025 04:46:47 +0100 (CET) Received: from mails.dpdk.org (localhost [127.0.0.1]) by mails.dpdk.org (Postfix) with ESMTP id E0A1640A73; Wed, 19 Feb 2025 04:46:46 +0100 (CET) Received: from mail-il1-f226.google.com (mail-il1-f226.google.com [209.85.166.226]) by mails.dpdk.org (Postfix) with ESMTP id 77EF54025A for ; Wed, 19 Feb 2025 04:46:45 +0100 (CET) Received: by mail-il1-f226.google.com with SMTP id e9e14a558f8ab-3d2a869d016so4565695ab.0 for ; Tue, 18 Feb 2025 19:46:45 -0800 (PST) DKIM-Signature: v=1; a=rsa-sha256; c=relaxed/relaxed; d=iol.unh.edu; s=unh-iol; t=1739936804; x=1740541604; darn=dpdk.org; h=references:in-reply-to:cc:to:from:subject:message-id:date:from:to :cc:subject:date:message-id:reply-to; bh=sp+CSKeo0DNZhRGbNOkhzP1mwmEw9XnDu/YZ/xyGTiI=; b=P36EkeYLAxCTpi377FZuWbfRvwsgSwj26r2AwmclMv4l9kB9QqDBXbvPggW1f3rS7V WX/jeCashdleC85KWmJZLV5M1FfrIeECvP9EwteqcObKDKGqFfTxcJPoZxtKIv2mih/4 bV/Jyl2oLu7qCkK2YwhcbpJGNgcBEenzn9gZg= X-Google-DKIM-Signature: v=1; a=rsa-sha256; c=relaxed/relaxed; d=1e100.net; s=20230601; t=1739936804; x=1740541604; h=references:in-reply-to:cc:to:from:subject:message-id:date :x-gm-message-state:from:to:cc:subject:date:message-id:reply-to; bh=sp+CSKeo0DNZhRGbNOkhzP1mwmEw9XnDu/YZ/xyGTiI=; b=gBOshGoRsvbIpaLHJ/M3uQutkGY9ajmvsa0rpz52c/j0jbXZ9mTU8B/gFaOUskq4vP 4RmZ+TGvzMjrhkFCwfjgzHEzieDCZhO2c3i96LGmkb9IJ7ocILWIFd/RYweo7azyPm06 0lu5X9HZueEvzLQZWwvvzJgKD7WYxVjLo81N/9IodBJt3X6c4JLhSR0kKp4CC7Z0t+s0 iNKCAe7iM9k/a3bXTVTNu6vWF+CYXAHy09eJn0+75r0H0TitEOINmR7GxSshyr0O9cF7 xVIUVEPXnDjY3qy4ZLjVeM9PRNXfzH86TMro/+eNIMZjt2onofRaq5Rc2bOudbOirKBG EtpQ== X-Gm-Message-State: AOJu0Yyps9lHbsbCe0HHif3QzNhqJgyWreD4Kk1Tp1jjChmjwn+TX3M3 +UepIQg3Y4pOniAvXglAbPHcq1fBx2OCkjWRNq1DlwaDhpdmAZYw3N3Xccr+vSKrS7JERpG6xbg bm3c/Djts/uLfknahVT/KUtRSBr4s3arIPvhQqFYn X-Gm-Gg: ASbGncvshBg688bdQ5ER+kVz1JiLvZ+BWmIF7rZpfeZKu2FOVdaBKF+Zr0ZCFq5cV0Q KYwsv56r2yvCdE2F7y6+1CVLy33xtu3wNVMiyBwJLTdSe7ZcdMGqV74CBRqBKpz9Zq7h8LQEpaE fqx9s0F8Aa6QtRJyKQVQ8gaqqqo7cQ3k/n+8wy9VoX9vHXsdFSYPltKu2ESqJuWoEZwnGPJWuPV o95RWI22nU/sFm0kfjLdTi+MqJn5AyvRInKR21lsccv+ErEE2h7VOCSAaUeQj+BuYc6EnwJPoly Bw5Py6lRfezn549Q9sTwEMVBAxElLg== X-Google-Smtp-Source: AGHT+IGdBPf+R5+GoiQvBIgCgclYMwXpruZnxW/zdZWI1dBNbg91cBAj1A5hczKPpQIfbvKVMaNupMdeozrM X-Received: by 2002:a05:6e02:148a:b0:3cf:bc71:94f5 with SMTP id e9e14a558f8ab-3d2b538c328mr18589845ab.22.1739936804486; Tue, 18 Feb 2025 19:46:44 -0800 (PST) Received: from postal.iol.unh.edu (postal.iol.unh.edu. [132.177.123.84]) by smtp-relay.gmail.com with ESMTPS id e9e14a558f8ab-3d18f9d82d1sm7776325ab.34.2025.02.18.19.46.44 (version=TLS1_2 cipher=ECDHE-ECDSA-AES128-GCM-SHA256 bits=128/128); Tue, 18 Feb 2025 19:46:44 -0800 (PST) X-Relaying-Domain: iol.unh.edu Date: Tue, 18 Feb 2025 19:46:44 -0800 (PST) Message-ID: <67b55424.920a0220.3b52bf.7c46SMTPIN_ADDED_MISSING@mx.google.com> Received: from [172.17.0.5] (unknown [172.18.0.217]) by postal.iol.unh.edu (Postfix) with ESMTP id E3BE56052471; Tue, 18 Feb 2025 22:46:43 -0500 (EST) Subject: |SUCCESS| pw151607-151611 [PATCH] [v2,5/5] mbuf: enable to be compil From: dpdklab@iol.unh.edu To: Test Report Cc: dpdk-test-reports@iol.unh.edu In-Reply-To: <1739929198-28432-6-git-send-email-andremue@linux.microsoft.com> References: <1739929198-28432-6-git-send-email-andremue@linux.microsoft.com> Content-Type: text/plain X-BeenThere: test-report@dpdk.org X-Mailman-Version: 2.1.29 Precedence: list List-Id: automatic DPDK test reports List-Unsubscribe: , List-Archive: List-Post: List-Help: List-Subscribe: , Errors-To: test-report-bounces@dpdk.org Test-Label: iol-compile-arm64-testing Test-Status: SUCCESS http://dpdk.org/patch/151611 _Testing PASS_ Submitter: Andre Muezerie Date: Wednesday, February 19 2025 01:39:58 DPDK git baseline: Repo:dpdk Branch: master CommitID:e5176f23ae8b31437c3e5eb875c81f95bf3a9942 151607-151611 --> testing pass Upstream job id: Generic-DPDK-Compile-Meson#362815 Test environment and result as below: +----------------------------------------+--------------------+ | Environment | dpdk_meson_compile | +========================================+====================+ | RHEL9 (ARM) | PASS | +----------------------------------------+--------------------+ | Ubuntu 20.04 ARM GCC Cross Compile | PASS | +----------------------------------------+--------------------+ | Ubuntu 20.04 ARM SVE | PASS | +----------------------------------------+--------------------+ | Fedora 40 (ARM) | PASS | +----------------------------------------+--------------------+ | Debian 12 with MUSDK | PASS | +----------------------------------------+--------------------+ | Fedora 41 (ARM Clang) | PASS | +----------------------------------------+--------------------+ | Fedora 40 (ARM Clang) | PASS | +----------------------------------------+--------------------+ | Ubuntu 20.04 (ARM) | PASS | +----------------------------------------+--------------------+ | Fedora 41 (ARM) | PASS | +----------------------------------------+--------------------+ | CentOS Stream 9 (ARM) | PASS | +----------------------------------------+--------------------+ | Ubuntu 24.04 (ARM) | PASS | +----------------------------------------+--------------------+ | Ubuntu 22.04 (ARM) | PASS | +----------------------------------------+--------------------+ | Debian 12 (arm) | PASS | +----------------------------------------+--------------------+ | Debian 11 (Buster) (ARM) | PASS | +----------------------------------------+--------------------+ | Ubuntu 20.04 aarch32 GCC Cross Compile | PASS | +----------------------------------------+--------------------+ | Ubuntu 20.04 ARM Clang Cross Compile | PASS | +----------------------------------------+--------------------+ | CentOS Stream 10 (ARM) | PASS | +----------------------------------------+--------------------+ RHEL9 (ARM) Kernel: Depends on container host Compiler: gcc 11.5.0 20240719 (Red Hat 11.5.0-2) Ubuntu 20.04 ARM GCC Cross Compile Kernel: Depends on container host Compiler: aarch64-linux-gnu-gcc (Ubuntu 9.4.0-1ubuntu1~20.04.2) 9.4.0 Ubuntu 20.04 ARM SVE Kernel: Depends on container host Compiler: gcc (Ubuntu 10.5.0-1ubuntu1~20.04) 10.5.0 Fedora 40 (ARM) Kernel: Depends on container host Compiler: gcc 14.2.1 20240912 (Red Hat 14.2.1-3) Debian 12 with MUSDK Kernel: Depends on container host Compiler: gcc (Debian 12.2.0-14) 12.2.0 Fedora 41 (ARM Clang) Kernel: Depends on container host Compiler: clang 19.1.5 (Fedora 19.1.5-1.fc41) Fedora 40 (ARM Clang) Kernel: Depends on container host Compiler: clang 18.1.8 (Fedora 18.1.8-1.fc40) Ubuntu 20.04 (ARM) Kernel: Depends on container host Compiler: gcc (Ubuntu 9.4.0-1ubuntu1~20.04.2) 9.4.0 Fedora 41 (ARM) Kernel: Depends on container host Compiler: gcc 14.2.1 20240912 (Red Hat 14.2.1-3) CentOS Stream 9 (ARM) Kernel: Depends on container host Compiler: gcc 11.5.0 20240719 (Red Hat 11.5.0-2) Ubuntu 24.04 (ARM) Kernel: Depends on container host Compiler: gcc (Ubuntu 13.3.0-6ubuntu2~24.04) 13.3.0 Ubuntu 22.04 (ARM) Kernel: Depends on container host Compiler: gcc (Ubuntu 11.4.0-1ubuntu1~22.04) 11.4.0 Debian 12 (arm) Kernel: Depends on container host Compiler: gcc (Debian 12.2.0-14) 12.2.0 Debian 11 (Buster) (ARM) Kernel: Depends on container host Compiler: gcc (Debian 10.2.1-6) 10.2.1 20210110 Ubuntu 20.04 aarch32 GCC Cross Compile Kernel: Depends on container host Compiler: gcc 9.4.0 Ubuntu 20.04 ARM Clang Cross Compile Kernel: Depends on container host Compiler: clang 10.0.0-4ubuntu1 CentOS Stream 10 (ARM) Kernel: Depends on container host Compiler: gcc 14.2.1 20241104 (Red Hat 14.2.1-6) To view detailed results, visit: https://lab.dpdk.org/results/dashboard/patchsets/32608/ UNH-IOL DPDK Community Lab To manage your email subscriptions, visit: https://lab.dpdk.org/results/dashboard/preferences/subscriptions/