From mboxrd@z Thu Jan 1 00:00:00 1970 Return-Path: Received: from mails.dpdk.org (mails.dpdk.org [217.70.189.124]) by inbox.dpdk.org (Postfix) with ESMTP id 3565B46262 for ; Wed, 19 Feb 2025 05:10:44 +0100 (CET) Received: from mails.dpdk.org (localhost [127.0.0.1]) by mails.dpdk.org (Postfix) with ESMTP id 296DD40A73; Wed, 19 Feb 2025 05:10:44 +0100 (CET) Received: from mail-il1-f226.google.com (mail-il1-f226.google.com [209.85.166.226]) by mails.dpdk.org (Postfix) with ESMTP id 4777D4025A for ; Wed, 19 Feb 2025 05:10:42 +0100 (CET) Received: by mail-il1-f226.google.com with SMTP id e9e14a558f8ab-3ce87d31480so20842025ab.2 for ; Tue, 18 Feb 2025 20:10:42 -0800 (PST) DKIM-Signature: v=1; a=rsa-sha256; c=relaxed/relaxed; d=iol.unh.edu; s=unh-iol; t=1739938241; x=1740543041; darn=dpdk.org; h=references:in-reply-to:cc:to:from:subject:message-id:date:from:to :cc:subject:date:message-id:reply-to; bh=RIDHj7xHUbegoVT0I6TlGGWyeiac2HP7icmrDpPM9+A=; b=d/H1MwwBjbhg7JeCEasSVxkFGBMjGQ06ghzZmmf080knd1/uRQgJtoNj4MmJZF3VLf HMV6+HjMDzMwF9L+U2l8r0allFM6FG220lpYtzvYE/Dov9oMNUOKMm+3RcKnl2KrykOO KxHDl1r43PW+1e7sMphRiMhMX330QGj2gok6k= X-Google-DKIM-Signature: v=1; a=rsa-sha256; c=relaxed/relaxed; d=1e100.net; s=20230601; t=1739938241; x=1740543041; h=references:in-reply-to:cc:to:from:subject:message-id:date :x-gm-message-state:from:to:cc:subject:date:message-id:reply-to; bh=RIDHj7xHUbegoVT0I6TlGGWyeiac2HP7icmrDpPM9+A=; b=tC+rdNMdGRRwEk2VMf8xSI8GZ4ZyzduWXg902NcEsQGMaWgFy1ZOcSgd5Zf/NC6wiz uiJvHs+c5MpyqIAiF9bjm24HM95MJPirCIo69Ex0BwpmJPLO5/YnBk0ZL//0Gez2NpVi yZ7pIkhibOdBB99uFS3mKvleRBCnndRg0fRVbAsYA6ml5AfmiGIf0gNV/ROQwUFBYOua p8pp6VEb6XfGpLr0eZKVPIW9oUeOxYwn4u1FhfbSZjGK1HXvGZBuReqpxdBWU+iu8AkD hXQwMOXGNnpHsIGnagflj03jGlVhUUHRq4iSYT8P4G8nQEZl5vwsULXsRdSq/CRLnaRj kmHw== X-Gm-Message-State: AOJu0Yw61nQu3stnc98rfbPpuAEhzUsvqWtRWuR5FWLL2ojbX5sO4CXp YP3PTpswghXhmepSJk4xRzD1DOpWKiqNqEXARnzRCJD+wZb6IAGiKvnb55fh7uFfn1+UuNwSSa+ EKmU/zTHSyzBqIF8QCAOixt/FceJk3P02GMCdwmQrBZTH7DcpWT8WnYz2 X-Gm-Gg: ASbGncuDNNgb2L7wjCMbd/rBmS2SeL8KPVNnQOowReJFZ06Rcngr2jeHz7w06je9MCz kKRR8B1As2BqpnUWiyl0JBflj/qLx/ASL3Yv8wwI7fGrZr3ifW5Y/XmQy+L15Ny8yIcjKL2Id00 fcxJw6Yxafg7BkfFxrIbw9fb6Bq1jBCA9C5Vw2SP9HAU2IRJFzONcYoIaRGupc8uDrEl40zyDNF NQWlhgaNOxDFuJpZMWkJOzYdrw2Uj2j96MFmGaLx9Vi+TgIP3aZBpq35gn9VYyy5fHVmBaD8jNf y1qesI0/gUAY6N3GYm8gJjfkc9DeV6xLa1pmMabpBw== X-Google-Smtp-Source: AGHT+IH8UfNRMKgrly9WCQCUCpzD1MOFbsZKxpkLd1dtfnbuSUketN/rgJogvxWSLG5upyWsR5kfJ8Fs2scQ X-Received: by 2002:a05:6e02:1b09:b0:3cf:c7d3:e4b with SMTP id e9e14a558f8ab-3d280919df3mr188258005ab.21.1739938241509; Tue, 18 Feb 2025 20:10:41 -0800 (PST) Received: from postal.iol.unh.edu (postal.iol.unh.edu. [2606:4100:3880:1234::84]) by smtp-relay.gmail.com with ESMTPS id 8926c6da1cb9f-4eea95b7d6dsm233094173.2.2025.02.18.20.10.41 (version=TLS1_2 cipher=ECDHE-ECDSA-AES128-GCM-SHA256 bits=128/128); Tue, 18 Feb 2025 20:10:41 -0800 (PST) X-Relaying-Domain: iol.unh.edu Date: Tue, 18 Feb 2025 20:10:41 -0800 (PST) Message-ID: <67b559c1.050a0220.1f33aa.b764SMTPIN_ADDED_MISSING@mx.google.com> Received: from [172.17.0.4] (unknown [172.18.0.217]) by postal.iol.unh.edu (Postfix) with ESMTP id 0C0A76052471; Tue, 18 Feb 2025 23:10:41 -0500 (EST) Subject: |SUCCESS| pw151606 [PATCH] net/netvsc: add stats counters from VF From: dpdklab@iol.unh.edu To: Test Report Cc: dpdk-test-reports@iol.unh.edu In-Reply-To: <1739913199-8988-1-git-send-email-longli@linuxonhyperv.com> References: <1739913199-8988-1-git-send-email-longli@linuxonhyperv.com> Content-Type: text/plain X-BeenThere: test-report@dpdk.org X-Mailman-Version: 2.1.29 Precedence: list List-Id: automatic DPDK test reports List-Unsubscribe: , List-Archive: List-Post: List-Help: List-Subscribe: , Errors-To: test-report-bounces@dpdk.org Test-Label: iol-compile-amd64-testing Test-Status: SUCCESS http://dpdk.org/patch/151606 _Testing PASS_ Submitter: Long Li Date: Tuesday, February 18 2025 21:13:19 DPDK git baseline: Repo:dpdk Branch: master CommitID:968f7b6d7b6a7e60e6e551db430c4eecaccbbfd2 151606 --> testing pass Upstream job id: Generic-DPDK-Compile-Meson#362847 Test environment and result as below: +---------------------+--------------------+-------------------+------------------+-------------------+-------------------------+----------------------+ | Environment | dpdk_meson_compile | dpdk_compile_spdk | dpdk_compile_ovs | dpdk_msvc_compile | dpdk_llvm_clang_compile | dpdk_mingw64_compile | +=====================+====================+===================+==================+===================+=========================+======================+ | CentOS Stream 9 | PASS | PASS | SKIPPED | SKIPPED | SKIPPED | SKIPPED | +---------------------+--------------------+-------------------+------------------+-------------------+-------------------------+----------------------+ | CentOS Stream 10 | PASS | SKIPPED | SKIPPED | SKIPPED | SKIPPED | SKIPPED | +---------------------+--------------------+-------------------+------------------+-------------------+-------------------------+----------------------+ | Debian Bullseye | PASS | PASS | SKIPPED | SKIPPED | SKIPPED | SKIPPED | +---------------------+--------------------+-------------------+------------------+-------------------+-------------------------+----------------------+ | Fedora 40 (Clang) | PASS | PASS | SKIPPED | SKIPPED | SKIPPED | SKIPPED | +---------------------+--------------------+-------------------+------------------+-------------------+-------------------------+----------------------+ | Debian 12 | PASS | PASS | SKIPPED | SKIPPED | SKIPPED | SKIPPED | +---------------------+--------------------+-------------------+------------------+-------------------+-------------------------+----------------------+ | Fedora 40 | PASS | PASS | SKIPPED | SKIPPED | SKIPPED | SKIPPED | +---------------------+--------------------+-------------------+------------------+-------------------+-------------------------+----------------------+ | Fedora 41 | PASS | PASS | PASS | SKIPPED | SKIPPED | SKIPPED | +---------------------+--------------------+-------------------+------------------+-------------------+-------------------------+----------------------+ | Fedora 41 (Clang) | PASS | PASS | PASS | SKIPPED | SKIPPED | SKIPPED | +---------------------+--------------------+-------------------+------------------+-------------------+-------------------------+----------------------+ | openSUSE Leap 15 | PASS | SKIPPED | SKIPPED | SKIPPED | SKIPPED | SKIPPED | +---------------------+--------------------+-------------------+------------------+-------------------+-------------------------+----------------------+ | RHEL9 | PASS | SKIPPED | SKIPPED | SKIPPED | SKIPPED | SKIPPED | +---------------------+--------------------+-------------------+------------------+-------------------+-------------------------+----------------------+ | RHEL8 | PASS | SKIPPED | SKIPPED | SKIPPED | SKIPPED | SKIPPED | +---------------------+--------------------+-------------------+------------------+-------------------+-------------------------+----------------------+ | Ubuntu 24.04 | PASS | PASS | PASS | SKIPPED | SKIPPED | SKIPPED | +---------------------+--------------------+-------------------+------------------+-------------------+-------------------------+----------------------+ | Ubuntu 22.04 | PASS | PASS | SKIPPED | SKIPPED | SKIPPED | SKIPPED | +---------------------+--------------------+-------------------+------------------+-------------------+-------------------------+----------------------+ | Alpine | PASS | SKIPPED | SKIPPED | SKIPPED | SKIPPED | SKIPPED | +---------------------+--------------------+-------------------+------------------+-------------------+-------------------------+----------------------+ | FreeBSD 13.4 | PASS | SKIPPED | SKIPPED | SKIPPED | SKIPPED | SKIPPED | +---------------------+--------------------+-------------------+------------------+-------------------+-------------------------+----------------------+ | FreeBSD 14.2 | PASS | SKIPPED | SKIPPED | SKIPPED | SKIPPED | SKIPPED | +---------------------+--------------------+-------------------+------------------+-------------------+-------------------------+----------------------+ | Ubuntu 20.04 | PASS | SKIPPED | SKIPPED | SKIPPED | SKIPPED | SKIPPED | +---------------------+--------------------+-------------------+------------------+-------------------+-------------------------+----------------------+ | Windows Server 2022 | SKIPPED | SKIPPED | SKIPPED | PASS | PASS | PASS | +---------------------+--------------------+-------------------+------------------+-------------------+-------------------------+----------------------+ CentOS Stream 9 Kernel: Depends on container host Compiler: gcc 11.5.0 20240719 (Red Hat 11.5.0-2) CentOS Stream 10 Kernel: Depends on container host Compiler: gcc 14.2.1 20241104 (Red Hat 14.2.1-6) Debian Bullseye Kernel: Depends on container host Compiler: gcc (Debian 10.2.1-6) 10.2.1 20210110 Fedora 40 (Clang) Kernel: Depends on container host Compiler: clang 18.1.8 (Fedora 18.1.8-1.fc40) Debian 12 Kernel: Depends on container host Compiler: gcc (Debian 12.2.0-14) 12.2.0 Fedora 40 Kernel: Depends on container host Compiler: gcc 14.2.1 20240912 (Red Hat 14.2.1-3) Fedora 41 Kernel: Depends on container host Compiler: gcc 14.2.1 20240912 (Red Hat 14.2.1-3) Fedora 41 (Clang) Kernel: Depends on container host Compiler: clang 19.1.5 (Fedora 19.1.5-1.fc41) openSUSE Leap 15 Kernel: Depends on container host Compiler: gcc (SUSE Linux) 7.5.0 RHEL9 Kernel: Depends on container host Compiler: gcc 11.5.0 20240719 (Red Hat 11.5.0-2) RHEL8 Kernel: Depends on container host Compiler: gcc 8.5.0 20210514 (Red Hat 8.5.0-22) Ubuntu 24.04 Kernel: Depends on container host Compiler: gcc (Ubuntu 13.3.0-6ubuntu2~24.04) 13.3.0 Ubuntu 22.04 Kernel: Depends on container host Compiler: gcc (Ubuntu 11.4.0-1ubuntu1~22.04) 11.4.0 Alpine Kernel: Depends on container host Compiler: gcc (Alpine 14.2.0) 14.2.0 FreeBSD 13.4 Kernel: 13.4-RELEASE-p1 Compiler: clang 18.1.6 FreeBSD 14.2 Kernel: 14.2-RELEASE Compiler: clang 18.1.6 Ubuntu 20.04 Kernel: Depends on container host Compiler: gcc (Ubuntu 9.4.0-1ubuntu1~20.04.2) 9.4.0 Windows Server 2022 Kernel: 10.0.20348.2031 Compiler: clang 15.0.7, gcc 14.1.0 (MinGW), and MSVC VS 19.39.33521 To view detailed results, visit: https://lab.dpdk.org/results/dashboard/patchsets/32607/ UNH-IOL DPDK Community Lab To manage your email subscriptions, visit: https://lab.dpdk.org/results/dashboard/preferences/subscriptions/