From mboxrd@z Thu Jan 1 00:00:00 1970 Return-Path: Received: from mails.dpdk.org (mails.dpdk.org [217.70.189.124]) by inbox.dpdk.org (Postfix) with ESMTP id E7E1F46262 for ; Wed, 19 Feb 2025 05:48:16 +0100 (CET) Received: from mails.dpdk.org (localhost [127.0.0.1]) by mails.dpdk.org (Postfix) with ESMTP id A59A540A73; Wed, 19 Feb 2025 05:48:16 +0100 (CET) Received: from mail-pl1-f225.google.com (mail-pl1-f225.google.com [209.85.214.225]) by mails.dpdk.org (Postfix) with ESMTP id 0EC3A4025A for ; Wed, 19 Feb 2025 05:48:15 +0100 (CET) Received: by mail-pl1-f225.google.com with SMTP id d9443c01a7336-220e989edb6so127356865ad.1 for ; Tue, 18 Feb 2025 20:48:14 -0800 (PST) DKIM-Signature: v=1; a=rsa-sha256; c=relaxed/relaxed; d=iol.unh.edu; s=unh-iol; t=1739940494; x=1740545294; darn=dpdk.org; h=references:in-reply-to:cc:to:from:subject:message-id:date:from:to :cc:subject:date:message-id:reply-to; bh=MNCSazO5FYMwMdO9pqDj49tAjXUHauCNLahunsKfj4k=; b=VzaYDZnuUndXI3tXc1nCPZV2VPiv5pV21nv4996fammRLUILbtCzmua2FNW1Huhf2j lo6kEER8wnnpMD+3nQZEc40BSKOOj5cTJMNi15sLPwO0fc3XawtxwmS2zsImjFmcH8NM xMrU6ujSMQk8pr35/ovxtf9VOEiQaMEfDTZh0= X-Google-DKIM-Signature: v=1; a=rsa-sha256; c=relaxed/relaxed; d=1e100.net; s=20230601; t=1739940494; x=1740545294; h=references:in-reply-to:cc:to:from:subject:message-id:date :x-gm-message-state:from:to:cc:subject:date:message-id:reply-to; bh=MNCSazO5FYMwMdO9pqDj49tAjXUHauCNLahunsKfj4k=; b=snLZFPO2iSNzxu5LUYTnXLzBaM5t9HfP7F/kHiQCKiMWDzCeJqjQGyzXsVBdySUf6/ Y/GxuSYDJ4UnLaXqNXFDYG/wL5IWxIyNVYBdTDbfy3Gpp9JL2t0ECZzUh38ujFmBk2Mk 9W+V0Jy3g/Dh62T6U9IjdG3f3mEyRJIN/n9zLYCtm9MMFEGhZC8A+ERUIltIhNmFFckh YEm+NpOhDpIEMVpA24ZneRzCIxhOeIoDLXqLT18FpfKK2Y0KEFr1tiPf4THiPveG4CuJ gakndfATTw8yM7z+JaF2BbkS/kzFu9OJl68IMoWJ5PrqyBRfdHTx/7n7gNOotIGqPhOL 84uA== X-Gm-Message-State: AOJu0Yx7gWSc1wlqyVAZoDcswtqiDUjkFB0CYqlAlKaaseGqsZ1nb+rT gSH+b4YqAVqto2JIX7q9Yh/7iWqLnPsl99OW50E0wgpceu1PXjdiv/aiORL71tS4I+0h9vLovnt JGLj2qEEvO+bPt/KYGoScrXcDiBwPfwA+JODLquxS X-Gm-Gg: ASbGncuQKtxTAv8uJdDbKV/J0rc+O+WzXyh0eR9JKXp9ZWYS0peY2J9aYDpiraFLUns zpbZOslUyk9rKX0GMkCluZImWDYdmG7XJdrn/LGyt8QT1+FWuO8ynFVOYhfZ3U7PEdjmQqLZ5H5 d6HqIm6R6OPNf6UenuY/1gggSazmF4yQ0Vi+SxQcaGK4JRraF/d/n4+VmMp16cPz1sJVE5YXQJ3 MexkSzzzmRLi/VuA6c/3z9BGD3FGtsPfhoW19ZSzwKXbTImCw8VgjFd0YvxKteZoNdSNJS7g7CN A0cyVDxc6WJke8QT7LTYK3/sXSUgIw== X-Google-Smtp-Source: AGHT+IHCltGH2MrRBn1gQ5UaLbGTV7Sh2rFFPg12Cs8b6n6JsMfYkRr/bqCGbABWRtyq0U1h27pp1utkZnY0 X-Received: by 2002:a05:6a20:1592:b0:1ee:c6bf:7c59 with SMTP id adf61e73a8af0-1eec6bf7ec0mr10853509637.23.1739940494043; Tue, 18 Feb 2025 20:48:14 -0800 (PST) Received: from postal.iol.unh.edu (postal.iol.unh.edu. [132.177.123.84]) by smtp-relay.gmail.com with ESMTPS id d2e1a72fcca58-7325b336950sm714841b3a.7.2025.02.18.20.48.13 (version=TLS1_2 cipher=ECDHE-ECDSA-AES128-GCM-SHA256 bits=128/128); Tue, 18 Feb 2025 20:48:14 -0800 (PST) X-Relaying-Domain: iol.unh.edu Date: Tue, 18 Feb 2025 20:48:14 -0800 (PST) Message-ID: <67b5628e.050a0220.198140.1babSMTPIN_ADDED_MISSING@mx.google.com> Received: from [172.17.0.3] (unknown [172.18.0.217]) by postal.iol.unh.edu (Postfix) with ESMTP id 3D3036052471; Tue, 18 Feb 2025 23:48:13 -0500 (EST) Subject: |SUCCESS| pw151606 [PATCH] net/netvsc: add stats counters from VF From: dpdklab@iol.unh.edu To: Test Report Cc: dpdk-test-reports@iol.unh.edu In-Reply-To: <1739913199-8988-1-git-send-email-longli@linuxonhyperv.com> References: <1739913199-8988-1-git-send-email-longli@linuxonhyperv.com> Content-Type: text/plain X-BeenThere: test-report@dpdk.org X-Mailman-Version: 2.1.29 Precedence: list List-Id: automatic DPDK test reports List-Unsubscribe: , List-Archive: List-Post: List-Help: List-Subscribe: , Errors-To: test-report-bounces@dpdk.org Test-Label: iol-compile-arm64-testing Test-Status: SUCCESS http://dpdk.org/patch/151606 _Testing PASS_ Submitter: Long Li Date: Tuesday, February 18 2025 21:13:19 DPDK git baseline: Repo:dpdk Branch: master CommitID:968f7b6d7b6a7e60e6e551db430c4eecaccbbfd2 151606 --> testing pass Upstream job id: Generic-DPDK-Compile-Meson#362862 Test environment and result as below: +----------------------------------------+--------------------+ | Environment | dpdk_meson_compile | +========================================+====================+ | RHEL9 (ARM) | PASS | +----------------------------------------+--------------------+ | Ubuntu 20.04 ARM GCC Cross Compile | PASS | +----------------------------------------+--------------------+ | Ubuntu 20.04 ARM SVE | PASS | +----------------------------------------+--------------------+ | Debian 12 with MUSDK | PASS | +----------------------------------------+--------------------+ | Fedora 40 (ARM) | PASS | +----------------------------------------+--------------------+ | Fedora 40 (ARM Clang) | PASS | +----------------------------------------+--------------------+ | Fedora 41 (ARM) | PASS | +----------------------------------------+--------------------+ | Ubuntu 22.04 (ARM) | PASS | +----------------------------------------+--------------------+ | Fedora 41 (ARM Clang) | PASS | +----------------------------------------+--------------------+ | Ubuntu 24.04 (ARM) | PASS | +----------------------------------------+--------------------+ | Debian 12 (arm) | PASS | +----------------------------------------+--------------------+ | CentOS Stream 9 (ARM) | PASS | +----------------------------------------+--------------------+ | Debian 11 (Buster) (ARM) | PASS | +----------------------------------------+--------------------+ | CentOS Stream 10 (ARM) | PASS | +----------------------------------------+--------------------+ | Ubuntu 20.04 ARM Clang Cross Compile | PASS | +----------------------------------------+--------------------+ | Ubuntu 20.04 aarch32 GCC Cross Compile | PASS | +----------------------------------------+--------------------+ | Ubuntu 20.04 (ARM) | PASS | +----------------------------------------+--------------------+ RHEL9 (ARM) Kernel: Depends on container host Compiler: gcc 11.5.0 20240719 (Red Hat 11.5.0-2) Ubuntu 20.04 ARM GCC Cross Compile Kernel: Depends on container host Compiler: aarch64-linux-gnu-gcc (Ubuntu 9.4.0-1ubuntu1~20.04.2) 9.4.0 Ubuntu 20.04 ARM SVE Kernel: Depends on container host Compiler: gcc (Ubuntu 10.5.0-1ubuntu1~20.04) 10.5.0 Debian 12 with MUSDK Kernel: Depends on container host Compiler: gcc (Debian 12.2.0-14) 12.2.0 Fedora 40 (ARM) Kernel: Depends on container host Compiler: gcc 14.2.1 20240912 (Red Hat 14.2.1-3) Fedora 40 (ARM Clang) Kernel: Depends on container host Compiler: clang 18.1.8 (Fedora 18.1.8-1.fc40) Fedora 41 (ARM) Kernel: Depends on container host Compiler: gcc 14.2.1 20240912 (Red Hat 14.2.1-3) Ubuntu 22.04 (ARM) Kernel: Depends on container host Compiler: gcc (Ubuntu 11.4.0-1ubuntu1~22.04) 11.4.0 Fedora 41 (ARM Clang) Kernel: Depends on container host Compiler: clang 19.1.5 (Fedora 19.1.5-1.fc41) Ubuntu 24.04 (ARM) Kernel: Depends on container host Compiler: gcc (Ubuntu 13.3.0-6ubuntu2~24.04) 13.3.0 Debian 12 (arm) Kernel: Depends on container host Compiler: gcc (Debian 12.2.0-14) 12.2.0 CentOS Stream 9 (ARM) Kernel: Depends on container host Compiler: gcc 11.5.0 20240719 (Red Hat 11.5.0-2) Debian 11 (Buster) (ARM) Kernel: Depends on container host Compiler: gcc (Debian 10.2.1-6) 10.2.1 20210110 CentOS Stream 10 (ARM) Kernel: Depends on container host Compiler: gcc 14.2.1 20241104 (Red Hat 14.2.1-6) Ubuntu 20.04 ARM Clang Cross Compile Kernel: Depends on container host Compiler: clang 10.0.0-4ubuntu1 Ubuntu 20.04 aarch32 GCC Cross Compile Kernel: Depends on container host Compiler: gcc 9.4.0 Ubuntu 20.04 (ARM) Kernel: Depends on container host Compiler: gcc (Ubuntu 9.4.0-1ubuntu1~20.04.2) 9.4.0 To view detailed results, visit: https://lab.dpdk.org/results/dashboard/patchsets/32607/ UNH-IOL DPDK Community Lab To manage your email subscriptions, visit: https://lab.dpdk.org/results/dashboard/preferences/subscriptions/