From mboxrd@z Thu Jan 1 00:00:00 1970 Return-Path: Received: from mails.dpdk.org (mails.dpdk.org [217.70.189.124]) by inbox.dpdk.org (Postfix) with ESMTP id 0EF3846263 for ; Wed, 19 Feb 2025 07:53:27 +0100 (CET) Received: from mails.dpdk.org (localhost [127.0.0.1]) by mails.dpdk.org (Postfix) with ESMTP id DB5CC4028B; Wed, 19 Feb 2025 07:53:26 +0100 (CET) Received: from mail-yw1-f228.google.com (mail-yw1-f228.google.com [209.85.128.228]) by mails.dpdk.org (Postfix) with ESMTP id 7A2184025A for ; Wed, 19 Feb 2025 07:53:25 +0100 (CET) Received: by mail-yw1-f228.google.com with SMTP id 00721157ae682-6f4b266d333so45788507b3.2 for ; Tue, 18 Feb 2025 22:53:25 -0800 (PST) DKIM-Signature: v=1; a=rsa-sha256; c=relaxed/relaxed; d=iol.unh.edu; s=unh-iol; t=1739948004; x=1740552804; darn=dpdk.org; h=cc:to:from:subject:message-id:date:from:to:cc:subject:date :message-id:reply-to; bh=t/YtCtfv4bepdjG/mURuRdh3a5qyBLAgj2JD4MdZjgM=; b=VgaHO6DWJ4lqg3p7au1x6cxRoNWrSxzXkfBBShiEOI6Sj7yZ6d3UzerItK7xQ8ah+7 id8TJLpBjpb78+ABXk9HboRZthqIQOKUhATEK8S25hTDIeg4gIm776glThGkRckYkzu4 Z7PfJNTGL7nHgO/YcBFqtKfkIbWTuIYXyfE4I= X-Google-DKIM-Signature: v=1; a=rsa-sha256; c=relaxed/relaxed; d=1e100.net; s=20230601; t=1739948004; x=1740552804; h=cc:to:from:subject:message-id:date:x-gm-message-state:from:to:cc :subject:date:message-id:reply-to; bh=t/YtCtfv4bepdjG/mURuRdh3a5qyBLAgj2JD4MdZjgM=; b=K73TyAaoHolYfI6pec7K3i2dTNgf8ZSW7EZezd4ScsVMeIdo2Q3XhlA0ECetjlZpuK Etnhq3hJ4PsL4exEDgUHaCu0iJ8MYyNff2oPLIh4AmXRUZ7qe8v+2776jazXKFnjcYxb wy2H0uKFLMA3ldmkE2myNQV0z44Sn82Bu4U2CbGgdO4YdQR45aF67OpwQ4lRv3F9OryX HPrDqYfJU8U2XIwQxlG8/vE7IKpedrYxcb4A+UO/vWDFzKMROixDe8p3nFncmNpnt5Ol 7lWUzIyLEGEx/vaxT3wHd5EQlcIM5e94e8Xv/wIKvgfScSCTuNYcaMzsz35TcyJRN76C 8jBw== X-Gm-Message-State: AOJu0YxDrfp5aXeAuX91rx/J+0QvyxTTQEjYW5bRBlkX9JuxTPSWqkox mG2ZuSr9hyBP9nQkgraKCCBmb0wQW4dqXg03vprjBAnIonSv+gmmjHFa0ig4sa+upUBcuTMHcz1 ILkjkIOStNGpr4ZrNU1OqUJI/Lc9YKCT1 X-Gm-Gg: ASbGncsu0M2Ks7B1IxmmXhYNgeUywMGS5AsHtn3arAy/HVSQTBSxUkJPRpQQP8IjxPr IIl31eFDPJrR7zheLM1YOw/muwbtxm5JZnmwEbXrCSRD+zmckY3t5wdVhb+qNqPtPm0uDGVy+3C kdgmKj7nlkAhEmpVuGotb4f0q3tvy6HHjKuquD3aoqKjF+vwEO4XWydazdBNSYvvlNk3qP7WBYJ qJyCwVRG3G4Hdf2OwDOT110tySK9iVWTSEdJCZwoOedz5qHM7EtzBj0IJ4mothWz/7mJPlDi8u2 HHGYrpVGR0k9C0XRTvwRuLoUti5itw== X-Google-Smtp-Source: AGHT+IF2aKZmJQZbuv99+DFCcf5EfEchbSQcWdwKtLqDjvj3jXHMKGZuq+D9O0Kp9TdlOApPyQIm7Fm0k3ya X-Received: by 2002:a05:690c:380a:b0:6ef:5013:bfd9 with SMTP id 00721157ae682-6fb5829bc83mr150422117b3.10.1739948004607; Tue, 18 Feb 2025 22:53:24 -0800 (PST) Received: from postal.iol.unh.edu (postal.iol.unh.edu. [132.177.123.84]) by smtp-relay.gmail.com with ESMTPS id 00721157ae682-6fb3617a66asm2883637b3.57.2025.02.18.22.53.24 (version=TLS1_2 cipher=ECDHE-ECDSA-AES128-GCM-SHA256 bits=128/128); Tue, 18 Feb 2025 22:53:24 -0800 (PST) X-Relaying-Domain: iol.unh.edu Date: Tue, 18 Feb 2025 22:53:24 -0800 (PST) Message-ID: <67b57fe4.050a0220.121a96.d128SMTPIN_ADDED_MISSING@mx.google.com> Received: from [172.21.0.8] (unknown [172.18.0.240]) by postal.iol.unh.edu (Postfix) with ESMTP id 36A4D6052471; Wed, 19 Feb 2025 01:53:24 -0500 (EST) Subject: |SUCCESS| [GIT MASTER] f2eea2f37a82bb73fb01d56350708f7d70e21379 From: dpdklab@iol.unh.edu To: Test Report Cc: dpdk-test-reports@iol.unh.edu, Xueming Li , Christian Ehrhardt , Kevin Traynor , Luca Boccassi Content-Type: text/plain X-BeenThere: test-report@dpdk.org X-Mailman-Version: 2.1.29 Precedence: list List-Id: automatic DPDK test reports List-Unsubscribe: , List-Archive: List-Post: List-Help: List-Subscribe: , Errors-To: test-report-bounces@dpdk.org _Testing PASS_ Branch: tags/v24.11 f2eea2f37a82bb73fb01d56350708f7d70e21379 --> testing pass Upstream job id: ACVP-FIPS-testing#8956 Test environment and result as below: +--------------------+----------------------+----------------------+ | Environment | compressdev_zlib_pmd | dpdk_fips_validation | +====================+======================+======================+ | Ubuntu 22.04 (ARM) | PASS | SKIPPED | +--------------------+----------------------+----------------------+ | Ubuntu 22.04 | PASS | SKIPPED | +--------------------+----------------------+----------------------+ | Ubuntu 20.04 | SKIPPED | PASS | +--------------------+----------------------+----------------------+ Ubuntu 22.04 (ARM) Kernel: 5.15.0-97-generic Compiler: gcc gcc (Ubuntu 11.4.0-1ubuntu1~22.04) 11.4.0 Ubuntu 22.04 Kernel: 5.15.0-100-generic Compiler: gcc gcc (Ubuntu 11.4.0-1ubuntu1~22.04) 11.4.0 Ubuntu 20.04 Kernel: Depends on container host Compiler: gcc (Ubuntu 9.4.0-1ubuntu1~20.04.2) 9.4.0 To view detailed results, visit: https://lab.dpdk.org/results/dashboard/tarballs/32619/ UNH-IOL DPDK Community Lab To manage your email subscriptions, visit: https://lab.dpdk.org/results/dashboard/preferences/subscriptions/