From mboxrd@z Thu Jan 1 00:00:00 1970 Return-Path: Received: from mails.dpdk.org (mails.dpdk.org [217.70.189.124]) by inbox.dpdk.org (Postfix) with ESMTP id 641BF46265 for ; Wed, 19 Feb 2025 09:32:43 +0100 (CET) Received: from mails.dpdk.org (localhost [127.0.0.1]) by mails.dpdk.org (Postfix) with ESMTP id 4DBE64028B; Wed, 19 Feb 2025 09:32:43 +0100 (CET) Received: from mail-il1-f228.google.com (mail-il1-f228.google.com [209.85.166.228]) by mails.dpdk.org (Postfix) with ESMTP id 0DFFA4025A for ; Wed, 19 Feb 2025 09:32:42 +0100 (CET) Received: by mail-il1-f228.google.com with SMTP id e9e14a558f8ab-3cf8e017abcso19661915ab.1 for ; Wed, 19 Feb 2025 00:32:42 -0800 (PST) DKIM-Signature: v=1; a=rsa-sha256; c=relaxed/relaxed; d=iol.unh.edu; s=unh-iol; t=1739953961; x=1740558761; darn=dpdk.org; h=cc:to:from:subject:message-id:date:from:to:cc:subject:date :message-id:reply-to; bh=q32m6usYkZF0imNl6Ld7IgYa0V4j2cr1fTrOjZnbR2U=; b=UEtA3gQVEl3flOs2dq6cP45bLr67w7q6pBoenabLFb9Zd37VFM+ZwZg9ASDad+IgBr tHzfXLu5Z78dEFBuKMdKF81wTE+Q2pxUOY7OFtyT+LPCHy6Dm7zts4VJNqOOpggDFJNL ynt5Xqp7wzVODre93nIekftrxc3VQjsn2nC1o= X-Google-DKIM-Signature: v=1; a=rsa-sha256; c=relaxed/relaxed; d=1e100.net; s=20230601; t=1739953961; x=1740558761; h=cc:to:from:subject:message-id:date:x-gm-message-state:from:to:cc :subject:date:message-id:reply-to; bh=q32m6usYkZF0imNl6Ld7IgYa0V4j2cr1fTrOjZnbR2U=; b=PQY8EIOVJH94YZsI3ehpWA1e0t+zwrWJUupVjGp0CUc1LKJsT0QGGjSuXLEgMYTC6e qO4SXSDs8tInixGT5zNjydx4tJu5VcXFx5QdDOlJekq7Emz6JswpqSuF1y4pmAF63O94 oIQdqqeCiug8WMx1nsBaqos8XgPBTYVqXfagbJfuFT7QUzPzWKXnBkLKT4PYXORH+kRC tSp/TrEhs1TSDgz/rU1mVHvrJJ26440R2y02lknqOVh+46JBuPdRtVxIb11I2v+oRtiW 6nE4PZCAtpM9qamFEunJpiR3t7lBkr++3rkWG7rJAUz5gOot8xxDT9GCIMF39j0a+ZcA 4T6g== X-Gm-Message-State: AOJu0Yw9/+Y9skNaTrDyUSVwghr58DrVU4tAKH4nTWEbgesCvOsishQT 6SnbOfHQF+CLEShjwtNMD9BzQAEBEmPbAH1LQQi4OoQOlgUxZf9dD+ik/wZhLGCpX8oo8DRCV7a 1JGGWp/4jWnOjMJVuEKF1fxV6P3FOh4FN+Gj1KG7sSOEwX8yS X-Gm-Gg: ASbGncvWcs7i+FsB2HaAtBm3uxflqz/LSgsyXRzzYadugGQKA12gtMJ9rNmlq/NjQGd +l7D1p1Dx/SvxixaLlH9uztFWFWHBcAF1Z7iqb+nqaNeTNAFiCnSxuIrlVnUrMQmm/LvAel+IH0 n40lhVbz0OuXT/i00QvaZJjQdCsijUbidn9617tuvekX3wUhBcEcfuuoYi4cvF0QRVXw9M2vIBi jeSGHIscImn5gtYZ6TboHCSocNlaiG9UubfkSHS9TDvI66UJzv0rzkTRaZzTeoNcs2BTjQynU8h uVl2j8/nmYPbYTLKVKpVt/ybrUqovcsTGluLVnktzw== X-Google-Smtp-Source: AGHT+IGWJfF44P/HvMX9LCXW5GWS0CPA+ub78+vU9iXuoHzgbYUT9rnqW3fQy8gUznqcmmEPUtYyCdOyXQ/f X-Received: by 2002:a05:6e02:4811:b0:3d2:b0f1:f5bd with SMTP id e9e14a558f8ab-3d2b0f1f6e7mr38382245ab.3.1739953960903; Wed, 19 Feb 2025 00:32:40 -0800 (PST) Received: from postal.iol.unh.edu (postal.iol.unh.edu. [2606:4100:3880:1234::84]) by smtp-relay.gmail.com with ESMTPS id e9e14a558f8ab-3d18fb7c5fbsm7792705ab.46.2025.02.19.00.32.40 (version=TLS1_2 cipher=ECDHE-ECDSA-AES128-GCM-SHA256 bits=128/128); Wed, 19 Feb 2025 00:32:40 -0800 (PST) X-Relaying-Domain: iol.unh.edu Date: Wed, 19 Feb 2025 00:32:40 -0800 (PST) Message-ID: <67b59728.050a0220.58ce9.4a29SMTPIN_ADDED_MISSING@mx.google.com> Received: from [172.21.0.6] (unknown [172.18.0.240]) by postal.iol.unh.edu (Postfix) with ESMTP id 554986052471; Wed, 19 Feb 2025 03:32:40 -0500 (EST) Subject: |SUCCESS| [GIT MASTER] c66daa12e76d7b4912cfb7109a761856a7a873ab From: dpdklab@iol.unh.edu To: Test Report Cc: dpdk-test-reports@iol.unh.edu, Xueming Li , Christian Ehrhardt , Kevin Traynor , Luca Boccassi Content-Type: text/plain X-BeenThere: test-report@dpdk.org X-Mailman-Version: 2.1.29 Precedence: list List-Id: automatic DPDK test reports List-Unsubscribe: , List-Archive: List-Post: List-Help: List-Subscribe: , Errors-To: test-report-bounces@dpdk.org _Testing PASS_ Branch: tags/v23.11 c66daa12e76d7b4912cfb7109a761856a7a873ab --> testing pass Upstream job id: Generic-DPDK-Compile-ABI#116709 Test environment and result as below: +-------------------+----------+ | Environment | abi_test | +===================+==========+ | CentOS Stream 9 | PASS | +-------------------+----------+ | CentOS Stream 10 | PASS | +-------------------+----------+ | Debian Bullseye | PASS | +-------------------+----------+ | Debian 12 | PASS | +-------------------+----------+ | Fedora 40 | PASS | +-------------------+----------+ | Fedora 40 (Clang) | PASS | +-------------------+----------+ | RHEL8 | PASS | +-------------------+----------+ | Fedora 41 (Clang) | PASS | +-------------------+----------+ | openSUSE Leap 15 | PASS | +-------------------+----------+ | Ubuntu 24.04 | PASS | +-------------------+----------+ | Ubuntu 22.04 | PASS | +-------------------+----------+ | RHEL9 | PASS | +-------------------+----------+ | Fedora 41 | PASS | +-------------------+----------+ CentOS Stream 9 Kernel: Depends on container host Compiler: gcc 11.5.0 20240719 (Red Hat 11.5.0-2) CentOS Stream 10 Kernel: Depends on container host Compiler: gcc 14.2.1 20241104 (Red Hat 14.2.1-6) Debian Bullseye Kernel: Depends on container host Compiler: gcc (Debian 10.2.1-6) 10.2.1 20210110 Debian 12 Kernel: Depends on container host Compiler: gcc (Debian 12.2.0-14) 12.2.0 Fedora 40 Kernel: Depends on container host Compiler: gcc 14.2.1 20240912 (Red Hat 14.2.1-3) Fedora 40 (Clang) Kernel: Depends on container host Compiler: clang 18.1.8 (Fedora 18.1.8-1.fc40) RHEL8 Kernel: Depends on container host Compiler: gcc 8.5.0 20210514 (Red Hat 8.5.0-22) Fedora 41 (Clang) Kernel: Depends on container host Compiler: clang 19.1.5 (Fedora 19.1.5-1.fc41) openSUSE Leap 15 Kernel: Depends on container host Compiler: gcc (SUSE Linux) 7.5.0 Ubuntu 24.04 Kernel: Depends on container host Compiler: gcc (Ubuntu 13.3.0-6ubuntu2~24.04) 13.3.0 Ubuntu 22.04 Kernel: Depends on container host Compiler: gcc (Ubuntu 11.4.0-1ubuntu1~22.04) 11.4.0 RHEL9 Kernel: Depends on container host Compiler: gcc 11.5.0 20240719 (Red Hat 11.5.0-2) Fedora 41 Kernel: Depends on container host Compiler: gcc 14.2.1 20240912 (Red Hat 14.2.1-3) To view detailed results, visit: https://lab.dpdk.org/results/dashboard/tarballs/32621/ UNH-IOL DPDK Community Lab To manage your email subscriptions, visit: https://lab.dpdk.org/results/dashboard/preferences/subscriptions/