From mboxrd@z Thu Jan 1 00:00:00 1970 Return-Path: Received: from mails.dpdk.org (mails.dpdk.org [217.70.189.124]) by inbox.dpdk.org (Postfix) with ESMTP id 33A2B46267 for ; Wed, 19 Feb 2025 10:15:22 +0100 (CET) Received: from mails.dpdk.org (localhost [127.0.0.1]) by mails.dpdk.org (Postfix) with ESMTP id 1D8224028B; Wed, 19 Feb 2025 10:15:22 +0100 (CET) Received: from mail-vk1-f227.google.com (mail-vk1-f227.google.com [209.85.221.227]) by mails.dpdk.org (Postfix) with ESMTP id 0A3774025A for ; Wed, 19 Feb 2025 10:15:21 +0100 (CET) Received: by mail-vk1-f227.google.com with SMTP id 71dfb90a1353d-521b5bd2268so1164737e0c.0 for ; Wed, 19 Feb 2025 01:15:20 -0800 (PST) DKIM-Signature: v=1; a=rsa-sha256; c=relaxed/relaxed; d=iol.unh.edu; s=unh-iol; t=1739956520; x=1740561320; darn=dpdk.org; h=cc:to:from:subject:message-id:date:from:to:cc:subject:date :message-id:reply-to; bh=KT8RbwIgOvWmQItVZXWD6yRYxkmNW/KeXgraRMEyN8Y=; b=JQZb3tW/2tWX1CNrOO6vUXpKk44jlt8SEIZYH/6S8aebtyKuN8RAHHumv0ZKQZ6Ieu oOYveqriVEOEBaiSGE9YSbRXBnGcmgpcI9eD9zkX4fNcUbKYiq7MIieey5JxkF3e9Ph3 u+tDe85LNaN3SeqXrJvOInnWavQAsNiJ5f+pk= X-Google-DKIM-Signature: v=1; a=rsa-sha256; c=relaxed/relaxed; d=1e100.net; s=20230601; t=1739956520; x=1740561320; h=cc:to:from:subject:message-id:date:x-gm-message-state:from:to:cc :subject:date:message-id:reply-to; bh=KT8RbwIgOvWmQItVZXWD6yRYxkmNW/KeXgraRMEyN8Y=; b=IlBZuwZXM4LXGBT3QkmB8+jjLDM4qt9rVu8R4GHXrHtqpBtr5u3XBkzlprSs2DvmMv bT7OyII1z+bOYQBb7G8hUVQ5mWfIk8+XFoIFKgVKgU3/QxUsFHyETE4JCTI7KjYQz/8S SRbjwyE0HDktIu3IookmN/QPPolZPgJ7fANjCPiogM1iCbw0ZdWGTPWou+NtxSSZJEMd 7dFbxzU98onONPLxHudzLs/+D1uY1HcBAr/NaekoaZkul2ss/uB9bYw9QAcgLYm+PhK5 v3l3z99neETyYr2DkK/TjJ+F+sVWsJ3zPnY08n3C/7lMyzGt9dGn2bqy5HHAOmysFszI i31g== X-Gm-Message-State: AOJu0YyGpq3STQBIOt3FnKf9e35NzxXFxC2BBqThp59I2ZjNusi5bUO9 t/+d3kBCyNjX6nzcWcE4loB1k24XUAVeTshrve4IX3YojHUWoHlVyGwTdmdjjmFitdxeYG7cHfg sGbk8RxphcYJ50YbAin4sHmwdsWd8QAZm X-Gm-Gg: ASbGnctb885QBiw1kB5f+VCxDCfaPFvUfhivYBrhr+ZVXbK9x9rs8UTJXpA4v1bPu4J UQjGsHSd08aUVqWR14Gi/bdM3ZU3fwrWGIEzZr5D3lKswCSiGxSByWcaPt5QQURtKsHsCLktaF6 Hyf8rBEdG/693M7KLcVhtIZ38feHvQ7FdW+cTxIJMbmPSqvzJXjOfOM/9/qZuQ9MAV5XxFhI5cV xB/wRozsTnfQHwRsb41hM1ZiuFeT/MXeOHokQTZsF1b5a4zktKGsuiqF+iI81vq01KsY9YFwqcY Yjc44F2f+DqxF44K8ERr2zb+QTn52A== X-Google-Smtp-Source: AGHT+IGt5YGLk3Mo2k9SCP8lGlMM6TVOt8TJYAdlUu8ijVBBkC0J+tSDS6v/jN5Svy6dP5cYOVs39hhIi68B X-Received: by 2002:a05:6122:1c89:b0:520:59ee:8197 with SMTP id 71dfb90a1353d-521c464f4c8mr1484381e0c.8.1739956520305; Wed, 19 Feb 2025 01:15:20 -0800 (PST) Received: from postal.iol.unh.edu (postal.iol.unh.edu. [132.177.123.84]) by smtp-relay.gmail.com with ESMTPS id 71dfb90a1353d-520b53a4d1fsm416448e0c.2.2025.02.19.01.15.20 (version=TLS1_2 cipher=ECDHE-ECDSA-AES128-GCM-SHA256 bits=128/128); Wed, 19 Feb 2025 01:15:20 -0800 (PST) X-Relaying-Domain: iol.unh.edu Date: Wed, 19 Feb 2025 01:15:20 -0800 (PST) Message-ID: <67b5a128.050a0220.32e612.3507SMTPIN_ADDED_MISSING@mx.google.com> Received: from [172.21.0.5] (unknown [172.18.0.240]) by postal.iol.unh.edu (Postfix) with ESMTP id DF5C56052471; Wed, 19 Feb 2025 04:15:19 -0500 (EST) Subject: |SUCCESS| [GIT MASTER] c66daa12e76d7b4912cfb7109a761856a7a873ab From: dpdklab@iol.unh.edu To: Test Report Cc: dpdk-test-reports@iol.unh.edu, Xueming Li , Christian Ehrhardt , Kevin Traynor , Luca Boccassi Content-Type: text/plain X-BeenThere: test-report@dpdk.org X-Mailman-Version: 2.1.29 Precedence: list List-Id: automatic DPDK test reports List-Unsubscribe: , List-Archive: List-Post: List-Help: List-Subscribe: , Errors-To: test-report-bounces@dpdk.org _Testing PASS_ Branch: tags/v23.11 c66daa12e76d7b4912cfb7109a761856a7a873ab --> testing pass Upstream job id: Generic-Unit-Test-DPDK#316153 Test environment and result as below: +---------------------+----------------+ | Environment | dpdk_unit_test | +=====================+================+ | CentOS Stream 10 | PASS | +---------------------+----------------+ | CentOS Stream 9 | PASS | +---------------------+----------------+ | Debian Bullseye | PASS | +---------------------+----------------+ | Fedora 40 (Clang) | PASS | +---------------------+----------------+ | Fedora 40 | PASS | +---------------------+----------------+ | Debian 12 | PASS | +---------------------+----------------+ | Fedora 41 (Clang) | PASS | +---------------------+----------------+ | RHEL8 | PASS | +---------------------+----------------+ | RHEL9 | PASS | +---------------------+----------------+ | Ubuntu 20.04 | PASS | +---------------------+----------------+ | Fedora 41 | PASS | +---------------------+----------------+ | Ubuntu 22.04 | PASS | +---------------------+----------------+ | Ubuntu 24.04 | PASS | +---------------------+----------------+ | Windows Server 2022 | PASS | +---------------------+----------------+ CentOS Stream 10 Kernel: Depends on container host Compiler: gcc 14.2.1 20241104 (Red Hat 14.2.1-6) CentOS Stream 9 Kernel: Depends on container host Compiler: gcc 11.5.0 20240719 (Red Hat 11.5.0-2) Debian Bullseye Kernel: Depends on container host Compiler: gcc (Debian 10.2.1-6) 10.2.1 20210110 Fedora 40 (Clang) Kernel: Depends on container host Compiler: clang 18.1.8 (Fedora 18.1.8-1.fc40) Fedora 40 Kernel: Depends on container host Compiler: gcc 14.2.1 20240912 (Red Hat 14.2.1-3) Debian 12 Kernel: Depends on container host Compiler: gcc (Debian 12.2.0-14) 12.2.0 Fedora 41 (Clang) Kernel: Depends on container host Compiler: clang 19.1.5 (Fedora 19.1.5-1.fc41) RHEL8 Kernel: Depends on container host Compiler: gcc 8.5.0 20210514 (Red Hat 8.5.0-22) RHEL9 Kernel: Depends on container host Compiler: gcc 11.5.0 20240719 (Red Hat 11.5.0-2) Ubuntu 20.04 Kernel: Depends on container host Compiler: gcc (Ubuntu 9.4.0-1ubuntu1~20.04.2) 9.4.0 Fedora 41 Kernel: Depends on container host Compiler: gcc 14.2.1 20240912 (Red Hat 14.2.1-3) Ubuntu 22.04 Kernel: Depends on container host Compiler: gcc (Ubuntu 11.4.0-1ubuntu1~22.04) 11.4.0 Ubuntu 24.04 Kernel: Depends on container host Compiler: gcc (Ubuntu 13.3.0-6ubuntu2~24.04) 13.3.0 Windows Server 2022 Kernel: 10.0.20348.2031 Compiler: clang 15.0.7, gcc 14.1.0 (MinGW), and MSVC VS 19.39.33521 To view detailed results, visit: https://lab.dpdk.org/results/dashboard/tarballs/32621/ UNH-IOL DPDK Community Lab To manage your email subscriptions, visit: https://lab.dpdk.org/results/dashboard/preferences/subscriptions/