From mboxrd@z Thu Jan  1 00:00:00 1970
Return-Path: <test-report-bounces@dpdk.org>
Received: from mails.dpdk.org (mails.dpdk.org [217.70.189.124])
	by inbox.dpdk.org (Postfix) with ESMTP id A31E146267
	for <public@inbox.dpdk.org>; Wed, 19 Feb 2025 11:01:43 +0100 (CET)
Received: from mails.dpdk.org (localhost [127.0.0.1])
	by mails.dpdk.org (Postfix) with ESMTP id 7C4574028B;
	Wed, 19 Feb 2025 11:01:43 +0100 (CET)
Received: from mail-qv1-f97.google.com (mail-qv1-f97.google.com
 [209.85.219.97]) by mails.dpdk.org (Postfix) with ESMTP id 1D0084025A
 for <test-report@dpdk.org>; Wed, 19 Feb 2025 11:01:42 +0100 (CET)
Received: by mail-qv1-f97.google.com with SMTP id
 6a1803df08f44-6e65baef2edso49558546d6.2
 for <test-report@dpdk.org>; Wed, 19 Feb 2025 02:01:42 -0800 (PST)
DKIM-Signature: v=1; a=rsa-sha256; c=relaxed/relaxed;
 d=iol.unh.edu; s=unh-iol; t=1739959301; x=1740564101; darn=dpdk.org;
 h=cc:to:from:subject:message-id:date:from:to:cc:subject:date
 :message-id:reply-to;
 bh=FqiU7gftAMzbp9kG78/MBpDRgL8j0O5NiCaxpXqIFrA=;
 b=L6SbxjE3oG4nVcZJF0uaJrmIaGaX118rQurAp4DvWCOa42txUMCOUYjdKPobXfSkDG
 /AerWrN5Tx+65tNUaxjeofip+VUKSVLr2+9ilONxQu0RS3TYacOIJKlNy8vd0O0g/PeL
 ac5sQB0kcSL5IQbkhGk/6LRngzY+geu4iQliI=
X-Google-DKIM-Signature: v=1; a=rsa-sha256; c=relaxed/relaxed;
 d=1e100.net; s=20230601; t=1739959301; x=1740564101;
 h=cc:to:from:subject:message-id:date:x-gm-message-state:from:to:cc
 :subject:date:message-id:reply-to;
 bh=FqiU7gftAMzbp9kG78/MBpDRgL8j0O5NiCaxpXqIFrA=;
 b=g9N84eZUR/JhURKzI2fFKjf/ifd+dpUg8tn/rjpnfiMXFiv/gy2Fy+tG7HGk/fiifF
 4Qq8buh41E7BOvKdD8M16b1e3CT3/wXEL/YQBL0M3A8qCkLqzJSKA40tfyc5Y6fu4eLI
 muzSjwk0DSW0LGtc+um0Y1aSv6sdtpFeOv4S9+v7wseVGOQwakOmoNpB3O/j7v0OnzYe
 YVbOETl3x75Ave17g8fG18F5rJeGdbIjccuE4N874YMQFLnTDPhXWi7lVt4xPvekR1JU
 AbjD+2RIwwtdTIoNN7xo8srDrSCl077huTVrc25g62sijgmAWH4NJC9BHuRmOPquVVPn
 gd8A==
X-Gm-Message-State: AOJu0YwoLILROknPCWwHA1gXOiAXFG+E65SOkVxE1fsDEMDKbMR4KDpJ
 /752PPPnkUY5QP7pbZ7jajNsQ/pqnAqAqLOeHVk8MGHJ0stJfLVJfzk2VHVcbEfg8z5FrhH634n
 UhQ03VQ/1DweDjs+N+k08QdZ2Jq1Ow1n0
X-Gm-Gg: ASbGncsbgry9zZ6FKGWJwv2Ee5i/EZBwH2TaJCEiz9mgGUg3t9eFlk+MY6se0iYHn4V
 ZsH7TtjwqBuOgFof0PTuvFnFjceetRtXo6++M0XzWnOZ39N+F4b9lKF8TyzaL7nIt+1qoldmwLH
 jSuSJkeTEN7fsVl31ml8lZD1ET81dDoWj62ueORRorZ7CZ1p8G13UFQ/8vnOmdGseoaW1iGzpGW
 FmuqjMN8Mqsg+3JR5RwQZE3Z+1y3KfbWPx43KqFyBkPcw7ulsKChxFa1R2oeGOE1Di6Y1B54McG
 8L+gHGSP2QrXYEBoZQv+kN0El9tkxQ==
X-Google-Smtp-Source: AGHT+IFaRV0Y+tKBvIit5aFDdAiPWTUOkKunGeT9kYd+jDBL9AQ52oREh+0KxHsuxY2eSmYx4jWlECIshqG/
X-Received: by 2002:ad4:5d6f:0:b0:6e4:4331:aae6 with SMTP id
 6a1803df08f44-6e66cf38b4bmr245746866d6.39.1739959301422; 
 Wed, 19 Feb 2025 02:01:41 -0800 (PST)
Received: from postal.iol.unh.edu (postal.iol.unh.edu. [132.177.123.84])
 by smtp-relay.gmail.com with ESMTPS id
 6a1803df08f44-6e65d734a51sm5720886d6.22.2025.02.19.02.01.41
 (version=TLS1_2 cipher=ECDHE-ECDSA-AES128-GCM-SHA256 bits=128/128);
 Wed, 19 Feb 2025 02:01:41 -0800 (PST)
X-Relaying-Domain: iol.unh.edu
Date: Wed, 19 Feb 2025 02:01:41 -0800 (PST)
Message-ID: <67b5ac05.d40a0220.11fd2a.c93aSMTPIN_ADDED_MISSING@mx.google.com>
Received: from [172.21.0.7] (unknown [172.18.0.240])
 by postal.iol.unh.edu (Postfix) with ESMTP id 221406052471;
 Wed, 19 Feb 2025 05:01:41 -0500 (EST)
Subject: |SUCCESS| [GIT MASTER] c66daa12e76d7b4912cfb7109a761856a7a873ab
From: dpdklab@iol.unh.edu
To: Test Report <test-report@dpdk.org>
Cc: dpdk-test-reports@iol.unh.edu, Xueming Li <xuemingl@nvidia.com>,
 Christian Ehrhardt <christian.ehrhardt@canonical.com>,
 Kevin Traynor <ktraynor@redhat.com>, Luca Boccassi <bluca@debian.org>
Content-Type: text/plain
X-BeenThere: test-report@dpdk.org
X-Mailman-Version: 2.1.29
Precedence: list
List-Id: automatic DPDK test reports <test-report.dpdk.org>
List-Unsubscribe: <https://mails.dpdk.org/options/test-report>,
 <mailto:test-report-request@dpdk.org?subject=unsubscribe>
List-Archive: <http://mails.dpdk.org/archives/test-report/>
List-Post: <mailto:test-report@dpdk.org>
List-Help: <mailto:test-report-request@dpdk.org?subject=help>
List-Subscribe: <https://mails.dpdk.org/listinfo/test-report>,
 <mailto:test-report-request@dpdk.org?subject=subscribe>
Errors-To: test-report-bounces@dpdk.org

_Testing PASS_

Branch: tags/v23.11

c66daa12e76d7b4912cfb7109a761856a7a873ab --> testing pass

Upstream job id: ACVP-FIPS-testing#8958

Test environment and result as below:

+--------------------+----------------------+----------------------+
|    Environment     | compressdev_zlib_pmd | dpdk_fips_validation |
+====================+======================+======================+
| Ubuntu 22.04 (ARM) | PASS                 | SKIPPED              |
+--------------------+----------------------+----------------------+
| Ubuntu 22.04       | PASS                 | SKIPPED              |
+--------------------+----------------------+----------------------+
| Ubuntu 20.04       | SKIPPED              | PASS                 |
+--------------------+----------------------+----------------------+


Ubuntu 22.04 (ARM)
	Kernel: 5.15.0-97-generic
	Compiler: gcc gcc (Ubuntu 11.4.0-1ubuntu1~22.04) 11.4.0

Ubuntu 22.04
	Kernel: 5.15.0-100-generic
	Compiler: gcc gcc (Ubuntu 11.4.0-1ubuntu1~22.04) 11.4.0

Ubuntu 20.04
	Kernel: Depends on container host
	Compiler: gcc (Ubuntu 9.4.0-1ubuntu1~20.04.2) 9.4.0

To view detailed results, visit:
https://lab.dpdk.org/results/dashboard/tarballs/32621/

UNH-IOL DPDK Community Lab

To manage your email subscriptions, visit: 
https://lab.dpdk.org/results/dashboard/preferences/subscriptions/