From mboxrd@z Thu Jan 1 00:00:00 1970 Return-Path: Received: from mails.dpdk.org (mails.dpdk.org [217.70.189.124]) by inbox.dpdk.org (Postfix) with ESMTP id 619B746267 for ; Wed, 19 Feb 2025 11:32:52 +0100 (CET) Received: from mails.dpdk.org (localhost [127.0.0.1]) by mails.dpdk.org (Postfix) with ESMTP id 5D4F14028B; Wed, 19 Feb 2025 11:32:52 +0100 (CET) Received: from mail-io1-f98.google.com (mail-io1-f98.google.com [209.85.166.98]) by mails.dpdk.org (Postfix) with ESMTP id 8138F4025A for ; Wed, 19 Feb 2025 11:32:51 +0100 (CET) Received: by mail-io1-f98.google.com with SMTP id ca18e2360f4ac-855b2a5ad32so25954539f.1 for ; Wed, 19 Feb 2025 02:32:51 -0800 (PST) DKIM-Signature: v=1; a=rsa-sha256; c=relaxed/relaxed; d=iol.unh.edu; s=unh-iol; t=1739961171; x=1740565971; darn=dpdk.org; h=references:in-reply-to:cc:to:from:subject:message-id:date:from:to :cc:subject:date:message-id:reply-to; bh=F3EahHjZZCidw50ZcrAdRY6NNREdi93W2Nu9dt3eua8=; b=BTfnVC3j22Cu+Zj9GU2KOqsUS3tZdzXYK5HC8aqemNn+adkUxi/2ow/nYD6P/ahgU0 OFLgbET0yVIKPQAwm5xdq7r/vTA/WDd15Nw353hFaDQV+Ip0liMglgDdWgpynYnVMqDa 3AZgoiMfySx9lelG0WRV1g8A2Uj5IO0Vdf5VU= X-Google-DKIM-Signature: v=1; a=rsa-sha256; c=relaxed/relaxed; d=1e100.net; s=20230601; t=1739961171; x=1740565971; h=references:in-reply-to:cc:to:from:subject:message-id:date :x-gm-message-state:from:to:cc:subject:date:message-id:reply-to; bh=F3EahHjZZCidw50ZcrAdRY6NNREdi93W2Nu9dt3eua8=; b=hRseVPxfa+hmOunnw99WrvCQQBNdyDKy2PkWeyZ85ktFT4jwjQ/nbQZcxfSqk31hxQ nDjXYcSC+neKjnSJ0wHrHKMOUd+U0uKRmHt97wGP1kY1F1tR47qQBPLHghi6iKdVRK6z nE2LDMiTtdE5JINEWf8/+9s0uVuxcllfJiZJGorThuL/34oRObzOWGUdAS8cpdlw4Rlr 0QvB9rnokPjB9eI0v3S9+a50jtxd5u/g0yaI3yVWmDPr56Az28cGTE23M8IhwOj/y9oy X1YlbqUt521L83nmWIZ8IqnrtBalODPm4p50OvOIpqCroOQzZatzYmB3kJ8jddp3CwyD 482A== X-Gm-Message-State: AOJu0Yw5+hoCqwgKX+HiUWnsEpe2qRVyAEcMp0Y3NI959hK3fZnGtPnJ jRhdRQALX2XfmRmb2dHUDkm01X0GpRN1Rt/iEaLICSgRyEcYhu0K6PE9EQfFouaq7DYjdZ+jIhQ rCrfyzFClcRgg7dqP9TrxS1k+t5siMSwlaeliDgM+ X-Gm-Gg: ASbGnctZBWrOyPcMHuUlJKTnf7XWeTkJqgJ4BKwMtiB1KPz+LKZYy5Af8rwA+zbcEHY KKOe7Tmr2KRVhXkWFH9tYsUuxT128GsjOOuDdXIJACM0Vxtzs+8E+of/YzkktdmxOPBuF3zPN3U g6ChQL5JccHbQ8corJM6Ykh2TA7qlrqjCMT0dcVETwIuxBqDn5Xlb5PkCCvmpLsO7vVg4suE0jX CoG18+KxuCCnm+e97XFMKZott0XJzuXFH6IORqUVcTx/1wkhvsnpbflt1TvuqEjWSDeQ5YPbwz6 I4H+dpiL2HO7a6hIT0V/sNxIr5RwAg== X-Google-Smtp-Source: AGHT+IGJ5V7O0lmwI/c8RDwQfbtE+F7x/nm5J8B6iLGZPLa0QyCxKaRoZJESMsdfuzreA1WulEbYZmy/o7xr X-Received: by 2002:a05:6602:1414:b0:832:480d:6fe1 with SMTP id ca18e2360f4ac-855b38a2b68mr303762139f.0.1739961170760; Wed, 19 Feb 2025 02:32:50 -0800 (PST) Received: from postal.iol.unh.edu (postal.iol.unh.edu. [132.177.123.84]) by smtp-relay.gmail.com with ESMTPS id 8926c6da1cb9f-4eebc8646d3sm78712173.38.2025.02.19.02.32.50 (version=TLS1_2 cipher=ECDHE-ECDSA-AES128-GCM-SHA256 bits=128/128); Wed, 19 Feb 2025 02:32:50 -0800 (PST) X-Relaying-Domain: iol.unh.edu Date: Wed, 19 Feb 2025 02:32:50 -0800 (PST) Message-ID: <67b5b352.050a0220.186539.3cb3SMTPIN_ADDED_MISSING@mx.google.com> Received: from [172.17.0.3] (unknown [172.18.0.217]) by postal.iol.unh.edu (Postfix) with ESMTP id 3C16B6052471; Wed, 19 Feb 2025 05:32:50 -0500 (EST) Subject: |SUCCESS| pw151613-151639 [PATCH] [v13,28/28] net/rnp: support Rx/Tx From: dpdklab@iol.unh.edu To: Test Report Cc: dpdk-test-reports@iol.unh.edu In-Reply-To: <1739951849-67601-29-git-send-email-caowenbo@mucse.com> References: <1739951849-67601-29-git-send-email-caowenbo@mucse.com> Content-Type: text/plain X-BeenThere: test-report@dpdk.org X-Mailman-Version: 2.1.29 Precedence: list List-Id: automatic DPDK test reports List-Unsubscribe: , List-Archive: List-Post: List-Help: List-Subscribe: , Errors-To: test-report-bounces@dpdk.org Test-Label: iol-unit-amd64-testing Test-Status: SUCCESS http://dpdk.org/patch/151639 _Testing PASS_ Submitter: Wenbo Cao Date: Wednesday, February 19 2025 07:57:29 DPDK git baseline: Repo:dpdk Branch: master CommitID:968f7b6d7b6a7e60e6e551db430c4eecaccbbfd2 151613-151639 --> testing pass Upstream job id: Generic-VM-Unit-Test-DPDK#27278 Test environment and result as below: +---------------------+----------------+ | Environment | dpdk_unit_test | +=====================+================+ | Debian Bullseye | PASS | +---------------------+----------------+ | Debian 12 | PASS | +---------------------+----------------+ | CentOS Stream 10 | PASS | +---------------------+----------------+ | CentOS Stream 9 | PASS | +---------------------+----------------+ | Fedora 40 | PASS | +---------------------+----------------+ | Fedora 40 (Clang) | PASS | +---------------------+----------------+ | Fedora 41 | PASS | +---------------------+----------------+ | RHEL9 | PASS | +---------------------+----------------+ | Fedora 41 (Clang) | PASS | +---------------------+----------------+ | RHEL8 | PASS | +---------------------+----------------+ | Ubuntu 20.04 | PASS | +---------------------+----------------+ | Ubuntu 22.04 | PASS | +---------------------+----------------+ | Ubuntu 24.04 | PASS | +---------------------+----------------+ | Windows Server 2022 | PASS | +---------------------+----------------+ Debian Bullseye Kernel: Depends on container host Compiler: gcc (Debian 10.2.1-6) 10.2.1 20210110 Debian 12 Kernel: Depends on container host Compiler: gcc (Debian 12.2.0-14) 12.2.0 CentOS Stream 10 Kernel: Depends on container host Compiler: gcc 14.2.1 20241104 (Red Hat 14.2.1-6) CentOS Stream 9 Kernel: Depends on container host Compiler: gcc 11.5.0 20240719 (Red Hat 11.5.0-2) Fedora 40 Kernel: Depends on container host Compiler: gcc 14.2.1 20240912 (Red Hat 14.2.1-3) Fedora 40 (Clang) Kernel: Depends on container host Compiler: clang 18.1.8 (Fedora 18.1.8-1.fc40) Fedora 41 Kernel: Depends on container host Compiler: gcc 14.2.1 20240912 (Red Hat 14.2.1-3) RHEL9 Kernel: Depends on container host Compiler: gcc 11.5.0 20240719 (Red Hat 11.5.0-2) Fedora 41 (Clang) Kernel: Depends on container host Compiler: clang 19.1.5 (Fedora 19.1.5-1.fc41) RHEL8 Kernel: Depends on container host Compiler: gcc 8.5.0 20210514 (Red Hat 8.5.0-22) Ubuntu 20.04 Kernel: Depends on container host Compiler: gcc (Ubuntu 9.4.0-1ubuntu1~20.04.2) 9.4.0 Ubuntu 22.04 Kernel: Depends on container host Compiler: gcc (Ubuntu 11.4.0-1ubuntu1~22.04) 11.4.0 Ubuntu 24.04 Kernel: Depends on container host Compiler: gcc (Ubuntu 13.3.0-6ubuntu2~24.04) 13.3.0 Windows Server 2022 Kernel: 10.0.20348.2031 Compiler: clang 15.0.7, gcc 14.1.0 (MinGW), and MSVC VS 19.39.33521 To view detailed results, visit: https://lab.dpdk.org/results/dashboard/patchsets/32609/ UNH-IOL DPDK Community Lab To manage your email subscriptions, visit: https://lab.dpdk.org/results/dashboard/preferences/subscriptions/