From mboxrd@z Thu Jan 1 00:00:00 1970 Return-Path: Received: from mails.dpdk.org (mails.dpdk.org [217.70.189.124]) by inbox.dpdk.org (Postfix) with ESMTP id 6F88346267 for ; Wed, 19 Feb 2025 11:32:57 +0100 (CET) Received: from mails.dpdk.org (localhost [127.0.0.1]) by mails.dpdk.org (Postfix) with ESMTP id 6AFF54028B; Wed, 19 Feb 2025 11:32:57 +0100 (CET) Received: from mail-ot1-f97.google.com (mail-ot1-f97.google.com [209.85.210.97]) by mails.dpdk.org (Postfix) with ESMTP id 5917F4025A for ; Wed, 19 Feb 2025 11:32:56 +0100 (CET) Received: by mail-ot1-f97.google.com with SMTP id 46e09a7af769-72720daed05so2074091a34.2 for ; Wed, 19 Feb 2025 02:32:56 -0800 (PST) DKIM-Signature: v=1; a=rsa-sha256; c=relaxed/relaxed; d=iol.unh.edu; s=unh-iol; t=1739961175; x=1740565975; darn=dpdk.org; h=references:in-reply-to:cc:to:from:subject:message-id:date:from:to :cc:subject:date:message-id:reply-to; bh=5/zcfr6nOUywIbYSBJLLCNSw+lfRktxs3KShKXYXVV8=; b=dgBn6N0fFPgqpyugsmxYQuE8mIV0KbN5J5DvduLxIXKgLDZ5/14uw0agIzwyHp0gbo DGWwwnQwxuqkSujbKxv7jEN9zksdvD2j43rtLcGpmTCmF3wcqz5ciOLKzbikBdLfXHla jnzrKdufr7EdM2At5U4aXblYby4kk/1pyO++o= X-Google-DKIM-Signature: v=1; a=rsa-sha256; c=relaxed/relaxed; d=1e100.net; s=20230601; t=1739961175; x=1740565975; h=references:in-reply-to:cc:to:from:subject:message-id:date :x-gm-message-state:from:to:cc:subject:date:message-id:reply-to; bh=5/zcfr6nOUywIbYSBJLLCNSw+lfRktxs3KShKXYXVV8=; b=SHI3ErdCjLTxK6MPMsY0MDV1hiOBmpKVU1KFYUBaTL9Img9THAcSCe0L4+UBrC5xtl vzhdTJ4QZvuPJh5ZeVo6FinvC9l12e476fL/2dnpFdIPHtyfbwdQj+N2cxsDxD2CAa7K +PN/YcTJP2he3rI7OOv6OuZ/QbrXy+pgCf+Vn33iqFlU7HaXiHqpoQXFCRlMNmHKOs8R c+VZ1uRUe2a3K1TQUpHykh63xf9jjnuFSOmfIFgatU/Jm3tlSvk/fcc+npPnuN/XcACe FjU04fWPkxntVnY3F+Yz01lf7ZaL5cMaheN57na/Y6Rf7B8G7JB6t34L8DuNl6+EVQKt gkWA== X-Gm-Message-State: AOJu0YxQMkQe2dRaHGjcJGbNuF/PfYhklL38TzfFU4lJyOyJUADnlMzh nXhqvJje14xr+S5xH0rtDS5u0gydI48SsYDK4g02dEBVRmK7fAddxvM6PyZnb+824Iur+vPtb6N Z5pBPZlotsskYsIdru+y1IW/hpfCOtksWkpf5UOf/ X-Gm-Gg: ASbGncvL1QZOLdKQbsLNPwAz+VoEsufXzCzhRZZEQxJPNZJvbZRd3KGCPT1y8XQqOYk phIh8CzZol26ZR6ZQqRnB8RsMSfHuUPvHoBeewpYY9Ue2IKhUzsaG8/O+n66q34NzF9Y4XkFIY8 NSiHzzHDwdQuqcuaK38jWy6eqYqBalPoAcxDE6w7EcJN61kBpvdr1clbT1KizZmkp41XKoykGeZ PTAunkIDjP8BL4/RWfLBzcOg85hzKQ53V9p20XfcH/xeF6RnDyKSyjjTAlwkO0fiUtqnyjLKYvO dgseQ2PcwDSqt7XK5McNF7vDnjimAw== X-Google-Smtp-Source: AGHT+IF2O0JsjDbJqLq+/4z/qn6Nans27kRodvTjrnAiTUNB1DbrW2TljLSbG88wlMayCm/yof+RVEIP9Qkh X-Received: by 2002:a05:6830:dc2:b0:726:fe71:5371 with SMTP id 46e09a7af769-7273775eb6fmr2002765a34.6.1739961175493; Wed, 19 Feb 2025 02:32:55 -0800 (PST) Received: from postal.iol.unh.edu (postal.iol.unh.edu. [132.177.123.84]) by smtp-relay.gmail.com with ESMTPS id 46e09a7af769-7272b641ad5sm129749a34.7.2025.02.19.02.32.55 (version=TLS1_2 cipher=ECDHE-ECDSA-AES128-GCM-SHA256 bits=128/128); Wed, 19 Feb 2025 02:32:55 -0800 (PST) X-Relaying-Domain: iol.unh.edu Date: Wed, 19 Feb 2025 02:32:55 -0800 (PST) Message-ID: <67b5b357.050a0220.15108.6128SMTPIN_ADDED_MISSING@mx.google.com> Received: from [172.17.0.6] (unknown [172.18.0.217]) by postal.iol.unh.edu (Postfix) with ESMTP id 9EAA56052471; Wed, 19 Feb 2025 05:32:54 -0500 (EST) Subject: |SUCCESS| pw151613-151639 [PATCH] [v13,28/28] net/rnp: support Rx/Tx From: dpdklab@iol.unh.edu To: Test Report Cc: dpdk-test-reports@iol.unh.edu In-Reply-To: <1739951849-67601-29-git-send-email-caowenbo@mucse.com> References: <1739951849-67601-29-git-send-email-caowenbo@mucse.com> Content-Type: text/plain X-BeenThere: test-report@dpdk.org X-Mailman-Version: 2.1.29 Precedence: list List-Id: automatic DPDK test reports List-Unsubscribe: , List-Archive: List-Post: List-Help: List-Subscribe: , Errors-To: test-report-bounces@dpdk.org Test-Label: iol-unit-amd64-testing Test-Status: SUCCESS http://dpdk.org/patch/151639 _Testing PASS_ Submitter: Wenbo Cao Date: Wednesday, February 19 2025 07:57:29 DPDK git baseline: Repo:dpdk Branch: master CommitID:968f7b6d7b6a7e60e6e551db430c4eecaccbbfd2 151613-151639 --> testing pass Upstream job id: Generic-Unit-Test-DPDK#316184 Test environment and result as below: +---------------------+----------------+ | Environment | dpdk_unit_test | +=====================+================+ | Debian Bullseye | PASS | +---------------------+----------------+ | Debian 12 | PASS | +---------------------+----------------+ | CentOS Stream 10 | PASS | +---------------------+----------------+ | CentOS Stream 9 | PASS | +---------------------+----------------+ | Fedora 40 | PASS | +---------------------+----------------+ | Fedora 40 (Clang) | PASS | +---------------------+----------------+ | Fedora 41 | PASS | +---------------------+----------------+ | RHEL9 | PASS | +---------------------+----------------+ | Fedora 41 (Clang) | PASS | +---------------------+----------------+ | RHEL8 | PASS | +---------------------+----------------+ | Ubuntu 20.04 | PASS | +---------------------+----------------+ | Ubuntu 22.04 | PASS | +---------------------+----------------+ | Ubuntu 24.04 | PASS | +---------------------+----------------+ | Windows Server 2022 | PASS | +---------------------+----------------+ Debian Bullseye Kernel: Depends on container host Compiler: gcc (Debian 10.2.1-6) 10.2.1 20210110 Debian 12 Kernel: Depends on container host Compiler: gcc (Debian 12.2.0-14) 12.2.0 CentOS Stream 10 Kernel: Depends on container host Compiler: gcc 14.2.1 20241104 (Red Hat 14.2.1-6) CentOS Stream 9 Kernel: Depends on container host Compiler: gcc 11.5.0 20240719 (Red Hat 11.5.0-2) Fedora 40 Kernel: Depends on container host Compiler: gcc 14.2.1 20240912 (Red Hat 14.2.1-3) Fedora 40 (Clang) Kernel: Depends on container host Compiler: clang 18.1.8 (Fedora 18.1.8-1.fc40) Fedora 41 Kernel: Depends on container host Compiler: gcc 14.2.1 20240912 (Red Hat 14.2.1-3) RHEL9 Kernel: Depends on container host Compiler: gcc 11.5.0 20240719 (Red Hat 11.5.0-2) Fedora 41 (Clang) Kernel: Depends on container host Compiler: clang 19.1.5 (Fedora 19.1.5-1.fc41) RHEL8 Kernel: Depends on container host Compiler: gcc 8.5.0 20210514 (Red Hat 8.5.0-22) Ubuntu 20.04 Kernel: Depends on container host Compiler: gcc (Ubuntu 9.4.0-1ubuntu1~20.04.2) 9.4.0 Ubuntu 22.04 Kernel: Depends on container host Compiler: gcc (Ubuntu 11.4.0-1ubuntu1~22.04) 11.4.0 Ubuntu 24.04 Kernel: Depends on container host Compiler: gcc (Ubuntu 13.3.0-6ubuntu2~24.04) 13.3.0 Windows Server 2022 Kernel: 10.0.20348.2031 Compiler: clang 15.0.7, gcc 14.1.0 (MinGW), and MSVC VS 19.39.33521 To view detailed results, visit: https://lab.dpdk.org/results/dashboard/patchsets/32609/ UNH-IOL DPDK Community Lab To manage your email subscriptions, visit: https://lab.dpdk.org/results/dashboard/preferences/subscriptions/