From mboxrd@z Thu Jan 1 00:00:00 1970 Return-Path: Received: from mails.dpdk.org (mails.dpdk.org [217.70.189.124]) by inbox.dpdk.org (Postfix) with ESMTP id 3925F46267 for ; Wed, 19 Feb 2025 11:40:36 +0100 (CET) Received: from mails.dpdk.org (localhost [127.0.0.1]) by mails.dpdk.org (Postfix) with ESMTP id 1A79B4028B; Wed, 19 Feb 2025 11:40:36 +0100 (CET) Received: from mail-io1-f99.google.com (mail-io1-f99.google.com [209.85.166.99]) by mails.dpdk.org (Postfix) with ESMTP id 478934025A for ; Wed, 19 Feb 2025 11:40:35 +0100 (CET) Received: by mail-io1-f99.google.com with SMTP id ca18e2360f4ac-8559461c2c2so77808039f.0 for ; Wed, 19 Feb 2025 02:40:35 -0800 (PST) DKIM-Signature: v=1; a=rsa-sha256; c=relaxed/relaxed; d=iol.unh.edu; s=unh-iol; t=1739961634; x=1740566434; darn=dpdk.org; h=references:in-reply-to:cc:to:from:subject:message-id:date:from:to :cc:subject:date:message-id:reply-to; bh=sbiUVbSogcG+zXBQcCDopeiYWwv3zRBCGL9bXRIEvxo=; b=ffdebFlbOLJgORgVP01bocWkGe8xAasEHrSgS76ac29uDqf9KvpiW9WX4BYCZZSR8R +M3l1VVTq+G2rXM79/molYaDwSvUFMRiWHduqAzeb4jHnZTDBCuV0H0rFOuXw79m1TvR xf/81APHYPHX/a4am5B0crOFsWrbSXlY5jAFM= X-Google-DKIM-Signature: v=1; a=rsa-sha256; c=relaxed/relaxed; d=1e100.net; s=20230601; t=1739961634; x=1740566434; h=references:in-reply-to:cc:to:from:subject:message-id:date :x-gm-message-state:from:to:cc:subject:date:message-id:reply-to; bh=sbiUVbSogcG+zXBQcCDopeiYWwv3zRBCGL9bXRIEvxo=; b=whQ3StixRsJvvCcd6d2gNtPXCyHFBM1r36Bzx4cbOhxZhWNAyxyhcLnaMrGFF5cVV2 X6L8xmF1csM6p/Y9CBtyCWCRObZvxB39mSncr+TS829YZzmSKAcOaphexsJjrU0TgrAx vMdAAUtqwCwp/p1hJq/L0ldPrENDhsifR9KsO87XVqxOfGz+jLeRiRas4dGFiO/88BFz 8SHAQ39ptBnUOHRfUHGkDgI8yYVgUkeOpvP+Si6dVJQQGEgINYwA4JY3hOaVe4qD3Q88 lgR22u4l3oylD3WXisLE1Poq84qE92TQOERgJ00AFJK232zdfG56aM1nHPk6FQutbVJz 4h/Q== X-Gm-Message-State: AOJu0Ywp5ShQ0s1fWXtAhPC7dBCA0S7Q8TnkWxD/9gbXAMMno8wqXuZk QyKXE0Y+6lfeDxbjHYDgVfAVT4Olzt1MZDWCeTaebwOBFcGzRq61CPFBU4JsNRHOy3x6a5Eaui5 d6GUpxmQjPLWPcLSw0/Z8dSqjWdj6qJRyzUyCcOqT X-Gm-Gg: ASbGncu7tRz3MI6qbZW4g6errNy4hUida+SBFp0D24MYFrtkw6VyqFh1Z892Kd0nOuC bMUFAbxZ7uV94OCbZBPph/cOfeWPCRB6DMksuBwZmIiVEsf/ES53NkWW8Ft/PWEDKEd7VtcNesk dYSqjfbx6xOt6Q6/b5rQWUtcXA45dqTS21pYtvmPFLRH0QcYl6GDRLPuNnzhksBg/SRR2Jvl2x7 azeV9N/vvk3mBILh90n2D2MjI4ASN3n7O+jIV8esC2Fc+MX4LuLE6tO8J9uxUjnCZ1EIwZ7RCOl 5b9aUcUTnxDmjJDXyLGhQvbC0AFjDQ== X-Google-Smtp-Source: AGHT+IHKZdDuNr4u0xOrQfPnuzt/IH1vx4KZxvbI81WoMzRCHLXrcHbeWT9MEyoIE5jEAO9ORXozHfn8yk5P X-Received: by 2002:a05:6e02:148a:b0:3cf:bc71:94f5 with SMTP id e9e14a558f8ab-3d2b538c328mr25442615ab.22.1739961634431; Wed, 19 Feb 2025 02:40:34 -0800 (PST) Received: from postal.iol.unh.edu (postal.iol.unh.edu. [132.177.123.84]) by smtp-relay.gmail.com with ESMTPS id 8926c6da1cb9f-4eec11c8c31sm41518173.49.2025.02.19.02.40.34 (version=TLS1_2 cipher=ECDHE-ECDSA-AES128-GCM-SHA256 bits=128/128); Wed, 19 Feb 2025 02:40:34 -0800 (PST) X-Relaying-Domain: iol.unh.edu Date: Wed, 19 Feb 2025 02:40:34 -0800 (PST) Message-ID: <67b5b522.050a0220.3c8017.1fa3SMTPIN_ADDED_MISSING@mx.google.com> Received: from [172.17.0.3] (unknown [172.18.0.217]) by postal.iol.unh.edu (Postfix) with ESMTP id D35DB6052471; Wed, 19 Feb 2025 05:40:33 -0500 (EST) Subject: |SUCCESS| pw151613-151639 [PATCH] [v13,28/28] net/rnp: support Rx/Tx From: dpdklab@iol.unh.edu To: Test Report Cc: dpdk-test-reports@iol.unh.edu In-Reply-To: <1739951849-67601-29-git-send-email-caowenbo@mucse.com> References: <1739951849-67601-29-git-send-email-caowenbo@mucse.com> Content-Type: text/plain X-BeenThere: test-report@dpdk.org X-Mailman-Version: 2.1.29 Precedence: list List-Id: automatic DPDK test reports List-Unsubscribe: , List-Archive: List-Post: List-Help: List-Subscribe: , Errors-To: test-report-bounces@dpdk.org Test-Label: iol-compile-amd64-testing Test-Status: SUCCESS http://dpdk.org/patch/151639 _Testing PASS_ Submitter: Wenbo Cao Date: Wednesday, February 19 2025 07:57:29 DPDK git baseline: Repo:dpdk Branch: master CommitID:968f7b6d7b6a7e60e6e551db430c4eecaccbbfd2 151613-151639 --> testing pass Upstream job id: Generic-DPDK-Compile-Meson#362975 Test environment and result as below: +---------------------+--------------------+-------------------+------------------+-------------------------+-------------------+----------------------+ | Environment | dpdk_meson_compile | dpdk_compile_spdk | dpdk_compile_ovs | dpdk_llvm_clang_compile | dpdk_msvc_compile | dpdk_mingw64_compile | +=====================+====================+===================+==================+=========================+===================+======================+ | CentOS Stream 10 | PASS | SKIPPED | SKIPPED | SKIPPED | SKIPPED | SKIPPED | +---------------------+--------------------+-------------------+------------------+-------------------------+-------------------+----------------------+ | Debian Bullseye | PASS | PASS | SKIPPED | SKIPPED | SKIPPED | SKIPPED | +---------------------+--------------------+-------------------+------------------+-------------------------+-------------------+----------------------+ | Debian 12 | PASS | PASS | SKIPPED | SKIPPED | SKIPPED | SKIPPED | +---------------------+--------------------+-------------------+------------------+-------------------------+-------------------+----------------------+ | openSUSE Leap 15 | PASS | SKIPPED | SKIPPED | SKIPPED | SKIPPED | SKIPPED | +---------------------+--------------------+-------------------+------------------+-------------------------+-------------------+----------------------+ | Fedora 41 | PASS | PASS | PASS | SKIPPED | SKIPPED | SKIPPED | +---------------------+--------------------+-------------------+------------------+-------------------------+-------------------+----------------------+ | Fedora 40 (Clang) | PASS | PASS | SKIPPED | SKIPPED | SKIPPED | SKIPPED | +---------------------+--------------------+-------------------+------------------+-------------------------+-------------------+----------------------+ | Fedora 41 (Clang) | PASS | PASS | PASS | SKIPPED | SKIPPED | SKIPPED | +---------------------+--------------------+-------------------+------------------+-------------------------+-------------------+----------------------+ | Fedora 40 | PASS | PASS | SKIPPED | SKIPPED | SKIPPED | SKIPPED | +---------------------+--------------------+-------------------+------------------+-------------------------+-------------------+----------------------+ | RHEL9 | PASS | SKIPPED | SKIPPED | SKIPPED | SKIPPED | SKIPPED | +---------------------+--------------------+-------------------+------------------+-------------------------+-------------------+----------------------+ | RHEL8 | PASS | SKIPPED | SKIPPED | SKIPPED | SKIPPED | SKIPPED | +---------------------+--------------------+-------------------+------------------+-------------------------+-------------------+----------------------+ | Ubuntu 20.04 | PASS | SKIPPED | SKIPPED | SKIPPED | SKIPPED | SKIPPED | +---------------------+--------------------+-------------------+------------------+-------------------------+-------------------+----------------------+ | Ubuntu 24.04 | PASS | PASS | PASS | SKIPPED | SKIPPED | SKIPPED | +---------------------+--------------------+-------------------+------------------+-------------------------+-------------------+----------------------+ | Ubuntu 22.04 | PASS | PASS | SKIPPED | SKIPPED | SKIPPED | SKIPPED | +---------------------+--------------------+-------------------+------------------+-------------------------+-------------------+----------------------+ | Alpine | PASS | SKIPPED | SKIPPED | SKIPPED | SKIPPED | SKIPPED | +---------------------+--------------------+-------------------+------------------+-------------------------+-------------------+----------------------+ | FreeBSD 14.2 | PASS | SKIPPED | SKIPPED | SKIPPED | SKIPPED | SKIPPED | +---------------------+--------------------+-------------------+------------------+-------------------------+-------------------+----------------------+ | FreeBSD 13.4 | PASS | SKIPPED | SKIPPED | SKIPPED | SKIPPED | SKIPPED | +---------------------+--------------------+-------------------+------------------+-------------------------+-------------------+----------------------+ | Windows Server 2022 | SKIPPED | SKIPPED | SKIPPED | PASS | PASS | PASS | +---------------------+--------------------+-------------------+------------------+-------------------------+-------------------+----------------------+ CentOS Stream 10 Kernel: Depends on container host Compiler: gcc 14.2.1 20241104 (Red Hat 14.2.1-6) Debian Bullseye Kernel: Depends on container host Compiler: gcc (Debian 10.2.1-6) 10.2.1 20210110 Debian 12 Kernel: Depends on container host Compiler: gcc (Debian 12.2.0-14) 12.2.0 openSUSE Leap 15 Kernel: Depends on container host Compiler: gcc (SUSE Linux) 7.5.0 Fedora 41 Kernel: Depends on container host Compiler: gcc 14.2.1 20240912 (Red Hat 14.2.1-3) Fedora 40 (Clang) Kernel: Depends on container host Compiler: clang 18.1.8 (Fedora 18.1.8-1.fc40) Fedora 41 (Clang) Kernel: Depends on container host Compiler: clang 19.1.5 (Fedora 19.1.5-1.fc41) Fedora 40 Kernel: Depends on container host Compiler: gcc 14.2.1 20240912 (Red Hat 14.2.1-3) RHEL9 Kernel: Depends on container host Compiler: gcc 11.5.0 20240719 (Red Hat 11.5.0-2) RHEL8 Kernel: Depends on container host Compiler: gcc 8.5.0 20210514 (Red Hat 8.5.0-22) Ubuntu 20.04 Kernel: Depends on container host Compiler: gcc (Ubuntu 9.4.0-1ubuntu1~20.04.2) 9.4.0 Ubuntu 24.04 Kernel: Depends on container host Compiler: gcc (Ubuntu 13.3.0-6ubuntu2~24.04) 13.3.0 Ubuntu 22.04 Kernel: Depends on container host Compiler: gcc (Ubuntu 11.4.0-1ubuntu1~22.04) 11.4.0 Alpine Kernel: Depends on container host Compiler: gcc (Alpine 14.2.0) 14.2.0 FreeBSD 14.2 Kernel: 14.2-RELEASE Compiler: clang 18.1.6 FreeBSD 13.4 Kernel: 13.4-RELEASE-p1 Compiler: clang 18.1.6 Windows Server 2022 Kernel: 10.0.20348.2031 Compiler: clang 15.0.7, gcc 14.1.0 (MinGW), and MSVC VS 19.39.33521 To view detailed results, visit: https://lab.dpdk.org/results/dashboard/patchsets/32609/ UNH-IOL DPDK Community Lab To manage your email subscriptions, visit: https://lab.dpdk.org/results/dashboard/preferences/subscriptions/