From mboxrd@z Thu Jan 1 00:00:00 1970 Return-Path: Received: from mails.dpdk.org (mails.dpdk.org [217.70.189.124]) by inbox.dpdk.org (Postfix) with ESMTP id CE3F646267 for ; Wed, 19 Feb 2025 11:49:49 +0100 (CET) Received: from mails.dpdk.org (localhost [127.0.0.1]) by mails.dpdk.org (Postfix) with ESMTP id DF6434028B; Wed, 19 Feb 2025 11:49:48 +0100 (CET) Received: from mail-yw1-f228.google.com (mail-yw1-f228.google.com [209.85.128.228]) by mails.dpdk.org (Postfix) with ESMTP id B94B64025A for ; Wed, 19 Feb 2025 11:49:47 +0100 (CET) Received: by mail-yw1-f228.google.com with SMTP id 00721157ae682-6fb2a0e4125so50793987b3.1 for ; Wed, 19 Feb 2025 02:49:47 -0800 (PST) DKIM-Signature: v=1; a=rsa-sha256; c=relaxed/relaxed; d=iol.unh.edu; s=unh-iol; t=1739962187; x=1740566987; darn=dpdk.org; h=references:in-reply-to:cc:to:from:subject:message-id:date:from:to :cc:subject:date:message-id:reply-to; bh=u+d43JiKP2+Bkkv4Bw5ZOFrd5UuxWoAC6vXLTi6RRwo=; b=KWdSZpAGKvpsgEhrzY7ZN1NdB5RhDUQB3WFoVnUOqFrLoZQMRQd1bWtNSy37gpzbe3 7CjgW/iEa/dyJhRZY257FH9v3lbZD4JB7E+sfxMeS0o153/6PxFWAYJoDcvve7ZvQqHs AZGoXSWibt0sDFgt7IMgRUchGpjh+/qK31Ub8= X-Google-DKIM-Signature: v=1; a=rsa-sha256; c=relaxed/relaxed; d=1e100.net; s=20230601; t=1739962187; x=1740566987; h=references:in-reply-to:cc:to:from:subject:message-id:date :x-gm-message-state:from:to:cc:subject:date:message-id:reply-to; bh=u+d43JiKP2+Bkkv4Bw5ZOFrd5UuxWoAC6vXLTi6RRwo=; b=Dt4rvV5+ltiPVoaqf+/v50dSTMgmfUOxAqrWqOd/6TgexXDF9eILpAmBdYz8mAD48H PTjeBgg1sYz9TdOpNYMudMpyTt4JpujZRWVrUv7MBZmScDTTmJte8sbC3nxKTpakxRx2 Nr9HkEOJcKjPmUx2EJShZAjZ0cd0tWsbzB6R5LknxTzJ+BuJmWfz4705UkWwh569CCsw X3HIeIVfxmgovvFf/2Ql55mrBMxA1fGUBi6mHv+NYwG1s4vH8Nhupk85oBhY2ZHnLxYZ cms7gEDcVwco/V91T8csH1cPiJ8GBlW/mN4RWxty0u1xpcjy42/Mc1+loTf4KUa6zeSu IPUg== X-Gm-Message-State: AOJu0YxV19UTp20lLQbCM4H0deSzqC/6oQstAfBpFEUc8ypcYArY4lBb gUJU/SVFB12+VcNK2+O4tFIy7ykxdrcTxNiLZrpz08jzOf4Vx7FQE0CqQ32L74k0e0koPtTC0Qt 2fqb+N/odUnHW7fXQClvB503uxol0Ox8Z8wvMGUBi6kZd/8gStvacBTyM X-Gm-Gg: ASbGncsO7uIawc6x2ibiqJ+RAT27Bthu3mrXpzQwB1jItHwPIDPntW3h+fjHfGB9G4C Nt0TFd4EWKN8yWIuRzm00A3lRXt/ILK4+1Es2UZm4ZWJrw+f19+e567B5bbEB2qubUUG0gwqwXr 8fzdFL1BkDn+COEhdv7eIaSGWf9Hof89GxGJqq/4t7JVjGo6hfqjK9spnCNyaPHYDTXUFcaA88p QYmIrxEjVnS+TYw2//7uYZ7MR3Gtb9dcU2Ka7sqHnMUXWKe4ohSVwuEuIKZiSHkEPX7RduSeMI2 iqYUO6gUQwH2eFK6BS9WNgQBipVxiYHIor9LAmUyAw== X-Google-Smtp-Source: AGHT+IHTrb0dE02JiGF9ixbbSpi5ruNA1PwccW4mveRaWj1UlCtjdKPHI/k4BovZ762k9JvC3m/AxN8dq+sy X-Received: by 2002:a05:690c:fcb:b0:6f6:cd43:543c with SMTP id 00721157ae682-6fb5835c44amr133560467b3.34.1739962186973; Wed, 19 Feb 2025 02:49:46 -0800 (PST) Received: from postal.iol.unh.edu (postal.iol.unh.edu. [2606:4100:3880:1234::84]) by smtp-relay.gmail.com with ESMTPS id 00721157ae682-6fb3617ab93sm3247137b3.58.2025.02.19.02.49.46 (version=TLS1_2 cipher=ECDHE-ECDSA-AES128-GCM-SHA256 bits=128/128); Wed, 19 Feb 2025 02:49:46 -0800 (PST) X-Relaying-Domain: iol.unh.edu Date: Wed, 19 Feb 2025 02:49:46 -0800 (PST) Message-ID: <67b5b74a.050a0220.61a9a.f8c2SMTPIN_ADDED_MISSING@mx.google.com> Received: from [172.17.0.3] (unknown [172.18.0.217]) by postal.iol.unh.edu (Postfix) with ESMTP id 8B52C6052471; Wed, 19 Feb 2025 05:49:46 -0500 (EST) Subject: |SUCCESS| pw151613-151639 [PATCH] [v13,28/28] net/rnp: support Rx/Tx From: dpdklab@iol.unh.edu To: Test Report Cc: dpdk-test-reports@iol.unh.edu In-Reply-To: <1739951849-67601-29-git-send-email-caowenbo@mucse.com> References: <1739951849-67601-29-git-send-email-caowenbo@mucse.com> Content-Type: text/plain X-BeenThere: test-report@dpdk.org X-Mailman-Version: 2.1.29 Precedence: list List-Id: automatic DPDK test reports List-Unsubscribe: , List-Archive: List-Post: List-Help: List-Subscribe: , Errors-To: test-report-bounces@dpdk.org Test-Label: iol-sample-apps-testing Test-Status: SUCCESS http://dpdk.org/patch/151639 _Testing PASS_ Submitter: Wenbo Cao Date: Wednesday, February 19 2025 07:57:29 DPDK git baseline: Repo:dpdk Branch: master CommitID:968f7b6d7b6a7e60e6e551db430c4eecaccbbfd2 151613-151639 --> testing pass Upstream job id: ACVP-FIPS-testing#8959 Test environment and result as below: +--------------------+----------------------+----------------------+ | Environment | compressdev_zlib_pmd | dpdk_fips_validation | +====================+======================+======================+ | Ubuntu 22.04 (ARM) | PASS | SKIPPED | +--------------------+----------------------+----------------------+ | Ubuntu 22.04 | PASS | SKIPPED | +--------------------+----------------------+----------------------+ | Ubuntu 20.04 | SKIPPED | PASS | +--------------------+----------------------+----------------------+ Ubuntu 22.04 (ARM) Kernel: 5.15.0-97-generic Compiler: gcc gcc (Ubuntu 11.4.0-1ubuntu1~22.04) 11.4.0 Ubuntu 22.04 Kernel: 5.15.0-100-generic Compiler: gcc gcc (Ubuntu 11.4.0-1ubuntu1~22.04) 11.4.0 Ubuntu 20.04 Kernel: Depends on container host Compiler: gcc (Ubuntu 9.4.0-1ubuntu1~20.04.2) 9.4.0 To view detailed results, visit: https://lab.dpdk.org/results/dashboard/patchsets/32609/ UNH-IOL DPDK Community Lab To manage your email subscriptions, visit: https://lab.dpdk.org/results/dashboard/preferences/subscriptions/