From mboxrd@z Thu Jan 1 00:00:00 1970 Return-Path: Received: from mails.dpdk.org (mails.dpdk.org [217.70.189.124]) by inbox.dpdk.org (Postfix) with ESMTP id 6BD5146267 for ; Wed, 19 Feb 2025 11:53:24 +0100 (CET) Received: from mails.dpdk.org (localhost [127.0.0.1]) by mails.dpdk.org (Postfix) with ESMTP id 48FF84028B; Wed, 19 Feb 2025 11:53:24 +0100 (CET) Received: from mail-io1-f98.google.com (mail-io1-f98.google.com [209.85.166.98]) by mails.dpdk.org (Postfix) with ESMTP id 788954025A for ; Wed, 19 Feb 2025 11:53:23 +0100 (CET) Received: by mail-io1-f98.google.com with SMTP id ca18e2360f4ac-851c4f1fb18so257364139f.2 for ; Wed, 19 Feb 2025 02:53:23 -0800 (PST) DKIM-Signature: v=1; a=rsa-sha256; c=relaxed/relaxed; d=iol.unh.edu; s=unh-iol; t=1739962403; x=1740567203; darn=dpdk.org; h=cc:to:from:subject:message-id:date:from:to:cc:subject:date :message-id:reply-to; bh=BIM0PpoL9rX8JbGz6ELMd9SNb8TLFleal9UzMV5co38=; b=aklkkWDiwUKfKCB8T6jIojiS9jPlU3RV0+fpxWb+EkarDy6r3kAdkS3b9VRKgguNK9 ot3KeU/KB1UMkCZtCgVPCg1FqRcfrbQH9uRjt6r0KplTjcONRPRv4wo+BCb8bLseadX6 yUZQiBHeJxLU6KZFv0eq5ajfLSmifIkMXFtmQ= X-Google-DKIM-Signature: v=1; a=rsa-sha256; c=relaxed/relaxed; d=1e100.net; s=20230601; t=1739962403; x=1740567203; h=cc:to:from:subject:message-id:date:x-gm-message-state:from:to:cc :subject:date:message-id:reply-to; bh=BIM0PpoL9rX8JbGz6ELMd9SNb8TLFleal9UzMV5co38=; b=Ww52srXKcovRf8a8DQaDeJrCAA8WETo1aoXYyigJHaKDathifNWzm2GYzfBWvshjjH JpyqJJRECMQ0wNTORlYC2BLyg/9aGwT1Xh7cYoujo9I1GUq/Yu6ovllZ+rt++3UkTiP1 1lFIsgYxAFtDcHxvM5obpAEWUEguAFCQJ5ze6b7VVi3ElhLUnI9eTGyWKEW6NEUXH7t6 NuCaJU3QIHHzdR4Cg4PN4HyWiwBrza6MT6cP3Cwg7/TCia53etW1WJeH2kLHBzTmoS5U OAja4+orqv8aogfKr7iuW6SZGehusYOBZA5zGqrsO4cwu7GmUySk6kpW0o0kHQ+c8K1K c95g== X-Gm-Message-State: AOJu0Yy9mrrsg5PJB/s65Xr1Oi8IFMHayloHZLyUZ5LmhUwiFMF9vWY3 XaCGMHHe1wqoa10J+biV+QcyaE4KwV9OTX+ZGJGCAO6VRE5ANZXqrVttJz3Mh2No3zJJxrxUDGu M84bes2QXTTrrW5u05MDogEgwrz9Ta/++ X-Gm-Gg: ASbGnctThem1pviqfzIo2pijDHmb9sMmp5UETZ6WCriY+xxDWXyJpMIMO7r7uaANHsT McUiBd5E/iMUzN73hg4Bu27bxetBKdArTFWfFXAs/mxfQwl8BwFQj1WMWP6cpXI3x7fbsIANAh+ poboMlEVs34SKPTkJ6i3wj/pFcFVWRI5HtMkEwjlpsjlsrneMBN30FNYRJrAEcwlzodiiBCGFaS G65dVO51AME/TMR2Dnef6Flj2S1wBlTI8umerh3Rf8l9NnCc2mdg7VSQ0A/SfxxuX+Pqyqx33Kk 7Rw3VsKeDZLOjhHyY8X8AlA6/g9BGw== X-Google-Smtp-Source: AGHT+IH/X9DTj8w1FJ4atO20imxGETnZdXNS+k4OaVTh97QZGgaYLkNYrex1fsLqNEyc1HR7wSjrJ4NNiAm4 X-Received: by 2002:a05:6e02:1aaf:b0:3d2:a5a0:8afa with SMTP id e9e14a558f8ab-3d2b5296431mr30376425ab.6.1739962402767; Wed, 19 Feb 2025 02:53:22 -0800 (PST) Received: from postal.iol.unh.edu (postal.iol.unh.edu. [132.177.123.84]) by smtp-relay.gmail.com with ESMTPS id 8926c6da1cb9f-4eea08feec0sm350592173.13.2025.02.19.02.53.22 (version=TLS1_2 cipher=ECDHE-ECDSA-AES128-GCM-SHA256 bits=128/128); Wed, 19 Feb 2025 02:53:22 -0800 (PST) X-Relaying-Domain: iol.unh.edu Date: Wed, 19 Feb 2025 02:53:22 -0800 (PST) Message-ID: <67b5b822.050a0220.218f18.04e0SMTPIN_ADDED_MISSING@mx.google.com> Received: from [172.17.0.3] (unknown [172.18.0.217]) by postal.iol.unh.edu (Postfix) with ESMTP id 38AB46052471; Wed, 19 Feb 2025 05:53:22 -0500 (EST) Subject: |SUCCESS| [GIT MASTER] 7ce7d3341d7e21c2a81f2fea8e451681d7306d77 From: dpdklab@iol.unh.edu To: Test Report Cc: dpdk-test-reports@iol.unh.edu, Xueming Li , Christian Ehrhardt , Kevin Traynor , Luca Boccassi Content-Type: text/plain X-BeenThere: test-report@dpdk.org X-Mailman-Version: 2.1.29 Precedence: list List-Id: automatic DPDK test reports List-Unsubscribe: , List-Archive: List-Post: List-Help: List-Subscribe: , Errors-To: test-report-bounces@dpdk.org _Testing PASS_ Branch: tags/v22.11 7ce7d3341d7e21c2a81f2fea8e451681d7306d77 --> testing pass Upstream job id: Generic-DPDK-Compile-Meson#362930 Test environment and result as below: +------------------------------------+--------------------+ | Environment | dpdk_meson_compile | +====================================+====================+ | RHEL9 (ARM) | PASS | +------------------------------------+--------------------+ | Ubuntu 20.04 ARM SVE | PASS | +------------------------------------+--------------------+ | Debian 12 with MUSDK | PASS | +------------------------------------+--------------------+ | Fedora 40 (ARM) | PASS | +------------------------------------+--------------------+ | Fedora 40 (ARM Clang) | PASS | +------------------------------------+--------------------+ | Fedora 41 (ARM) | PASS | +------------------------------------+--------------------+ | Fedora 41 (ARM Clang) | PASS | +------------------------------------+--------------------+ | Ubuntu 20.04 (ARM) | PASS | +------------------------------------+--------------------+ | Ubuntu 22.04 (ARM) | PASS | +------------------------------------+--------------------+ | CentOS Stream 10 (ARM) | PASS | +------------------------------------+--------------------+ | CentOS Stream 9 (ARM) | PASS | +------------------------------------+--------------------+ | Ubuntu 24.04 (ARM) | PASS | +------------------------------------+--------------------+ | Debian 11 (Buster) (ARM) | PASS | +------------------------------------+--------------------+ | Ubuntu 20.04 ARM GCC Cross Compile | PASS | +------------------------------------+--------------------+ | Debian 12 (arm) | PASS | +------------------------------------+--------------------+ RHEL9 (ARM) Kernel: Depends on container host Compiler: gcc 11.5.0 20240719 (Red Hat 11.5.0-2) Ubuntu 20.04 ARM SVE Kernel: Depends on container host Compiler: gcc (Ubuntu 10.5.0-1ubuntu1~20.04) 10.5.0 Debian 12 with MUSDK Kernel: Depends on container host Compiler: gcc (Debian 12.2.0-14) 12.2.0 Fedora 40 (ARM) Kernel: Depends on container host Compiler: gcc 14.2.1 20240912 (Red Hat 14.2.1-3) Fedora 40 (ARM Clang) Kernel: Depends on container host Compiler: clang 18.1.8 (Fedora 18.1.8-1.fc40) Fedora 41 (ARM) Kernel: Depends on container host Compiler: gcc 14.2.1 20240912 (Red Hat 14.2.1-3) Fedora 41 (ARM Clang) Kernel: Depends on container host Compiler: clang 19.1.5 (Fedora 19.1.5-1.fc41) Ubuntu 20.04 (ARM) Kernel: Depends on container host Compiler: gcc (Ubuntu 9.4.0-1ubuntu1~20.04.2) 9.4.0 Ubuntu 22.04 (ARM) Kernel: Depends on container host Compiler: gcc (Ubuntu 11.4.0-1ubuntu1~22.04) 11.4.0 CentOS Stream 10 (ARM) Kernel: Depends on container host Compiler: gcc 14.2.1 20241104 (Red Hat 14.2.1-6) CentOS Stream 9 (ARM) Kernel: Depends on container host Compiler: gcc 11.5.0 20240719 (Red Hat 11.5.0-2) Ubuntu 24.04 (ARM) Kernel: Depends on container host Compiler: gcc (Ubuntu 13.3.0-6ubuntu2~24.04) 13.3.0 Debian 11 (Buster) (ARM) Kernel: Depends on container host Compiler: gcc (Debian 10.2.1-6) 10.2.1 20210110 Ubuntu 20.04 ARM GCC Cross Compile Kernel: Depends on container host Compiler: aarch64-linux-gnu-gcc (Ubuntu 9.4.0-1ubuntu1~20.04.2) 9.4.0 Debian 12 (arm) Kernel: Depends on container host Compiler: gcc (Debian 12.2.0-14) 12.2.0 To view detailed results, visit: https://lab.dpdk.org/results/dashboard/tarballs/32620/ UNH-IOL DPDK Community Lab To manage your email subscriptions, visit: https://lab.dpdk.org/results/dashboard/preferences/subscriptions/