From mboxrd@z Thu Jan 1 00:00:00 1970 Return-Path: Received: from mails.dpdk.org (mails.dpdk.org [217.70.189.124]) by inbox.dpdk.org (Postfix) with ESMTP id 3C50846268 for ; Wed, 19 Feb 2025 13:23:38 +0100 (CET) Received: from mails.dpdk.org (localhost [127.0.0.1]) by mails.dpdk.org (Postfix) with ESMTP id 3470440E12; Wed, 19 Feb 2025 13:23:38 +0100 (CET) Received: from mail-pl1-f225.google.com (mail-pl1-f225.google.com [209.85.214.225]) by mails.dpdk.org (Postfix) with ESMTP id 61FD840DDC for ; Wed, 19 Feb 2025 13:23:37 +0100 (CET) Received: by mail-pl1-f225.google.com with SMTP id d9443c01a7336-220d132f16dso96001165ad.0 for ; Wed, 19 Feb 2025 04:23:37 -0800 (PST) DKIM-Signature: v=1; a=rsa-sha256; c=relaxed/relaxed; d=iol.unh.edu; s=unh-iol; t=1739967816; x=1740572616; darn=dpdk.org; h=references:in-reply-to:cc:to:from:subject:message-id:date:from:to :cc:subject:date:message-id:reply-to; bh=WVWY0pqWRdBpG36I7iBJ9meWAb/ojMoawmr9hZ6Qd3w=; b=LELy8DApB7aoH0NIuzHtd8sMe1dLxJdZKaNYvV7HEN/G3GgZR5z/HKi0oM+/enQFvz X2lNNWTeugac7egB4T1maLE1XjsiH6QeQHnP6XPMhk4GxXeE+BGIBqpV7GiZpvd+KjNw u3j1bRIKR11ekY6YMEsG7P9L6NIxQY7EwRrzU= X-Google-DKIM-Signature: v=1; a=rsa-sha256; c=relaxed/relaxed; d=1e100.net; s=20230601; t=1739967816; x=1740572616; h=references:in-reply-to:cc:to:from:subject:message-id:date :x-gm-message-state:from:to:cc:subject:date:message-id:reply-to; bh=WVWY0pqWRdBpG36I7iBJ9meWAb/ojMoawmr9hZ6Qd3w=; b=fzlghIbYPk8Wt4gJ6W3olLXQGwPSCypaTsaxlwrcqpoCe+eTkP/H5JnX/Cxg16Z9wX pv8pNmGULkzxm0h8yKPztzdO2Pbl+EWBm0+kP5y+lfhFBjtF29YIE0AL7M9n6MZX0WyM wZd1+2NuksnpHUq3xX9emyKRPEWzXX2GWxLU5sIbwkUw+kcq3T+uY+49okmHIXTay+v+ lEigkmQRi4ZPHCv8nZSoFzc7UxFk/pE3Pcu+sTUDxZnowIwIr9qT4wSlRJwV7F1kuar9 1yEeQp4Fb3Ji8mrl7pBZK5tQgcqwZV8jR/pW0c7uCyx0gr9TShrRB7YzhjvUruUSvLGm XJqQ== X-Gm-Message-State: AOJu0Ywd0ByQ90kgynCfAdjlyE1j/I5fHwTqqtTfLB6eBxdP6XjXxWxZ RxrQCoeNBAQHTCRkHO/dQVmV+nSQ449UlHln5JPIdb65fCn8kT77yXtqGkf2JOBGS9AL5djOdmf wBUvAstCrCVmdAyjXwVwWuJdsS71esaBkkFSBFMVK7d0OCOKrENsrNkrI X-Gm-Gg: ASbGncsUUITHsKUrHJLW4UOAvj+rR1GBeoKiWyxqE6tSvTyFKurYppaxP6oU/4JDXFL 6Me/O0NwN2Zihi+BaAtGvJJJLPVn1SGfcelXHwZ+UFt69htvZJ1b8jaqbMUIsP+UkLdRDuaIo47 wwLI14hKO5qPZ6qk24SfyrBLjP8udM+h4PWaqnkaNhb5acCASgnJ1bKE8ld0rG/QTvoYuQfBhgv in+LaJKOATiH+Efd616/rfK6QzwXgY8R4AjgkflpJtSvIvQq8M9C6VkStrhNiPk63UH+bg/hGTI RL6kHTxsRiUhP+BNusq81PdBt/Vn1tf9xHcqDzA8Fg== X-Google-Smtp-Source: AGHT+IELMgLcahFcpxqtMTzm5eEDIgQvpOrvKpz2jEYTkAGcyhI+69hc2Z7IB/8ISFawIf5WyTFvUjlYyce4 X-Received: by 2002:a05:6a21:3e0f:b0:1ee:ce5b:853d with SMTP id adf61e73a8af0-1eed5054030mr3725297637.39.1739967816476; Wed, 19 Feb 2025 04:23:36 -0800 (PST) Received: from postal.iol.unh.edu (postal.iol.unh.edu. [2606:4100:3880:1234::84]) by smtp-relay.gmail.com with ESMTPS id d2e1a72fcca58-732427650edsm994064b3a.21.2025.02.19.04.23.36 (version=TLS1_2 cipher=ECDHE-ECDSA-AES128-GCM-SHA256 bits=128/128); Wed, 19 Feb 2025 04:23:36 -0800 (PST) X-Relaying-Domain: iol.unh.edu Date: Wed, 19 Feb 2025 04:23:36 -0800 (PST) Message-ID: <67b5cd48.050a0220.39702e.113cSMTPIN_ADDED_MISSING@mx.google.com> Received: from [172.21.0.7] (unknown [172.18.0.240]) by postal.iol.unh.edu (Postfix) with ESMTP id 369AF6052471; Wed, 19 Feb 2025 07:23:35 -0500 (EST) Subject: |SUCCESS| pw151640-151647 [PATCH] [v7,8/8] devtools: add script to g From: dpdklab@iol.unh.edu To: Test Report Cc: dpdk-test-reports@iol.unh.edu In-Reply-To: <169e9b696f26a856ad59012590191c7ce799b175.1739962646.git.anatoly.burakov@intel.com> References: <169e9b696f26a856ad59012590191c7ce799b175.1739962646.git.anatoly.burakov@intel.com> Content-Type: text/plain X-BeenThere: test-report@dpdk.org X-Mailman-Version: 2.1.29 Precedence: list List-Id: automatic DPDK test reports List-Unsubscribe: , List-Archive: List-Post: List-Help: List-Subscribe: , Errors-To: test-report-bounces@dpdk.org Test-Label: iol-sample-apps-testing Test-Status: SUCCESS http://dpdk.org/patch/151647 _Testing PASS_ Submitter: Anatoly Burakov Date: Wednesday, February 19 2025 10:57:54 DPDK git baseline: Repo:dpdk Branch: master CommitID:fd233ad17e5ffa42d50f1625165a7fce3f1cbc5f 151640-151647 --> testing pass Upstream job id: Template-DTS-Pipeline#213282 Test environment and result as below: +--------------------+----------------------+----------------------+ | Environment | dpdk_fips_validation | compressdev_zlib_pmd | +====================+======================+======================+ | Ubuntu 20.04 | PASS | SKIPPED | +--------------------+----------------------+----------------------+ | Ubuntu 22.04 (ARM) | SKIPPED | PASS | +--------------------+----------------------+----------------------+ | Ubuntu 22.04 | SKIPPED | PASS | +--------------------+----------------------+----------------------+ Ubuntu 20.04 Kernel: Depends on container host Compiler: gcc (Ubuntu 9.4.0-1ubuntu1~20.04.2) 9.4.0 Ubuntu 22.04 (ARM) Kernel: 5.15.0-97-generic Compiler: gcc gcc (Ubuntu 11.4.0-1ubuntu1~22.04) 11.4.0 Ubuntu 22.04 Kernel: 5.15.0-100-generic Compiler: gcc gcc (Ubuntu 11.4.0-1ubuntu1~22.04) 11.4.0 To view detailed results, visit: https://lab.dpdk.org/results/dashboard/patchsets/32610/ UNH-IOL DPDK Community Lab To manage your email subscriptions, visit: https://lab.dpdk.org/results/dashboard/preferences/subscriptions/