From mboxrd@z Thu Jan 1 00:00:00 1970 Return-Path: Received: from mails.dpdk.org (mails.dpdk.org [217.70.189.124]) by inbox.dpdk.org (Postfix) with ESMTP id 23B1946268 for ; Wed, 19 Feb 2025 13:31:53 +0100 (CET) Received: from mails.dpdk.org (localhost [127.0.0.1]) by mails.dpdk.org (Postfix) with ESMTP id 0298D40E12; Wed, 19 Feb 2025 13:31:53 +0100 (CET) Received: from mail-pl1-f226.google.com (mail-pl1-f226.google.com [209.85.214.226]) by mails.dpdk.org (Postfix) with ESMTP id 2262040DDC for ; Wed, 19 Feb 2025 13:31:52 +0100 (CET) Received: by mail-pl1-f226.google.com with SMTP id d9443c01a7336-220e6028214so115934795ad.0 for ; Wed, 19 Feb 2025 04:31:52 -0800 (PST) DKIM-Signature: v=1; a=rsa-sha256; c=relaxed/relaxed; d=iol.unh.edu; s=unh-iol; t=1739968311; x=1740573111; darn=dpdk.org; h=references:in-reply-to:cc:to:from:subject:message-id:date:from:to :cc:subject:date:message-id:reply-to; bh=bC9Rs6bktkpt4TF8Hq5g3D82noVLr1jntG16NGPmpY8=; b=NCboxq6e6pGN4CP+LcH/+V5jMdJ6GlB0IgUTfPTHlHXWWOCquLIOPU12QZ9eo0101t 6v5b+uVDmV64dLsJw2IVyi2rh53UswlQKRoLw9HYakV0DoECEg2vXsnm2vgUuVQdqs0K fdUwnqDrWq2dFkAXpSQjzmsSfA7o2+PYCqBnQ= X-Google-DKIM-Signature: v=1; a=rsa-sha256; c=relaxed/relaxed; d=1e100.net; s=20230601; t=1739968311; x=1740573111; h=references:in-reply-to:cc:to:from:subject:message-id:date :x-gm-message-state:from:to:cc:subject:date:message-id:reply-to; bh=bC9Rs6bktkpt4TF8Hq5g3D82noVLr1jntG16NGPmpY8=; b=YC7ZPaCWNobv5rxOxxIuMLYexyS3PxLnzLWylBg7LCQSieg/HUPlvaHzXWkSVa4cop ABypoAV0cQpJstCOBVR7Px/Gzc5nbyaW2cntO9Y2bpMLX/ImJ5vCWVXzv0vAONgDYR6g iLNPvDuQgtuKPRNMBou24eOujUpLxyv1ig69VZicNqVxrBoW8LOFtIQC6ZL2FAmnsuz7 q/YFxoWdrmXchPKROiRZRCur2vp6CtoXnu/Fdb65pQ385hpESHz5FofazvizJGFsPvAj dokBekZXDGOtoO1Le7eddNMCqKjihVmiO4uPTimEV5UB70rn7kxMqE5h0RUQIjWSgZJk Laqg== X-Gm-Message-State: AOJu0YwkU62gs8brRGkST4XvtLD78ullLF4iBT9kCfrnAOlyuJ82Fbu2 g5HaA5Wq/Ii450O2Wn1P1Y/FbStZyU+QfXYvQ7eeKZvqYyc1N+EoSx5hFP3fyi1sIFhcfY28KV3 LRl2B4gbbtfTrj0OsWvWgz211pl0APzfhJGqAPBJD X-Gm-Gg: ASbGncvkT4QsASSSKB+rlMv+8WJl5lE9qpo7PeiWHA97HyX6usi7Jg707IelnzcRFCh K7fHlbYzabQ+tUFdo7Px86e4qLxOclm2BW1UtBASZoBXhT35ZNrCMm8EI1LfIP4SdiE+Rf4glnw 7UxZpQ+lsmFxT7dPC0h+iOTbtgd1CoQ54/rp4vJJoXk7LIf2Qj5TZG6wjUKtOaMl+bOM6y1tA37 V08Bx4JLspn0SpTWr+Cc1r7zblNjq8YgmxH0nibjpHmyPaEjmN0AbGHou9swlq/O8+I/3oJlK5V sRXwEbxbsyIgv2zfpFKB55lqd6li/g== X-Google-Smtp-Source: AGHT+IEyVDtBdklJzzfqNLnI1rKtU2JVVQTx8BHj5yC0LcqfzRMbmTMUNeQpDv/rOtKkxOmiYnd7gbPkwIZM X-Received: by 2002:a17:903:2312:b0:215:8847:435c with SMTP id d9443c01a7336-22103f12d37mr300146965ad.12.1739968311187; Wed, 19 Feb 2025 04:31:51 -0800 (PST) Received: from postal.iol.unh.edu (postal.iol.unh.edu. [132.177.123.84]) by smtp-relay.gmail.com with ESMTPS id d9443c01a7336-220d53fa1bdsm6217945ad.81.2025.02.19.04.31.51 (version=TLS1_2 cipher=ECDHE-ECDSA-AES128-GCM-SHA256 bits=128/128); Wed, 19 Feb 2025 04:31:51 -0800 (PST) X-Relaying-Domain: iol.unh.edu Date: Wed, 19 Feb 2025 04:31:51 -0800 (PST) Message-ID: <67b5cf37.170a0220.359988.d898SMTPIN_ADDED_MISSING@mx.google.com> Received: from [172.17.0.3] (unknown [172.18.0.217]) by postal.iol.unh.edu (Postfix) with ESMTP id 661116052471; Wed, 19 Feb 2025 07:31:42 -0500 (EST) Subject: |SUCCESS| pw151640-151647 [PATCH] [v7,8/8] devtools: add script to g From: dpdklab@iol.unh.edu To: Test Report Cc: dpdk-test-reports@iol.unh.edu In-Reply-To: <169e9b696f26a856ad59012590191c7ce799b175.1739962646.git.anatoly.burakov@intel.com> References: <169e9b696f26a856ad59012590191c7ce799b175.1739962646.git.anatoly.burakov@intel.com> Content-Type: text/plain X-BeenThere: test-report@dpdk.org X-Mailman-Version: 2.1.29 Precedence: list List-Id: automatic DPDK test reports List-Unsubscribe: , List-Archive: List-Post: List-Help: List-Subscribe: , Errors-To: test-report-bounces@dpdk.org Test-Label: iol-abi-testing Test-Status: SUCCESS http://dpdk.org/patch/151647 _Testing PASS_ Submitter: Anatoly Burakov Date: Wednesday, February 19 2025 10:57:54 DPDK git baseline: Repo:dpdk Branch: master CommitID:fd233ad17e5ffa42d50f1625165a7fce3f1cbc5f 151640-151647 --> testing pass Upstream job id: Generic-DPDK-Compile-ABI#116737 Test environment and result as below: +-------------------+----------+ | Environment | abi_test | +===================+==========+ | CentOS Stream 9 | PASS | +-------------------+----------+ | Debian Bullseye | PASS | +-------------------+----------+ | CentOS Stream 10 | PASS | +-------------------+----------+ | Debian 12 | PASS | +-------------------+----------+ | Fedora 40 (Clang) | PASS | +-------------------+----------+ | Fedora 41 (Clang) | PASS | +-------------------+----------+ | Fedora 41 | PASS | +-------------------+----------+ | Fedora 40 | PASS | +-------------------+----------+ | openSUSE Leap 15 | PASS | +-------------------+----------+ | RHEL8 | PASS | +-------------------+----------+ | RHEL9 | PASS | +-------------------+----------+ | Ubuntu 22.04 | PASS | +-------------------+----------+ | Ubuntu 24.04 | PASS | +-------------------+----------+ CentOS Stream 9 Kernel: Depends on container host Compiler: gcc 11.5.0 20240719 (Red Hat 11.5.0-2) Debian Bullseye Kernel: Depends on container host Compiler: gcc (Debian 10.2.1-6) 10.2.1 20210110 CentOS Stream 10 Kernel: Depends on container host Compiler: gcc 14.2.1 20241104 (Red Hat 14.2.1-6) Debian 12 Kernel: Depends on container host Compiler: gcc (Debian 12.2.0-14) 12.2.0 Fedora 40 (Clang) Kernel: Depends on container host Compiler: clang 18.1.8 (Fedora 18.1.8-1.fc40) Fedora 41 (Clang) Kernel: Depends on container host Compiler: clang 19.1.5 (Fedora 19.1.5-1.fc41) Fedora 41 Kernel: Depends on container host Compiler: gcc 14.2.1 20240912 (Red Hat 14.2.1-3) Fedora 40 Kernel: Depends on container host Compiler: gcc 14.2.1 20240912 (Red Hat 14.2.1-3) openSUSE Leap 15 Kernel: Depends on container host Compiler: gcc (SUSE Linux) 7.5.0 RHEL8 Kernel: Depends on container host Compiler: gcc 8.5.0 20210514 (Red Hat 8.5.0-22) RHEL9 Kernel: Depends on container host Compiler: gcc 11.5.0 20240719 (Red Hat 11.5.0-2) Ubuntu 22.04 Kernel: Depends on container host Compiler: gcc (Ubuntu 11.4.0-1ubuntu1~22.04) 11.4.0 Ubuntu 24.04 Kernel: Depends on container host Compiler: gcc (Ubuntu 13.3.0-6ubuntu2~24.04) 13.3.0 To view detailed results, visit: https://lab.dpdk.org/results/dashboard/patchsets/32610/ UNH-IOL DPDK Community Lab To manage your email subscriptions, visit: https://lab.dpdk.org/results/dashboard/preferences/subscriptions/