automatic DPDK test reports
 help / color / mirror / Atom feed
From: dpdklab@iol.unh.edu
To: Test Report <test-report@dpdk.org>
Cc: dpdk-test-reports@iol.unh.edu
Subject: |SUCCESS| pw151640-151647 [PATCH] [v7,8/8] devtools: add script to g
Date: Wed, 19 Feb 2025 05:28:49 -0800 (PST)	[thread overview]
Message-ID: <67b5dc91.050a0220.13bd41.2337SMTPIN_ADDED_MISSING@mx.google.com> (raw)
In-Reply-To: <169e9b696f26a856ad59012590191c7ce799b175.1739962646.git.anatoly.burakov@intel.com>

Test-Label: iol-unit-arm64-testing
Test-Status: SUCCESS
http://dpdk.org/patch/151647

_Testing PASS_

Submitter: Anatoly Burakov <anatoly.burakov@intel.com>
Date: Wednesday, February 19 2025 10:57:54 
DPDK git baseline: Repo:dpdk
  Branch: master
  CommitID:fd233ad17e5ffa42d50f1625165a7fce3f1cbc5f

151640-151647 --> testing pass

Upstream job id: Generic-Unit-Test-DPDK#316215

Test environment and result as below:

+-----------------------------+----------------+---------------------------+--------------+------------------------------+
|         Environment         | dpdk_unit_test | cryptodev_sw_zuc_autotest | lpm_autotest | cryptodev_sw_snow3g_autotest |
+=============================+================+===========================+==============+==============================+
| 32-bit Ubuntu 22.04.4 (ARM) | PASS           | SKIPPED                   | SKIPPED      | SKIPPED                      |
+-----------------------------+----------------+---------------------------+--------------+------------------------------+
| CentOS Stream 9 (ARM)       | PASS           | SKIPPED                   | SKIPPED      | SKIPPED                      |
+-----------------------------+----------------+---------------------------+--------------+------------------------------+
| CentOS Stream 10 (ARM)      | PASS           | SKIPPED                   | SKIPPED      | SKIPPED                      |
+-----------------------------+----------------+---------------------------+--------------+------------------------------+
| Fedora 40 (ARM)             | PASS           | SKIPPED                   | SKIPPED      | SKIPPED                      |
+-----------------------------+----------------+---------------------------+--------------+------------------------------+
| Debian 11 (Buster) (ARM)    | PASS           | SKIPPED                   | SKIPPED      | SKIPPED                      |
+-----------------------------+----------------+---------------------------+--------------+------------------------------+
| Debian 12 (arm)             | PASS           | PASS                      | SKIPPED      | PASS                         |
+-----------------------------+----------------+---------------------------+--------------+------------------------------+
| Fedora 41 (ARM Clang)       | PASS           | SKIPPED                   | SKIPPED      | SKIPPED                      |
+-----------------------------+----------------+---------------------------+--------------+------------------------------+
| Fedora 41 (ARM)             | PASS           | SKIPPED                   | SKIPPED      | SKIPPED                      |
+-----------------------------+----------------+---------------------------+--------------+------------------------------+
| Fedora 40 (ARM Clang)       | PASS           | SKIPPED                   | SKIPPED      | SKIPPED                      |
+-----------------------------+----------------+---------------------------+--------------+------------------------------+
| Ubuntu 20.04 (ARM)          | PASS           | SKIPPED                   | SKIPPED      | SKIPPED                      |
+-----------------------------+----------------+---------------------------+--------------+------------------------------+
| RHEL9 (ARM)                 | PASS           | SKIPPED                   | SKIPPED      | SKIPPED                      |
+-----------------------------+----------------+---------------------------+--------------+------------------------------+
| Ubuntu 22.04 (ARM)          | PASS           | SKIPPED                   | SKIPPED      | SKIPPED                      |
+-----------------------------+----------------+---------------------------+--------------+------------------------------+
| Ubuntu 24.04 (ARM)          | PASS           | SKIPPED                   | SKIPPED      | SKIPPED                      |
+-----------------------------+----------------+---------------------------+--------------+------------------------------+
| Ubuntu 20.04 ARM SVE        | SKIPPED        | SKIPPED                   | PASS         | SKIPPED                      |
+-----------------------------+----------------+---------------------------+--------------+------------------------------+


32-bit Ubuntu 22.04.4 (ARM)
	Kernel: 5.15.83+ aarch64
	Compiler: gcc (Ubuntu 11.4.0-1ubuntu1~22.04) 11.4.0

CentOS Stream 9 (ARM)
	Kernel: Depends on container host
	Compiler: gcc 11.5.0 20240719 (Red Hat 11.5.0-2)

CentOS Stream 10 (ARM)
	Kernel: Depends on container host
	Compiler: gcc 14.2.1 20241104 (Red Hat 14.2.1-6)

Fedora 40 (ARM)
	Kernel: Depends on container host
	Compiler: gcc 14.2.1 20240912 (Red Hat 14.2.1-3)

Debian 11 (Buster) (ARM)
	Kernel: Depends on container host
	Compiler: gcc (Debian 10.2.1-6) 10.2.1 20210110

Debian 12 (arm)
	Kernel: Depends on container host
	Compiler: gcc (Debian 12.2.0-14) 12.2.0

Fedora 41 (ARM Clang)
	Kernel: Depends on container host
	Compiler: clang 19.1.5 (Fedora 19.1.5-1.fc41)

Fedora 41 (ARM)
	Kernel: Depends on container host
	Compiler: gcc 14.2.1 20240912 (Red Hat 14.2.1-3)

Fedora 40 (ARM Clang)
	Kernel: Depends on container host
	Compiler: clang 18.1.8 (Fedora 18.1.8-1.fc40)

Ubuntu 20.04 (ARM)
	Kernel: Depends on container host
	Compiler: gcc (Ubuntu 9.4.0-1ubuntu1~20.04.2) 9.4.0

RHEL9 (ARM)
	Kernel: Depends on container host
	Compiler: gcc 11.5.0 20240719 (Red Hat 11.5.0-2)

Ubuntu 22.04 (ARM)
	Kernel: Depends on container host
	Compiler: gcc (Ubuntu 11.4.0-1ubuntu1~22.04) 11.4.0

Ubuntu 24.04 (ARM)
	Kernel: Depends on container host
	Compiler: gcc (Ubuntu 13.3.0-6ubuntu2~24.04) 13.3.0

Ubuntu 20.04 ARM SVE
	Kernel: Depends on container host
	Compiler: gcc (Ubuntu 10.5.0-1ubuntu1~20.04) 10.5.0

To view detailed results, visit:
https://lab.dpdk.org/results/dashboard/patchsets/32610/

UNH-IOL DPDK Community Lab

To manage your email subscriptions, visit: 
https://lab.dpdk.org/results/dashboard/preferences/subscriptions/

  parent reply	other threads:[~2025-02-19 13:28 UTC|newest]

Thread overview: 22+ messages / expand[flat|nested]  mbox.gz  Atom feed  top
     [not found] <169e9b696f26a856ad59012590191c7ce799b175.1739962646.git.anatoly.burakov@intel.com>
2025-02-19 10:27 ` |SUCCESS| pw151640-151647 [PATCH v7 8/8] devtools: add script to generate DPDK dependency graphs qemudev
2025-02-19 10:31 ` qemudev
2025-02-19 10:59 ` |SUCCESS| pw151647 " checkpatch
2025-02-19 11:43 ` |PENDING| pw151640-151647 [PATCH] [v7,8/8] devtools: add script to g dpdklab
2025-02-19 11:48 ` |SUCCESS| " dpdklab
2025-02-19 11:53 ` |PENDING| " dpdklab
2025-02-19 11:54 ` dpdklab
2025-02-19 11:55 ` dpdklab
2025-02-19 11:55 ` |SUCCESS| " dpdklab
2025-02-19 12:03 ` |SUCCESS| pw151647 [PATCH v7 8/8] devtools: add script to generate DPDK dependency graphs 0-day Robot
2025-02-19 12:21 ` |SUCCESS| pw151640-151647 [PATCH] [v7,8/8] devtools: add script to g dpdklab
2025-02-19 12:23 ` dpdklab
2025-02-19 12:31 ` dpdklab
2025-02-19 12:46 ` dpdklab
2025-02-19 13:28 ` dpdklab [this message]
2025-02-19 14:58 ` dpdklab
2025-02-19 15:43 ` dpdklab
2025-02-20 21:38 ` dpdklab
2025-02-20 22:15 ` dpdklab
2025-02-20 23:09 ` dpdklab
2025-02-21  4:20 ` dpdklab
2025-02-21  5:47 ` dpdklab

Reply instructions:

You may reply publicly to this message via plain-text email
using any one of the following methods:

* Save the following mbox file, import it into your mail client,
  and reply-to-all from there: mbox

  Avoid top-posting and favor interleaved quoting:
  https://en.wikipedia.org/wiki/Posting_style#Interleaved_style

* Reply using the --to, --cc, and --in-reply-to
  switches of git-send-email(1):

  git send-email \
    --in-reply-to=67b5dc91.050a0220.13bd41.2337SMTPIN_ADDED_MISSING@mx.google.com \
    --to=dpdklab@iol.unh.edu \
    --cc=dpdk-test-reports@iol.unh.edu \
    --cc=test-report@dpdk.org \
    /path/to/YOUR_REPLY

  https://kernel.org/pub/software/scm/git/docs/git-send-email.html

* If your mail client supports setting the In-Reply-To header
  via mailto: links, try the mailto: link
Be sure your reply has a Subject: header at the top and a blank line before the message body.
This is a public inbox, see mirroring instructions
for how to clone and mirror all data and code used for this inbox;
as well as URLs for NNTP newsgroup(s).