From mboxrd@z Thu Jan 1 00:00:00 1970 Return-Path: Received: from mails.dpdk.org (mails.dpdk.org [217.70.189.124]) by inbox.dpdk.org (Postfix) with ESMTP id DBE1546269 for ; Wed, 19 Feb 2025 14:28:51 +0100 (CET) Received: from mails.dpdk.org (localhost [127.0.0.1]) by mails.dpdk.org (Postfix) with ESMTP id D74A940E6E; Wed, 19 Feb 2025 14:28:51 +0100 (CET) Received: from mail-il1-f226.google.com (mail-il1-f226.google.com [209.85.166.226]) by mails.dpdk.org (Postfix) with ESMTP id 89BDD40E39 for ; Wed, 19 Feb 2025 14:28:50 +0100 (CET) Received: by mail-il1-f226.google.com with SMTP id e9e14a558f8ab-3d2acdea3acso5587275ab.0 for ; Wed, 19 Feb 2025 05:28:50 -0800 (PST) DKIM-Signature: v=1; a=rsa-sha256; c=relaxed/relaxed; d=iol.unh.edu; s=unh-iol; t=1739971730; x=1740576530; darn=dpdk.org; h=references:in-reply-to:cc:to:from:subject:message-id:date:from:to :cc:subject:date:message-id:reply-to; bh=B89TVHi3K941XwrPUCseXUgJKLPh4ARpL/ZTL/CW4S4=; b=VjbRJqagEaHOpds50Ef/iZ02RCmuNcQPA4TY03ef/SHjV3DrKQ9C/EUPX3BnWKVc3T ggzY7H6jHcp6/slJjwgJPU9oPbUGs82HNw48HVsBJ90p5/yIY4FtWKzXq+N54vAUkt8K ONI+Ss3AQP6YqPpD5E8fPJbb2LnpRec3MGVc4= X-Google-DKIM-Signature: v=1; a=rsa-sha256; c=relaxed/relaxed; d=1e100.net; s=20230601; t=1739971730; x=1740576530; h=references:in-reply-to:cc:to:from:subject:message-id:date :x-gm-message-state:from:to:cc:subject:date:message-id:reply-to; bh=B89TVHi3K941XwrPUCseXUgJKLPh4ARpL/ZTL/CW4S4=; b=o3GwCf9FCR8zw92oCKig7OCTKuSmt4yP83sbsZQZj2bRBFexkJzHZ0GiNyO8qz8xYU eJOSrw4dihW2lRcf9AokyLD6M8nxHiLJfacr6NzQCV3DQJsQjd5X0lffZtmCAKDPLypl 5lSo8nLDoCwUaatxXDvG2hZm1mp0ueM0pZoEhdZOYKrGPhTT253HIwbSantXOWfVWJfc j42eFhHxN8Qsrndo+DsDfzJhGTuJacZIWuwo04bfBLVT9nTBXl6R5HuEiuOEX9PwKw+w NX8A6a+gnm6gQKze6Cabe+rjQnWHAv1ZkRoBEiHw868ecpi8kc2jJqVuYFPaqUut22aV wmrA== X-Gm-Message-State: AOJu0YwLomUJctbyMkJBpPziLAyw+ELYDKdO6IUWZU3Ud7uEE0suIp1Q r2oeYXnn0cpaSyFXjp6w/knoBs5RqRMjDYhg4v7qgzBbq57dz6pfzC8AB7OwkMppO0+xJcy3rrC eFNLmW2dI4trEvj1pN1bfe5l0DEnf1Bd43xqJsXbwX75C2RAtgls1HOGG X-Gm-Gg: ASbGncveBMYullwyOJ4FmGX/uRskORdRtLx4j9Viin8oP5KssQLUE6qGscdIKG8vmjT On9aU4Ago8LYjdTHZroGsMvV2Fu6s81AuC7BkCT843tO4Fa1uxH8Hg/yv57TLHgWmfs+gv13afe n28LM1FI/aeM0zPFWQDIXp0bYIBqm7BDvAQ+xW8cGdD4uxRLjnhELfKgV5keomzJ9M02OJo/7Gf BC99OONFMO52UfUO1RYhMpVQ8kR+YVR6H0UfVYogNr+KtUSqCuPNQCEsgWrgmRJXV9AjK+WbIHC 1e5pDl4fkf9Cvf5V+GmgC+xg3AEWKz4wCsdi2ZIsmw== X-Google-Smtp-Source: AGHT+IHmEuGdkvBI4AcP4jgkwwFNabFV7Lnm/ibtUC9/ZFp8wozh56brKWFQVGaDt7G1z1CK2UzgHsLCJ4ei X-Received: by 2002:a05:6e02:1a8b:b0:3d0:10a6:99b9 with SMTP id e9e14a558f8ab-3d2b526d97dmr33699645ab.3.1739971729875; Wed, 19 Feb 2025 05:28:49 -0800 (PST) Received: from postal.iol.unh.edu (postal.iol.unh.edu. [2606:4100:3880:1234::84]) by smtp-relay.gmail.com with ESMTPS id e9e14a558f8ab-3d2bac3b5fbsm445085ab.9.2025.02.19.05.28.49 (version=TLS1_2 cipher=ECDHE-ECDSA-AES128-GCM-SHA256 bits=128/128); Wed, 19 Feb 2025 05:28:49 -0800 (PST) X-Relaying-Domain: iol.unh.edu Date: Wed, 19 Feb 2025 05:28:49 -0800 (PST) Message-ID: <67b5dc91.050a0220.13bd41.2337SMTPIN_ADDED_MISSING@mx.google.com> Received: from [172.17.0.4] (unknown [172.18.0.217]) by postal.iol.unh.edu (Postfix) with ESMTP id 2E3146052471; Wed, 19 Feb 2025 08:28:47 -0500 (EST) Subject: |SUCCESS| pw151640-151647 [PATCH] [v7,8/8] devtools: add script to g From: dpdklab@iol.unh.edu To: Test Report Cc: dpdk-test-reports@iol.unh.edu In-Reply-To: <169e9b696f26a856ad59012590191c7ce799b175.1739962646.git.anatoly.burakov@intel.com> References: <169e9b696f26a856ad59012590191c7ce799b175.1739962646.git.anatoly.burakov@intel.com> Content-Type: text/plain X-BeenThere: test-report@dpdk.org X-Mailman-Version: 2.1.29 Precedence: list List-Id: automatic DPDK test reports List-Unsubscribe: , List-Archive: List-Post: List-Help: List-Subscribe: , Errors-To: test-report-bounces@dpdk.org Test-Label: iol-unit-arm64-testing Test-Status: SUCCESS http://dpdk.org/patch/151647 _Testing PASS_ Submitter: Anatoly Burakov Date: Wednesday, February 19 2025 10:57:54 DPDK git baseline: Repo:dpdk Branch: master CommitID:fd233ad17e5ffa42d50f1625165a7fce3f1cbc5f 151640-151647 --> testing pass Upstream job id: Generic-Unit-Test-DPDK#316215 Test environment and result as below: +-----------------------------+----------------+---------------------------+--------------+------------------------------+ | Environment | dpdk_unit_test | cryptodev_sw_zuc_autotest | lpm_autotest | cryptodev_sw_snow3g_autotest | +=============================+================+===========================+==============+==============================+ | 32-bit Ubuntu 22.04.4 (ARM) | PASS | SKIPPED | SKIPPED | SKIPPED | +-----------------------------+----------------+---------------------------+--------------+------------------------------+ | CentOS Stream 9 (ARM) | PASS | SKIPPED | SKIPPED | SKIPPED | +-----------------------------+----------------+---------------------------+--------------+------------------------------+ | CentOS Stream 10 (ARM) | PASS | SKIPPED | SKIPPED | SKIPPED | +-----------------------------+----------------+---------------------------+--------------+------------------------------+ | Fedora 40 (ARM) | PASS | SKIPPED | SKIPPED | SKIPPED | +-----------------------------+----------------+---------------------------+--------------+------------------------------+ | Debian 11 (Buster) (ARM) | PASS | SKIPPED | SKIPPED | SKIPPED | +-----------------------------+----------------+---------------------------+--------------+------------------------------+ | Debian 12 (arm) | PASS | PASS | SKIPPED | PASS | +-----------------------------+----------------+---------------------------+--------------+------------------------------+ | Fedora 41 (ARM Clang) | PASS | SKIPPED | SKIPPED | SKIPPED | +-----------------------------+----------------+---------------------------+--------------+------------------------------+ | Fedora 41 (ARM) | PASS | SKIPPED | SKIPPED | SKIPPED | +-----------------------------+----------------+---------------------------+--------------+------------------------------+ | Fedora 40 (ARM Clang) | PASS | SKIPPED | SKIPPED | SKIPPED | +-----------------------------+----------------+---------------------------+--------------+------------------------------+ | Ubuntu 20.04 (ARM) | PASS | SKIPPED | SKIPPED | SKIPPED | +-----------------------------+----------------+---------------------------+--------------+------------------------------+ | RHEL9 (ARM) | PASS | SKIPPED | SKIPPED | SKIPPED | +-----------------------------+----------------+---------------------------+--------------+------------------------------+ | Ubuntu 22.04 (ARM) | PASS | SKIPPED | SKIPPED | SKIPPED | +-----------------------------+----------------+---------------------------+--------------+------------------------------+ | Ubuntu 24.04 (ARM) | PASS | SKIPPED | SKIPPED | SKIPPED | +-----------------------------+----------------+---------------------------+--------------+------------------------------+ | Ubuntu 20.04 ARM SVE | SKIPPED | SKIPPED | PASS | SKIPPED | +-----------------------------+----------------+---------------------------+--------------+------------------------------+ 32-bit Ubuntu 22.04.4 (ARM) Kernel: 5.15.83+ aarch64 Compiler: gcc (Ubuntu 11.4.0-1ubuntu1~22.04) 11.4.0 CentOS Stream 9 (ARM) Kernel: Depends on container host Compiler: gcc 11.5.0 20240719 (Red Hat 11.5.0-2) CentOS Stream 10 (ARM) Kernel: Depends on container host Compiler: gcc 14.2.1 20241104 (Red Hat 14.2.1-6) Fedora 40 (ARM) Kernel: Depends on container host Compiler: gcc 14.2.1 20240912 (Red Hat 14.2.1-3) Debian 11 (Buster) (ARM) Kernel: Depends on container host Compiler: gcc (Debian 10.2.1-6) 10.2.1 20210110 Debian 12 (arm) Kernel: Depends on container host Compiler: gcc (Debian 12.2.0-14) 12.2.0 Fedora 41 (ARM Clang) Kernel: Depends on container host Compiler: clang 19.1.5 (Fedora 19.1.5-1.fc41) Fedora 41 (ARM) Kernel: Depends on container host Compiler: gcc 14.2.1 20240912 (Red Hat 14.2.1-3) Fedora 40 (ARM Clang) Kernel: Depends on container host Compiler: clang 18.1.8 (Fedora 18.1.8-1.fc40) Ubuntu 20.04 (ARM) Kernel: Depends on container host Compiler: gcc (Ubuntu 9.4.0-1ubuntu1~20.04.2) 9.4.0 RHEL9 (ARM) Kernel: Depends on container host Compiler: gcc 11.5.0 20240719 (Red Hat 11.5.0-2) Ubuntu 22.04 (ARM) Kernel: Depends on container host Compiler: gcc (Ubuntu 11.4.0-1ubuntu1~22.04) 11.4.0 Ubuntu 24.04 (ARM) Kernel: Depends on container host Compiler: gcc (Ubuntu 13.3.0-6ubuntu2~24.04) 13.3.0 Ubuntu 20.04 ARM SVE Kernel: Depends on container host Compiler: gcc (Ubuntu 10.5.0-1ubuntu1~20.04) 10.5.0 To view detailed results, visit: https://lab.dpdk.org/results/dashboard/patchsets/32610/ UNH-IOL DPDK Community Lab To manage your email subscriptions, visit: https://lab.dpdk.org/results/dashboard/preferences/subscriptions/