automatic DPDK test reports
 help / color / mirror / Atom feed
* |SUCCESS| pw151651 [PATCH] test/ring: fix return uninitialized variable
       [not found] <20250219142314.82235-1-konstantin.ananyev@huawei.com>
@ 2025-02-19 12:53 ` qemudev
  2025-02-19 12:57 ` qemudev
                   ` (9 subsequent siblings)
  10 siblings, 0 replies; 11+ messages in thread
From: qemudev @ 2025-02-19 12:53 UTC (permalink / raw)
  To: test-report

Test-Label: loongarch-compilation
Test-Status: SUCCESS
http://dpdk.org/patch/151651

_Compilation OK_

Submitter: Konstantin Ananyev <konstantin.ananyev@huawei.com>
Date: Wed, 19 Feb 2025 09:23:14 -0500
DPDK git baseline: Repo:dpdk
  Branch: main
  CommitID: fd233ad17e5ffa42d50f1625165a7fce3f1cbc5f

151651 --> meson & ninja build successfully

Test environment and result as below:

+---------------------+----------------+
|     Environment     | compilation    |
+---------------------+----------------+
| Loongnix-Server 8.3 | PASS           |
+---------------------+----------------+

Loongnix-Server 8.3
    Kernel: 4.19.190+
    Compiler: gcc 8.3


^ permalink raw reply	[flat|nested] 11+ messages in thread

* |SUCCESS| pw151651 [PATCH] test/ring: fix return uninitialized variable
       [not found] <20250219142314.82235-1-konstantin.ananyev@huawei.com>
  2025-02-19 12:53 ` |SUCCESS| pw151651 [PATCH] test/ring: fix return uninitialized variable qemudev
@ 2025-02-19 12:57 ` qemudev
  2025-02-19 13:27 ` |WARNING| " checkpatch
                   ` (8 subsequent siblings)
  10 siblings, 0 replies; 11+ messages in thread
From: qemudev @ 2025-02-19 12:57 UTC (permalink / raw)
  To: test-report

Test-Label: loongarch-unit-testing
Test-Status: SUCCESS
http://dpdk.org/patch/151651

_Unit Testing PASS_

Submitter: Konstantin Ananyev <konstantin.ananyev@huawei.com>
Date: Wed, 19 Feb 2025 09:23:14 -0500
DPDK git baseline: Repo:dpdk
  Branch: main
  CommitID: fd233ad17e5ffa42d50f1625165a7fce3f1cbc5f

151651 --> testing pass

Test environment and result as below:

+---------------------+----------------+
|     Environment     | dpdk_unit_test |
+---------------------+----------------+
| Loongnix-Server 8.3 | PASS           |
+---------------------+----------------+

Loongnix-Server 8.3
    Kernel: 4.19.190+
    Compiler: gcc 8.3


Test result details:
  1/119 DPDK:fast-tests / acl_autotest                            OK              3.45s
  2/119 DPDK:fast-tests / alarm_autotest                          OK              1.64s
  3/119 DPDK:fast-tests / argparse_autotest                       OK              0.63s
  4/119 DPDK:fast-tests / atomic_autotest                         OK              7.28s
  5/119 DPDK:fast-tests / bitcount_autotest                       OK              0.31s
  6/119 DPDK:fast-tests / bitmap_autotest                         OK              0.31s
  7/119 DPDK:fast-tests / bitops_autotest                         OK              1.81s
  8/119 DPDK:fast-tests / bitratestats_autotest                   OK              0.31s
  9/119 DPDK:fast-tests / bitset_autotest                         OK              3.02s
 10/119 DPDK:fast-tests / bpf_autotest                            OK              0.31s
 11/119 DPDK:fast-tests / bpf_convert_autotest                    OK              0.31s
 12/119 DPDK:fast-tests / byteorder_autotest                      OK              0.31s
 13/119 DPDK:fast-tests / cfgfile_autotest                        OK              0.31s
 14/119 DPDK:fast-tests / cksum_autotest                          OK              0.31s
 15/119 DPDK:fast-tests / cmdline_autotest                        OK              0.31s
 16/119 DPDK:fast-tests / common_autotest                         OK              1.19s
 17/119 DPDK:fast-tests / compressdev_autotest                    SKIP            0.06s   exit status 77
 18/119 DPDK:fast-tests / cpuflags_autotest                       OK              0.31s
 19/119 DPDK:fast-tests / crc_autotest                            OK              0.31s
 20/119 DPDK:fast-tests / user_delay_us                           OK              0.31s
 21/119 DPDK:fast-tests / debug_autotest                          OK             20.18s
 22/119 DPDK:fast-tests / devargs_autotest                        OK              0.31s
 23/119 DPDK:fast-tests / dispatcher_autotest                     OK              2.46s
 24/119 DPDK:fast-tests / distributor_autotest                    OK              1.20s
 25/119 DPDK:fast-tests / eal_flags_c_opt_autotest                OK              0.78s
 26/119 DPDK:fast-tests / eal_flags_main_opt_autotest             OK              0.22s
 27/119 DPDK:fast-tests / eal_flags_n_opt_autotest                OK              0.20s
 28/119 DPDK:fast-tests / eal_flags_hpet_autotest                 OK              0.13s
 29/119 DPDK:fast-tests / eal_flags_no_huge_autotest              OK              0.22s
 30/119 DPDK:fast-tests / eal_flags_a_opt_autotest                OK              0.29s
 31/119 DPDK:fast-tests / eal_flags_b_opt_autotest                OK              0.24s
 32/119 DPDK:fast-tests / eal_flags_vdev_opt_autotest             OK              0.19s
 33/119 DPDK:fast-tests / eal_flags_r_opt_autotest                OK              0.18s
 34/119 DPDK:fast-tests / eal_flags_mem_autotest                  OK              0.59s
 35/119 DPDK:fast-tests / eal_flags_file_prefix_autotest          OK             22.26s
 36/119 DPDK:fast-tests / eal_flags_misc_autotest                 OK              1.04s
 37/119 DPDK:fast-tests / eal_fs_autotest                         OK              0.31s
 38/119 DPDK:fast-tests / errno_autotest                          OK              0.31s
 39/119 DPDK:fast-tests / ethdev_link_status                      OK              0.31s
 40/119 DPDK:fast-tests / event_eth_tx_adapter_autotest           OK              1.68s
 41/119 DPDK:fast-tests / event_ring_autotest                     OK              0.31s
 42/119 DPDK:fast-tests / eventdev_common_autotest                OK              0.31s
 43/119 DPDK:fast-tests / eventdev_selftest_sw                    OK              7.10s
 44/119 DPDK:fast-tests / fbarray_autotest                        OK              0.31s
 45/119 DPDK:fast-tests / fib_autotest                            OK              1.21s
 46/119 DPDK:fast-tests / fib6_autotest                           OK              0.99s
 47/119 DPDK:fast-tests / func_reentrancy_autotest                OK              2.29s
 48/119 DPDK:fast-tests / graph_autotest                          OK              0.31s
 49/119 DPDK:fast-tests / node_list_dump                          OK              0.31s
 50/119 DPDK:fast-tests / hash_autotest                           OK              0.93s
 51/119 DPDK:fast-tests / hash_readwrite_func_autotest            OK              6.41s
 52/119 DPDK:fast-tests / interrupt_autotest                      OK              1.61s
 53/119 DPDK:fast-tests / ipfrag_autotest                         OK              0.07s
 54/119 DPDK:fast-tests / ipsec_autotest                          SKIP            0.31s   exit status 77
 55/119 DPDK:fast-tests / kvargs_autotest                         OK              0.31s
 56/119 DPDK:fast-tests / latencystats_autotest                   OK              0.31s
 57/119 DPDK:fast-tests / lcore_var_autotest                      OK              0.46s
 58/119 DPDK:fast-tests / lcores_autotest                         OK              5.12s
 59/119 DPDK:fast-tests / logs_autotest                           OK              0.31s
 60/119 DPDK:fast-tests / lpm_autotest                            OK              2.38s
 61/119 DPDK:fast-tests / lpm6_autotest                           OK              5.48s
 62/119 DPDK:fast-tests / malloc_autotest                         OK             60.71s
 63/119 DPDK:fast-tests / mbuf_autotest                           OK              5.66s
 64/119 DPDK:fast-tests / mcslock_autotest                        OK              2.52s
 65/119 DPDK:fast-tests / member_autotest                         OK              1.61s
 66/119 DPDK:fast-tests / memcpy_autotest                         OK              7.14s
 67/119 DPDK:fast-tests / memory_autotest                         OK              0.09s
 68/119 DPDK:fast-tests / mempool_autotest                        OK              0.43s
 69/119 DPDK:fast-tests / memzone_autotest                        OK              0.14s
 70/119 DPDK:fast-tests / meter_autotest                          OK              0.42s
 71/119 DPDK:fast-tests / metrics_autotest                        OK              0.43s
 72/119 DPDK:fast-tests / multiprocess_autotest                   OK              0.19s
 73/119 DPDK:fast-tests / net_ether_autotest                      OK              1.09s
 74/119 DPDK:fast-tests / net_ipv6_autotest                       OK              0.43s
 75/119 DPDK:fast-tests / pcapng_autotest                         OK              6.86s
 76/119 DPDK:fast-tests / pdcp_autotest                           SKIP            0.07s   exit status 77
 77/119 DPDK:fast-tests / pdump_autotest                          OK              0.43s
 78/119 DPDK:fast-tests / per_lcore_autotest                      OK              0.62s
 79/119 DPDK:fast-tests / pflock_autotest                         OK              1.33s
 80/119 DPDK:fast-tests / pie_autotest                            OK              0.52s
 81/119 DPDK:fast-tests / ring_pmd_autotest                       OK              0.52s
 82/119 DPDK:fast-tests / power_autotest                          OK              0.52s
 83/119 DPDK:fast-tests / power_cpufreq_autotest                  SKIP            0.07s   exit status 77
 84/119 DPDK:fast-tests / power_intel_uncore_autotest             SKIP            0.42s   exit status 77
 85/119 DPDK:fast-tests / power_kvm_vm_autotest                   SKIP            0.07s   exit status 77
 86/119 DPDK:fast-tests / prefetch_autotest                       OK              0.42s
 87/119 DPDK:fast-tests / ptr_compress_autotest                   OK              0.63s
 88/119 DPDK:fast-tests / rawdev_autotest                         OK              0.43s
 89/119 DPDK:fast-tests / rcu_qsbr_autotest                       OK              0.95s
 90/119 DPDK:fast-tests / reorder_autotest                        OK              0.49s
 91/119 DPDK:fast-tests / rib_autotest                            OK              9.09s
 92/119 DPDK:fast-tests / rib6_autotest                           OK              9.08s
 93/119 DPDK:fast-tests / ring_autotest                           OK              0.46s
 94/119 DPDK:fast-tests / rwlock_test1_autotest                   OK              1.18s
 95/119 DPDK:fast-tests / rwlock_rda_autotest                     OK              5.43s
 96/119 DPDK:fast-tests / rwlock_rds_wrm_autotest                 OK              5.43s
 97/119 DPDK:fast-tests / rwlock_rde_wro_autotest                 OK              5.43s
 98/119 DPDK:fast-tests / sched_autotest                          OK              0.43s
 99/119 DPDK:fast-tests / security_autotest                       OK              0.07s
100/119 DPDK:fast-tests / seqlock_autotest                        OK              2.42s
101/119 DPDK:fast-tests / service_autotest                        OK              3.13s
102/119 DPDK:fast-tests / soring_autotest                         OK              0.44s
103/119 DPDK:fast-tests / spinlock_autotest                       OK              0.51s
104/119 DPDK:fast-tests / stack_autotest                          OK              0.87s
105/119 DPDK:fast-tests / stack_lf_autotest                       SKIP            0.06s   exit status 77
106/119 DPDK:fast-tests / string_autotest                         OK              0.42s
107/119 DPDK:fast-tests / table_autotest                          OK              7.72s
108/119 DPDK:fast-tests / tailq_autotest                          OK              0.42s
109/119 DPDK:fast-tests / telemetry_data_autotest                 OK              0.44s
110/119 DPDK:fast-tests / telemetry_json_autotest                 OK              0.43s
111/119 DPDK:fast-tests / thash_autotest                          OK              0.44s
112/119 DPDK:fast-tests / threads_autotest                        OK              0.61s
113/119 DPDK:fast-tests / ticketlock_autotest                     OK              0.58s
114/119 DPDK:fast-tests / timer_autotest                          OK              3.96s
115/119 DPDK:fast-tests / trace_autotest                          OK              0.43s
116/119 DPDK:fast-tests / trace_autotest_with_traces              OK              0.44s
117/119 DPDK:fast-tests / vdev_autotest                           OK              0.43s
118/119 DPDK:fast-tests / version_autotest                        OK              0.43s
119/119 DPDK:fast-tests / telemetry_all                           OK              1.39s


Ok:                 112
Expected Fail:      0
Fail:               0
Unexpected Pass:    0
Skipped:            7
Timeout:            0


^ permalink raw reply	[flat|nested] 11+ messages in thread

* |WARNING| pw151651 [PATCH] test/ring: fix return uninitialized variable
       [not found] <20250219142314.82235-1-konstantin.ananyev@huawei.com>
  2025-02-19 12:53 ` |SUCCESS| pw151651 [PATCH] test/ring: fix return uninitialized variable qemudev
  2025-02-19 12:57 ` qemudev
@ 2025-02-19 13:27 ` checkpatch
  2025-02-19 14:07 ` |PENDING| pw151651 [PATCH] test/ring: fix return uninitialized varia dpdklab
                   ` (7 subsequent siblings)
  10 siblings, 0 replies; 11+ messages in thread
From: checkpatch @ 2025-02-19 13:27 UTC (permalink / raw)
  To: test-report; +Cc: Konstantin Ananyev

Test-Label: checkpatch
Test-Status: WARNING
http://dpdk.org/patch/151651

_coding style issues_


WARNING:TYPO_SPELLING: 'soring' may be misspelled - perhaps 'sorting'?
#59: 
Fixes: 70581c355d69 ("test/ring: add unit tests for soring API")

total: 0 errors, 1 warnings, 8 lines checked

^ permalink raw reply	[flat|nested] 11+ messages in thread

* |PENDING| pw151651 [PATCH] test/ring: fix return uninitialized varia
       [not found] <20250219142314.82235-1-konstantin.ananyev@huawei.com>
                   ` (2 preceding siblings ...)
  2025-02-19 13:27 ` |WARNING| " checkpatch
@ 2025-02-19 14:07 ` dpdklab
  2025-02-19 14:24 ` |SUCCESS| pw151651 [PATCH] test/ring: fix return uninitialized variable 0-day Robot
                   ` (6 subsequent siblings)
  10 siblings, 0 replies; 11+ messages in thread
From: dpdklab @ 2025-02-19 14:07 UTC (permalink / raw)
  To: Test Report; +Cc: dpdk-test-reports

Test-Label: iol-unit-amd64-testing
Test-Status: PENDING
http://dpdk.org/patch/151651

_Testing pending_

Submitter: Konstantin Ananyev <konstantin.ananyev@huawei.com>
Date: Wednesday, February 19 2025 14:23:14 
DPDK git baseline: Repo:dpdk
  Branch: master
  CommitID:fd233ad17e5ffa42d50f1625165a7fce3f1cbc5f

151651 --> testing pending

Upstream job id: Generic-Unit-Test-DPDK#316219

Test environment and result as below:

+-------------------+----------------+
|    Environment    | dpdk_unit_test |
+===================+================+
| CentOS Stream 9   | PASS           |
+-------------------+----------------+
| CentOS Stream 10  | PEND           |
+-------------------+----------------+
| Debian Bullseye   | PEND           |
+-------------------+----------------+
| Fedora 40 (Clang) | PEND           |
+-------------------+----------------+
| Fedora 41 (Clang) | PEND           |
+-------------------+----------------+
| Ubuntu 20.04      | PEND           |
+-------------------+----------------+
| Debian 12         | PEND           |
+-------------------+----------------+
| Fedora 40         | PEND           |
+-------------------+----------------+
| Fedora 41         | PEND           |
+-------------------+----------------+
| RHEL9             | PEND           |
+-------------------+----------------+
| Ubuntu 24.04      | PEND           |
+-------------------+----------------+
| Ubuntu 22.04      | PEND           |
+-------------------+----------------+
| RHEL8             | PEND           |
+-------------------+----------------+


CentOS Stream 9
	Kernel: Depends on container host
	Compiler: gcc 11.5.0 20240719 (Red Hat 11.5.0-2)

CentOS Stream 10
	Kernel: Depends on container host
	Compiler: gcc 14.2.1 20241104 (Red Hat 14.2.1-6)

Debian Bullseye
	Kernel: Depends on container host
	Compiler: gcc (Debian 10.2.1-6) 10.2.1 20210110

Fedora 40 (Clang)
	Kernel: Depends on container host
	Compiler: clang 18.1.8 (Fedora 18.1.8-1.fc40)

Fedora 41 (Clang)
	Kernel: Depends on container host
	Compiler: clang 19.1.5 (Fedora 19.1.5-1.fc41)

Ubuntu 20.04
	Kernel: Depends on container host
	Compiler: gcc (Ubuntu 9.4.0-1ubuntu1~20.04.2) 9.4.0

Debian 12
	Kernel: Depends on container host
	Compiler: gcc (Debian 12.2.0-14) 12.2.0

Fedora 40
	Kernel: Depends on container host
	Compiler: gcc 14.2.1 20240912 (Red Hat 14.2.1-3)

Fedora 41
	Kernel: Depends on container host
	Compiler: gcc 14.2.1 20240912 (Red Hat 14.2.1-3)

RHEL9
	Kernel: Depends on container host
	Compiler: gcc 11.5.0 20240719 (Red Hat 11.5.0-2)

Ubuntu 24.04
	Kernel: Depends on container host
	Compiler: gcc (Ubuntu 13.3.0-6ubuntu2~24.04) 13.3.0

Ubuntu 22.04
	Kernel: Depends on container host
	Compiler: gcc (Ubuntu 11.4.0-1ubuntu1~22.04) 11.4.0

RHEL8
	Kernel: Depends on container host
	Compiler: gcc 8.5.0 20210514 (Red Hat 8.5.0-22)

To view detailed results, visit:
https://lab.dpdk.org/results/dashboard/patchsets/32612/

UNH-IOL DPDK Community Lab

To manage your email subscriptions, visit: 
https://lab.dpdk.org/results/dashboard/preferences/subscriptions/

^ permalink raw reply	[flat|nested] 11+ messages in thread

* |SUCCESS| pw151651 [PATCH] test/ring: fix return uninitialized variable
       [not found] <20250219142314.82235-1-konstantin.ananyev@huawei.com>
                   ` (3 preceding siblings ...)
  2025-02-19 14:07 ` |PENDING| pw151651 [PATCH] test/ring: fix return uninitialized varia dpdklab
@ 2025-02-19 14:24 ` 0-day Robot
  2025-02-19 14:24 ` |SUCCESS| pw151651 [PATCH] test/ring: fix return uninitialized varia dpdklab
                   ` (5 subsequent siblings)
  10 siblings, 0 replies; 11+ messages in thread
From: 0-day Robot @ 2025-02-19 14:24 UTC (permalink / raw)
  To: test-report; +Cc: robot

From: robot@bytheb.org

Test-Label: github-robot: build
Test-Status: SUCCESS
http://patchwork.dpdk.org/patch/151651/

_github build: passed_
Build URL: https://github.com/ovsrobot/dpdk/actions/runs/13414051519

^ permalink raw reply	[flat|nested] 11+ messages in thread

* |SUCCESS| pw151651 [PATCH] test/ring: fix return uninitialized varia
       [not found] <20250219142314.82235-1-konstantin.ananyev@huawei.com>
                   ` (4 preceding siblings ...)
  2025-02-19 14:24 ` |SUCCESS| pw151651 [PATCH] test/ring: fix return uninitialized variable 0-day Robot
@ 2025-02-19 14:24 ` dpdklab
  2025-02-19 15:07 ` dpdklab
                   ` (4 subsequent siblings)
  10 siblings, 0 replies; 11+ messages in thread
From: dpdklab @ 2025-02-19 14:24 UTC (permalink / raw)
  To: Test Report; +Cc: dpdk-test-reports

Test-Label: iol-broadcom-Performance
Test-Status: SUCCESS
http://dpdk.org/patch/151651

_Performance Testing PASS_

Submitter: Konstantin Ananyev <konstantin.ananyev@huawei.com>
Date: Wednesday, February 19 2025 14:23:14 
DPDK git baseline: Repo:dpdk
  Branch: master
  CommitID:fd233ad17e5ffa42d50f1625165a7fce3f1cbc5f

151651 --> performance testing pass

Upstream job id: Template-DTS-Pipeline#213289

Test environment and result as below:

Ubuntu 22.04
Kernel: 5.15.0-100-generic
Compiler: gcc (Ubuntu 11.4.0-1ubuntu1~22.04) 11.4.0
NIC: Broadcom Inc. and subsidiaries BCM57414 NetXtreme-E 10Gb/25Gb RDMA Ethernet Controller 16d7 25 Mbps
Fail/Total: 0/3

Detail performance results: 
+------------+---------+----------+-------------+------------------------------+
| frame_size | txd/rxd | num_cpus | num_threads |  throughput difference from  |
|            |         |          |             |           expected           |
+============+=========+==========+=============+==============================+
| 64         | 128     | 1        | 1           | -0.5%                        |
+------------+---------+----------+-------------+------------------------------+
| 64         | 512     | 1        | 1           | -0.5%                        |
+------------+---------+----------+-------------+------------------------------+
| 64         | 2048    | 1        | 1           | 1.4%                         |
+------------+---------+----------+-------------+------------------------------+

Ubuntu 22.04 ARM
Kernel: 5.15.83+
Compiler: gcc 11.4.0
NIC: Arm Broadcom Inc. brcm_57414 25000 Mbps
Fail/Total: 0/2

Detail performance results: 
+------------+---------+----------+-------------+------------------------------+
| frame_size | txd/rxd | num_cpus | num_threads |  throughput difference from  |
|            |         |          |             |           expected           |
+============+=========+==========+=============+==============================+
| 64         | 512     | 1        | 1           | 0.0%                         |
+------------+---------+----------+-------------+------------------------------+
| 64         | 2048    | 1        | 1           | -0.2%                        |
+------------+---------+----------+-------------+------------------------------+

To view detailed results, visit:
https://lab.dpdk.org/results/dashboard/patchsets/32612/

UNH-IOL DPDK Community Lab

To manage your email subscriptions, visit: 
https://lab.dpdk.org/results/dashboard/preferences/subscriptions/

^ permalink raw reply	[flat|nested] 11+ messages in thread

* |SUCCESS| pw151651 [PATCH] test/ring: fix return uninitialized varia
       [not found] <20250219142314.82235-1-konstantin.ananyev@huawei.com>
                   ` (5 preceding siblings ...)
  2025-02-19 14:24 ` |SUCCESS| pw151651 [PATCH] test/ring: fix return uninitialized varia dpdklab
@ 2025-02-19 15:07 ` dpdklab
  2025-02-19 15:22 ` dpdklab
                   ` (3 subsequent siblings)
  10 siblings, 0 replies; 11+ messages in thread
From: dpdklab @ 2025-02-19 15:07 UTC (permalink / raw)
  To: Test Report; +Cc: dpdk-test-reports

Test-Label: iol-unit-arm64-testing
Test-Status: SUCCESS
http://dpdk.org/patch/151651

_Testing PASS_

Submitter: Konstantin Ananyev <konstantin.ananyev@huawei.com>
Date: Wednesday, February 19 2025 14:23:14 
DPDK git baseline: Repo:dpdk
  Branch: master
  CommitID:fd233ad17e5ffa42d50f1625165a7fce3f1cbc5f

151651 --> testing pass

Upstream job id: Generic-Unit-Test-DPDK#316241

Test environment and result as below:

+-----------------------------+----------------+--------------+---------------------------+------------------------------+
|         Environment         | dpdk_unit_test | lpm_autotest | cryptodev_sw_zuc_autotest | cryptodev_sw_snow3g_autotest |
+=============================+================+==============+===========================+==============================+
| 32-bit Ubuntu 22.04.4 (ARM) | PASS           | SKIPPED      | SKIPPED                   | SKIPPED                      |
+-----------------------------+----------------+--------------+---------------------------+------------------------------+
| CentOS Stream 9 (ARM)       | PASS           | SKIPPED      | SKIPPED                   | SKIPPED                      |
+-----------------------------+----------------+--------------+---------------------------+------------------------------+
| CentOS Stream 10 (ARM)      | PASS           | SKIPPED      | SKIPPED                   | SKIPPED                      |
+-----------------------------+----------------+--------------+---------------------------+------------------------------+
| Debian 11 (Buster) (ARM)    | PASS           | SKIPPED      | SKIPPED                   | SKIPPED                      |
+-----------------------------+----------------+--------------+---------------------------+------------------------------+
| RHEL9 (ARM)                 | PASS           | SKIPPED      | SKIPPED                   | SKIPPED                      |
+-----------------------------+----------------+--------------+---------------------------+------------------------------+
| Fedora 40 (ARM Clang)       | PASS           | SKIPPED      | SKIPPED                   | SKIPPED                      |
+-----------------------------+----------------+--------------+---------------------------+------------------------------+
| Fedora 41 (ARM)             | PASS           | SKIPPED      | SKIPPED                   | SKIPPED                      |
+-----------------------------+----------------+--------------+---------------------------+------------------------------+
| Debian 12 (arm)             | PASS           | SKIPPED      | PASS                      | PASS                         |
+-----------------------------+----------------+--------------+---------------------------+------------------------------+
| Fedora 40 (ARM)             | PASS           | SKIPPED      | SKIPPED                   | SKIPPED                      |
+-----------------------------+----------------+--------------+---------------------------+------------------------------+
| Ubuntu 24.04 (ARM)          | PASS           | SKIPPED      | SKIPPED                   | SKIPPED                      |
+-----------------------------+----------------+--------------+---------------------------+------------------------------+
| Ubuntu 22.04 (ARM)          | PASS           | SKIPPED      | SKIPPED                   | SKIPPED                      |
+-----------------------------+----------------+--------------+---------------------------+------------------------------+
| Fedora 41 (ARM Clang)       | PASS           | SKIPPED      | SKIPPED                   | SKIPPED                      |
+-----------------------------+----------------+--------------+---------------------------+------------------------------+
| Ubuntu 20.04 (ARM)          | PASS           | SKIPPED      | SKIPPED                   | SKIPPED                      |
+-----------------------------+----------------+--------------+---------------------------+------------------------------+
| Ubuntu 20.04 ARM SVE        | SKIPPED        | PASS         | SKIPPED                   | SKIPPED                      |
+-----------------------------+----------------+--------------+---------------------------+------------------------------+


32-bit Ubuntu 22.04.4 (ARM)
	Kernel: 5.15.83+ aarch64
	Compiler: gcc (Ubuntu 11.4.0-1ubuntu1~22.04) 11.4.0

CentOS Stream 9 (ARM)
	Kernel: Depends on container host
	Compiler: gcc 11.5.0 20240719 (Red Hat 11.5.0-2)

CentOS Stream 10 (ARM)
	Kernel: Depends on container host
	Compiler: gcc 14.2.1 20241104 (Red Hat 14.2.1-6)

Debian 11 (Buster) (ARM)
	Kernel: Depends on container host
	Compiler: gcc (Debian 10.2.1-6) 10.2.1 20210110

RHEL9 (ARM)
	Kernel: Depends on container host
	Compiler: gcc 11.5.0 20240719 (Red Hat 11.5.0-2)

Fedora 40 (ARM Clang)
	Kernel: Depends on container host
	Compiler: clang 18.1.8 (Fedora 18.1.8-1.fc40)

Fedora 41 (ARM)
	Kernel: Depends on container host
	Compiler: gcc 14.2.1 20240912 (Red Hat 14.2.1-3)

Debian 12 (arm)
	Kernel: Depends on container host
	Compiler: gcc (Debian 12.2.0-14) 12.2.0

Fedora 40 (ARM)
	Kernel: Depends on container host
	Compiler: gcc 14.2.1 20240912 (Red Hat 14.2.1-3)

Ubuntu 24.04 (ARM)
	Kernel: Depends on container host
	Compiler: gcc (Ubuntu 13.3.0-6ubuntu2~24.04) 13.3.0

Ubuntu 22.04 (ARM)
	Kernel: Depends on container host
	Compiler: gcc (Ubuntu 11.4.0-1ubuntu1~22.04) 11.4.0

Fedora 41 (ARM Clang)
	Kernel: Depends on container host
	Compiler: clang 19.1.5 (Fedora 19.1.5-1.fc41)

Ubuntu 20.04 (ARM)
	Kernel: Depends on container host
	Compiler: gcc (Ubuntu 9.4.0-1ubuntu1~20.04.2) 9.4.0

Ubuntu 20.04 ARM SVE
	Kernel: Depends on container host
	Compiler: gcc (Ubuntu 10.5.0-1ubuntu1~20.04) 10.5.0

To view detailed results, visit:
https://lab.dpdk.org/results/dashboard/patchsets/32612/

UNH-IOL DPDK Community Lab

To manage your email subscriptions, visit: 
https://lab.dpdk.org/results/dashboard/preferences/subscriptions/

^ permalink raw reply	[flat|nested] 11+ messages in thread

* |SUCCESS| pw151651 [PATCH] test/ring: fix return uninitialized varia
       [not found] <20250219142314.82235-1-konstantin.ananyev@huawei.com>
                   ` (6 preceding siblings ...)
  2025-02-19 15:07 ` dpdklab
@ 2025-02-19 15:22 ` dpdklab
  2025-02-19 15:28 ` dpdklab
                   ` (2 subsequent siblings)
  10 siblings, 0 replies; 11+ messages in thread
From: dpdklab @ 2025-02-19 15:22 UTC (permalink / raw)
  To: Test Report; +Cc: dpdk-test-reports

Test-Label: iol-sample-apps-testing
Test-Status: SUCCESS
http://dpdk.org/patch/151651

_Testing PASS_

Submitter: Konstantin Ananyev <konstantin.ananyev@huawei.com>
Date: Wednesday, February 19 2025 14:23:14 
DPDK git baseline: Repo:dpdk
  Branch: master
  CommitID:fd233ad17e5ffa42d50f1625165a7fce3f1cbc5f

151651 --> testing pass

Upstream job id: ACVP-FIPS-testing#8961

Test environment and result as below:

+--------------------+----------------------+----------------------+
|    Environment     | compressdev_zlib_pmd | dpdk_fips_validation |
+====================+======================+======================+
| Ubuntu 22.04 (ARM) | PASS                 | SKIPPED              |
+--------------------+----------------------+----------------------+
| Ubuntu 22.04       | PASS                 | SKIPPED              |
+--------------------+----------------------+----------------------+
| Ubuntu 20.04       | SKIPPED              | PASS                 |
+--------------------+----------------------+----------------------+


Ubuntu 22.04 (ARM)
	Kernel: 5.15.0-97-generic
	Compiler: gcc gcc (Ubuntu 11.4.0-1ubuntu1~22.04) 11.4.0

Ubuntu 22.04
	Kernel: 5.15.0-100-generic
	Compiler: gcc gcc (Ubuntu 11.4.0-1ubuntu1~22.04) 11.4.0

Ubuntu 20.04
	Kernel: Depends on container host
	Compiler: gcc (Ubuntu 9.4.0-1ubuntu1~20.04.2) 9.4.0

To view detailed results, visit:
https://lab.dpdk.org/results/dashboard/patchsets/32612/

UNH-IOL DPDK Community Lab

To manage your email subscriptions, visit: 
https://lab.dpdk.org/results/dashboard/preferences/subscriptions/

^ permalink raw reply	[flat|nested] 11+ messages in thread

* |SUCCESS| pw151651 [PATCH] test/ring: fix return uninitialized varia
       [not found] <20250219142314.82235-1-konstantin.ananyev@huawei.com>
                   ` (7 preceding siblings ...)
  2025-02-19 15:22 ` dpdklab
@ 2025-02-19 15:28 ` dpdklab
  2025-02-19 16:14 ` dpdklab
  2025-02-19 17:15 ` dpdklab
  10 siblings, 0 replies; 11+ messages in thread
From: dpdklab @ 2025-02-19 15:28 UTC (permalink / raw)
  To: Test Report; +Cc: dpdk-test-reports

Test-Label: iol-unit-amd64-testing
Test-Status: SUCCESS
http://dpdk.org/patch/151651

_Testing PASS_

Submitter: Konstantin Ananyev <konstantin.ananyev@huawei.com>
Date: Wednesday, February 19 2025 14:23:14 
DPDK git baseline: Repo:dpdk
  Branch: master
  CommitID:fd233ad17e5ffa42d50f1625165a7fce3f1cbc5f

151651 --> testing pass

Upstream job id: Generic-Unit-Test-DPDK#316227

Test environment and result as below:

+---------------------+----------------+
|     Environment     | dpdk_unit_test |
+=====================+================+
| CentOS Stream 9     | PASS           |
+---------------------+----------------+
| CentOS Stream 10    | PASS           |
+---------------------+----------------+
| Debian Bullseye     | PASS           |
+---------------------+----------------+
| Fedora 40 (Clang)   | PASS           |
+---------------------+----------------+
| Fedora 41 (Clang)   | PASS           |
+---------------------+----------------+
| Ubuntu 20.04        | PASS           |
+---------------------+----------------+
| Debian 12           | PASS           |
+---------------------+----------------+
| Fedora 40           | PASS           |
+---------------------+----------------+
| Fedora 41           | PASS           |
+---------------------+----------------+
| RHEL9               | PASS           |
+---------------------+----------------+
| Ubuntu 24.04        | PASS           |
+---------------------+----------------+
| Ubuntu 22.04        | PASS           |
+---------------------+----------------+
| RHEL8               | PASS           |
+---------------------+----------------+
| Windows Server 2022 | PASS           |
+---------------------+----------------+


CentOS Stream 9
	Kernel: Depends on container host
	Compiler: gcc 11.5.0 20240719 (Red Hat 11.5.0-2)

CentOS Stream 10
	Kernel: Depends on container host
	Compiler: gcc 14.2.1 20241104 (Red Hat 14.2.1-6)

Debian Bullseye
	Kernel: Depends on container host
	Compiler: gcc (Debian 10.2.1-6) 10.2.1 20210110

Fedora 40 (Clang)
	Kernel: Depends on container host
	Compiler: clang 18.1.8 (Fedora 18.1.8-1.fc40)

Fedora 41 (Clang)
	Kernel: Depends on container host
	Compiler: clang 19.1.5 (Fedora 19.1.5-1.fc41)

Ubuntu 20.04
	Kernel: Depends on container host
	Compiler: gcc (Ubuntu 9.4.0-1ubuntu1~20.04.2) 9.4.0

Debian 12
	Kernel: Depends on container host
	Compiler: gcc (Debian 12.2.0-14) 12.2.0

Fedora 40
	Kernel: Depends on container host
	Compiler: gcc 14.2.1 20240912 (Red Hat 14.2.1-3)

Fedora 41
	Kernel: Depends on container host
	Compiler: gcc 14.2.1 20240912 (Red Hat 14.2.1-3)

RHEL9
	Kernel: Depends on container host
	Compiler: gcc 11.5.0 20240719 (Red Hat 11.5.0-2)

Ubuntu 24.04
	Kernel: Depends on container host
	Compiler: gcc (Ubuntu 13.3.0-6ubuntu2~24.04) 13.3.0

Ubuntu 22.04
	Kernel: Depends on container host
	Compiler: gcc (Ubuntu 11.4.0-1ubuntu1~22.04) 11.4.0

RHEL8
	Kernel: Depends on container host
	Compiler: gcc 8.5.0 20210514 (Red Hat 8.5.0-22)

Windows Server 2022
	Kernel: 10.0.20348.2031
	Compiler: clang 15.0.7, gcc 14.1.0 (MinGW), and MSVC VS 19.39.33521

To view detailed results, visit:
https://lab.dpdk.org/results/dashboard/patchsets/32612/

UNH-IOL DPDK Community Lab

To manage your email subscriptions, visit: 
https://lab.dpdk.org/results/dashboard/preferences/subscriptions/

^ permalink raw reply	[flat|nested] 11+ messages in thread

* |SUCCESS| pw151651 [PATCH] test/ring: fix return uninitialized varia
       [not found] <20250219142314.82235-1-konstantin.ananyev@huawei.com>
                   ` (8 preceding siblings ...)
  2025-02-19 15:28 ` dpdklab
@ 2025-02-19 16:14 ` dpdklab
  2025-02-19 17:15 ` dpdklab
  10 siblings, 0 replies; 11+ messages in thread
From: dpdklab @ 2025-02-19 16:14 UTC (permalink / raw)
  To: Test Report; +Cc: dpdk-test-reports

Test-Label: iol-intel-Performance
Test-Status: SUCCESS
http://dpdk.org/patch/151651

_Performance Testing PASS_

Submitter: Konstantin Ananyev <konstantin.ananyev@huawei.com>
Date: Wednesday, February 19 2025 14:23:14 
DPDK git baseline: Repo:dpdk
  Branch: master
  CommitID:fd233ad17e5ffa42d50f1625165a7fce3f1cbc5f

151651 --> performance testing pass

Upstream job id: Template-DTS-Pipeline#213286

Test environment and result as below:

Ubuntu 20.04
Kernel: 5.4.0-122-generic
Compiler: gcc 9.4.0
NIC: Intel Corporation Ethernet Converged Network Adapter XL710-QDA2 40000 Mbps
Fail/Total: 0/4

Detail performance results: 
+----------+-------------+---------+------------+------------------------------+
| num_cpus | num_threads | txd/rxd | frame_size |  throughput difference from  |
|          |             |         |            |           expected           |
+==========+=============+=========+============+==============================+
| 1        | 2           | 512     | 64         | 0.3%                         |
+----------+-------------+---------+------------+------------------------------+
| 1        | 2           | 2048    | 64         | -1.1%                        |
+----------+-------------+---------+------------+------------------------------+
| 1        | 1           | 512     | 64         | 2.1%                         |
+----------+-------------+---------+------------+------------------------------+
| 1        | 1           | 2048    | 64         | 4.1%                         |
+----------+-------------+---------+------------+------------------------------+

Ubuntu 22.04
Kernel: 5.15.0-131-generic
Compiler: gcc (Ubuntu 11.4.0-1ubuntu1~22.04) 11.4.0
NIC: Intel Corporation Ethernet Converged Network Adapter 82599ES 10000 Mbps
Fail/Total: 0/6

Detail performance results: 
+----------+-------------+---------+------------+------------------------------+
| num_cpus | num_threads | txd/rxd | frame_size |  throughput difference from  |
|          |             |         |            |           expected           |
+==========+=============+=========+============+==============================+
| 1        | 2           | 128     | 64         | -0.2%                        |
+----------+-------------+---------+------------+------------------------------+
| 1        | 2           | 512     | 64         | -0.1%                        |
+----------+-------------+---------+------------+------------------------------+
| 1        | 2           | 2048    | 64         | 0.3%                         |
+----------+-------------+---------+------------+------------------------------+
| 1        | 1           | 128     | 64         | 0.4%                         |
+----------+-------------+---------+------------+------------------------------+
| 1        | 1           | 512     | 64         | 0.2%                         |
+----------+-------------+---------+------------+------------------------------+
| 1        | 1           | 2048    | 64         | -0.1%                        |
+----------+-------------+---------+------------+------------------------------+

To view detailed results, visit:
https://lab.dpdk.org/results/dashboard/patchsets/32612/

UNH-IOL DPDK Community Lab

To manage your email subscriptions, visit: 
https://lab.dpdk.org/results/dashboard/preferences/subscriptions/

^ permalink raw reply	[flat|nested] 11+ messages in thread

* |SUCCESS| pw151651 [PATCH] test/ring: fix return uninitialized varia
       [not found] <20250219142314.82235-1-konstantin.ananyev@huawei.com>
                   ` (9 preceding siblings ...)
  2025-02-19 16:14 ` dpdklab
@ 2025-02-19 17:15 ` dpdklab
  10 siblings, 0 replies; 11+ messages in thread
From: dpdklab @ 2025-02-19 17:15 UTC (permalink / raw)
  To: Test Report; +Cc: dpdk-test-reports

Test-Label: iol-compile-arm64-testing
Test-Status: SUCCESS
http://dpdk.org/patch/151651

_Testing PASS_

Submitter: Konstantin Ananyev <konstantin.ananyev@huawei.com>
Date: Wednesday, February 19 2025 14:23:14 
DPDK git baseline: Repo:dpdk
  Branch: master
  CommitID:fd233ad17e5ffa42d50f1625165a7fce3f1cbc5f

151651 --> testing pass

Upstream job id: Generic-DPDK-Compile-Meson#363033

Test environment and result as below:

+----------------------------------------+--------------------+
|              Environment               | dpdk_meson_compile |
+========================================+====================+
| Ubuntu 20.04 ARM GCC Cross Compile     | PASS               |
+----------------------------------------+--------------------+
| Ubuntu 20.04 ARM SVE                   | PASS               |
+----------------------------------------+--------------------+
| Debian 12 with MUSDK                   | PASS               |
+----------------------------------------+--------------------+
| Fedora 41 (ARM)                        | PASS               |
+----------------------------------------+--------------------+
| Fedora 40 (ARM Clang)                  | PASS               |
+----------------------------------------+--------------------+
| Fedora 40 (ARM)                        | PASS               |
+----------------------------------------+--------------------+
| Fedora 41 (ARM Clang)                  | PASS               |
+----------------------------------------+--------------------+
| Ubuntu 22.04 (ARM)                     | PASS               |
+----------------------------------------+--------------------+
| Ubuntu 24.04 (ARM)                     | PASS               |
+----------------------------------------+--------------------+
| Ubuntu 20.04 (ARM)                     | PASS               |
+----------------------------------------+--------------------+
| CentOS Stream 9 (ARM)                  | PASS               |
+----------------------------------------+--------------------+
| CentOS Stream 10 (ARM)                 | PASS               |
+----------------------------------------+--------------------+
| Debian 11 (Buster) (ARM)               | PASS               |
+----------------------------------------+--------------------+
| Debian 12 (arm)                        | PASS               |
+----------------------------------------+--------------------+
| Ubuntu 20.04 aarch32 GCC Cross Compile | PASS               |
+----------------------------------------+--------------------+
| Ubuntu 20.04 ARM Clang Cross Compile   | PASS               |
+----------------------------------------+--------------------+


Ubuntu 20.04 ARM GCC Cross Compile
	Kernel: Depends on container host
	Compiler: aarch64-linux-gnu-gcc (Ubuntu 9.4.0-1ubuntu1~20.04.2) 9.4.0

Ubuntu 20.04 ARM SVE
	Kernel: Depends on container host
	Compiler: gcc (Ubuntu 10.5.0-1ubuntu1~20.04) 10.5.0

Debian 12 with MUSDK
	Kernel: Depends on container host
	Compiler: gcc (Debian 12.2.0-14) 12.2.0

Fedora 41 (ARM)
	Kernel: Depends on container host
	Compiler: gcc 14.2.1 20240912 (Red Hat 14.2.1-3)

Fedora 40 (ARM Clang)
	Kernel: Depends on container host
	Compiler: clang 18.1.8 (Fedora 18.1.8-1.fc40)

Fedora 40 (ARM)
	Kernel: Depends on container host
	Compiler: gcc 14.2.1 20240912 (Red Hat 14.2.1-3)

Fedora 41 (ARM Clang)
	Kernel: Depends on container host
	Compiler: clang 19.1.5 (Fedora 19.1.5-1.fc41)

Ubuntu 22.04 (ARM)
	Kernel: Depends on container host
	Compiler: gcc (Ubuntu 11.4.0-1ubuntu1~22.04) 11.4.0

Ubuntu 24.04 (ARM)
	Kernel: Depends on container host
	Compiler: gcc (Ubuntu 13.3.0-6ubuntu2~24.04) 13.3.0

Ubuntu 20.04 (ARM)
	Kernel: Depends on container host
	Compiler: gcc (Ubuntu 9.4.0-1ubuntu1~20.04.2) 9.4.0

CentOS Stream 9 (ARM)
	Kernel: Depends on container host
	Compiler: gcc 11.5.0 20240719 (Red Hat 11.5.0-2)

CentOS Stream 10 (ARM)
	Kernel: Depends on container host
	Compiler: gcc 14.2.1 20241104 (Red Hat 14.2.1-6)

Debian 11 (Buster) (ARM)
	Kernel: Depends on container host
	Compiler: gcc (Debian 10.2.1-6) 10.2.1 20210110

Debian 12 (arm)
	Kernel: Depends on container host
	Compiler: gcc (Debian 12.2.0-14) 12.2.0

Ubuntu 20.04 aarch32 GCC Cross Compile
	Kernel: Depends on container host
	Compiler: gcc 9.4.0

Ubuntu 20.04 ARM Clang Cross Compile
	Kernel: Depends on container host
	Compiler: clang 10.0.0-4ubuntu1

To view detailed results, visit:
https://lab.dpdk.org/results/dashboard/patchsets/32612/

UNH-IOL DPDK Community Lab

To manage your email subscriptions, visit: 
https://lab.dpdk.org/results/dashboard/preferences/subscriptions/

^ permalink raw reply	[flat|nested] 11+ messages in thread

end of thread, other threads:[~2025-02-19 17:15 UTC | newest]

Thread overview: 11+ messages (download: mbox.gz / follow: Atom feed)
-- links below jump to the message on this page --
     [not found] <20250219142314.82235-1-konstantin.ananyev@huawei.com>
2025-02-19 12:53 ` |SUCCESS| pw151651 [PATCH] test/ring: fix return uninitialized variable qemudev
2025-02-19 12:57 ` qemudev
2025-02-19 13:27 ` |WARNING| " checkpatch
2025-02-19 14:07 ` |PENDING| pw151651 [PATCH] test/ring: fix return uninitialized varia dpdklab
2025-02-19 14:24 ` |SUCCESS| pw151651 [PATCH] test/ring: fix return uninitialized variable 0-day Robot
2025-02-19 14:24 ` |SUCCESS| pw151651 [PATCH] test/ring: fix return uninitialized varia dpdklab
2025-02-19 15:07 ` dpdklab
2025-02-19 15:22 ` dpdklab
2025-02-19 15:28 ` dpdklab
2025-02-19 16:14 ` dpdklab
2025-02-19 17:15 ` dpdklab

This is a public inbox, see mirroring instructions
for how to clone and mirror all data and code used for this inbox;
as well as URLs for NNTP newsgroup(s).