From mboxrd@z Thu Jan 1 00:00:00 1970 Return-Path: Received: from mails.dpdk.org (mails.dpdk.org [217.70.189.124]) by inbox.dpdk.org (Postfix) with ESMTP id 909A746269 for ; Wed, 19 Feb 2025 16:07:34 +0100 (CET) Received: from mails.dpdk.org (localhost [127.0.0.1]) by mails.dpdk.org (Postfix) with ESMTP id 6FFDB40EF0; Wed, 19 Feb 2025 16:07:34 +0100 (CET) Received: from mail-qt1-f226.google.com (mail-qt1-f226.google.com [209.85.160.226]) by mails.dpdk.org (Postfix) with ESMTP id 59E4640E6E for ; Wed, 19 Feb 2025 16:07:32 +0100 (CET) Received: by mail-qt1-f226.google.com with SMTP id d75a77b69052e-471ede4b8e5so17567831cf.2 for ; Wed, 19 Feb 2025 07:07:32 -0800 (PST) DKIM-Signature: v=1; a=rsa-sha256; c=relaxed/relaxed; d=iol.unh.edu; s=unh-iol; t=1739977651; x=1740582451; darn=dpdk.org; h=references:in-reply-to:cc:to:from:subject:message-id:date:from:to :cc:subject:date:message-id:reply-to; bh=oEGQdzm47FnYL6PSISQo6T15afJZeGmnDvwM4Hz2UP4=; b=T/41Zw2gv58rOd6vPNLXAISeEp9yQWAgPIQ84C8ISnQ/B4Yhmt/MyNBlTdihdSm4hG 36lDOcsJ2aCbx3VdawHqftN1yXPpkVJcI1A6XX0VbP6XAGqMGZVFC0nSi6DDhEqefcxB 1s1uyc50g+5freQ+wcZx/fMo7k4MdR2EQOw1c= X-Google-DKIM-Signature: v=1; a=rsa-sha256; c=relaxed/relaxed; d=1e100.net; s=20230601; t=1739977651; x=1740582451; h=references:in-reply-to:cc:to:from:subject:message-id:date :x-gm-message-state:from:to:cc:subject:date:message-id:reply-to; bh=oEGQdzm47FnYL6PSISQo6T15afJZeGmnDvwM4Hz2UP4=; b=dQrw0GMVu4Pgqp6Ujr3hL8O7b0dcAsPonHWBT5ehZ+LgKf5xqJzsC+3VfcMWuC3Axf Db3CzsM7VgVpsPJsMfDlRayvzdU2XNWXmJ6xFgqelP+50wbOfEgwe60g+fKEFkpLhtPF CS88EO8xht4Yvm1lHUZAjjyEYsiQa6JrXjSESgJr6YvOVF6LlS51RM/f578IqIIYkdqd 8vW5sZC23qMIYSvR9BMOG0WgUmZHqZC346MLAkRcWaP4yfwB1gNav0/nrhchCK449aZB UlrD6Tx0aVK8JUNn882km0KP7rnUZjtM48Th3SCH98iv09RlcrAwSujlbzoaqC76Nc6C XFvA== X-Gm-Message-State: AOJu0Yxvn8uIKxhA5XzEQIYuUONHC4Ho7TR3FuxYmYzhHrV18jDC1GZ+ uPbrHdDo2QbGdaCporgJ8Lp39iCHz/zHRjkHcTGrV13MI47mxBrXk3+yaPfQM7yn5rJegpjWk0f 40VEuomJ/ph/gFEljpxjv5FzQmVCrnDmfzpIO6z6hwF0kLi8SrM9IBHJv X-Gm-Gg: ASbGncufUvaFwDRSGT7/0IyHf2+51xs+UcRbss6ds/zEj+F2QHNpqsRyou+w16tmK+I yXvEWYhXj35tFq0Nr1n0FJlFjwWx/JYCsat6HSFi+bZgQYuU8cDrdtlaT2Lr1/7gDv3lI+ZNvBX A5VjXruhmyTrjSWl0bTAJSYBkCpNj1fkbsLImgjX5y8zjchbxxP/0MALI2wjszoK2F/HFUjfw2h FqESqGkAvdO7KfhL/h5nkBO1AlwmzivCSGaGmluY1+ubBZfzMFfCy4qiic4AfmSpygSpZitCXEG bd3yF7rDEJW3216cVSq5u18j1yNjXkE1oYYi3SBzkA== X-Google-Smtp-Source: AGHT+IGQ7CAgbWMOwKDaBpimrU+1o3gCb4QX+Zwdsf4kllelkKsl0Wz3/H4dEbWtk5m/otd1gj2dwzkTuzp9 X-Received: by 2002:ac8:5ac8:0:b0:471:c273:2399 with SMTP id d75a77b69052e-472082bb6d0mr57910501cf.35.1739977651562; Wed, 19 Feb 2025 07:07:31 -0800 (PST) Received: from postal.iol.unh.edu (postal.iol.unh.edu. [2606:4100:3880:1234::84]) by smtp-relay.gmail.com with ESMTPS id d75a77b69052e-472099cb571sm942691cf.1.2025.02.19.07.07.31 (version=TLS1_2 cipher=ECDHE-ECDSA-AES128-GCM-SHA256 bits=128/128); Wed, 19 Feb 2025 07:07:31 -0800 (PST) X-Relaying-Domain: iol.unh.edu Date: Wed, 19 Feb 2025 07:07:31 -0800 (PST) Message-ID: <67b5f3b3.c80a0220.312597.4a5eSMTPIN_ADDED_MISSING@mx.google.com> Received: from [172.21.0.6] (unknown [172.18.0.240]) by postal.iol.unh.edu (Postfix) with ESMTP id 39AF66052471; Wed, 19 Feb 2025 10:07:31 -0500 (EST) Subject: |SUCCESS| pw151651 [PATCH] test/ring: fix return uninitialized varia From: dpdklab@iol.unh.edu To: Test Report Cc: dpdk-test-reports@iol.unh.edu In-Reply-To: <20250219142314.82235-1-konstantin.ananyev@huawei.com> References: <20250219142314.82235-1-konstantin.ananyev@huawei.com> Content-Type: text/plain X-BeenThere: test-report@dpdk.org X-Mailman-Version: 2.1.29 Precedence: list List-Id: automatic DPDK test reports List-Unsubscribe: , List-Archive: List-Post: List-Help: List-Subscribe: , Errors-To: test-report-bounces@dpdk.org Test-Label: iol-unit-arm64-testing Test-Status: SUCCESS http://dpdk.org/patch/151651 _Testing PASS_ Submitter: Konstantin Ananyev Date: Wednesday, February 19 2025 14:23:14 DPDK git baseline: Repo:dpdk Branch: master CommitID:fd233ad17e5ffa42d50f1625165a7fce3f1cbc5f 151651 --> testing pass Upstream job id: Generic-Unit-Test-DPDK#316241 Test environment and result as below: +-----------------------------+----------------+--------------+---------------------------+------------------------------+ | Environment | dpdk_unit_test | lpm_autotest | cryptodev_sw_zuc_autotest | cryptodev_sw_snow3g_autotest | +=============================+================+==============+===========================+==============================+ | 32-bit Ubuntu 22.04.4 (ARM) | PASS | SKIPPED | SKIPPED | SKIPPED | +-----------------------------+----------------+--------------+---------------------------+------------------------------+ | CentOS Stream 9 (ARM) | PASS | SKIPPED | SKIPPED | SKIPPED | +-----------------------------+----------------+--------------+---------------------------+------------------------------+ | CentOS Stream 10 (ARM) | PASS | SKIPPED | SKIPPED | SKIPPED | +-----------------------------+----------------+--------------+---------------------------+------------------------------+ | Debian 11 (Buster) (ARM) | PASS | SKIPPED | SKIPPED | SKIPPED | +-----------------------------+----------------+--------------+---------------------------+------------------------------+ | RHEL9 (ARM) | PASS | SKIPPED | SKIPPED | SKIPPED | +-----------------------------+----------------+--------------+---------------------------+------------------------------+ | Fedora 40 (ARM Clang) | PASS | SKIPPED | SKIPPED | SKIPPED | +-----------------------------+----------------+--------------+---------------------------+------------------------------+ | Fedora 41 (ARM) | PASS | SKIPPED | SKIPPED | SKIPPED | +-----------------------------+----------------+--------------+---------------------------+------------------------------+ | Debian 12 (arm) | PASS | SKIPPED | PASS | PASS | +-----------------------------+----------------+--------------+---------------------------+------------------------------+ | Fedora 40 (ARM) | PASS | SKIPPED | SKIPPED | SKIPPED | +-----------------------------+----------------+--------------+---------------------------+------------------------------+ | Ubuntu 24.04 (ARM) | PASS | SKIPPED | SKIPPED | SKIPPED | +-----------------------------+----------------+--------------+---------------------------+------------------------------+ | Ubuntu 22.04 (ARM) | PASS | SKIPPED | SKIPPED | SKIPPED | +-----------------------------+----------------+--------------+---------------------------+------------------------------+ | Fedora 41 (ARM Clang) | PASS | SKIPPED | SKIPPED | SKIPPED | +-----------------------------+----------------+--------------+---------------------------+------------------------------+ | Ubuntu 20.04 (ARM) | PASS | SKIPPED | SKIPPED | SKIPPED | +-----------------------------+----------------+--------------+---------------------------+------------------------------+ | Ubuntu 20.04 ARM SVE | SKIPPED | PASS | SKIPPED | SKIPPED | +-----------------------------+----------------+--------------+---------------------------+------------------------------+ 32-bit Ubuntu 22.04.4 (ARM) Kernel: 5.15.83+ aarch64 Compiler: gcc (Ubuntu 11.4.0-1ubuntu1~22.04) 11.4.0 CentOS Stream 9 (ARM) Kernel: Depends on container host Compiler: gcc 11.5.0 20240719 (Red Hat 11.5.0-2) CentOS Stream 10 (ARM) Kernel: Depends on container host Compiler: gcc 14.2.1 20241104 (Red Hat 14.2.1-6) Debian 11 (Buster) (ARM) Kernel: Depends on container host Compiler: gcc (Debian 10.2.1-6) 10.2.1 20210110 RHEL9 (ARM) Kernel: Depends on container host Compiler: gcc 11.5.0 20240719 (Red Hat 11.5.0-2) Fedora 40 (ARM Clang) Kernel: Depends on container host Compiler: clang 18.1.8 (Fedora 18.1.8-1.fc40) Fedora 41 (ARM) Kernel: Depends on container host Compiler: gcc 14.2.1 20240912 (Red Hat 14.2.1-3) Debian 12 (arm) Kernel: Depends on container host Compiler: gcc (Debian 12.2.0-14) 12.2.0 Fedora 40 (ARM) Kernel: Depends on container host Compiler: gcc 14.2.1 20240912 (Red Hat 14.2.1-3) Ubuntu 24.04 (ARM) Kernel: Depends on container host Compiler: gcc (Ubuntu 13.3.0-6ubuntu2~24.04) 13.3.0 Ubuntu 22.04 (ARM) Kernel: Depends on container host Compiler: gcc (Ubuntu 11.4.0-1ubuntu1~22.04) 11.4.0 Fedora 41 (ARM Clang) Kernel: Depends on container host Compiler: clang 19.1.5 (Fedora 19.1.5-1.fc41) Ubuntu 20.04 (ARM) Kernel: Depends on container host Compiler: gcc (Ubuntu 9.4.0-1ubuntu1~20.04.2) 9.4.0 Ubuntu 20.04 ARM SVE Kernel: Depends on container host Compiler: gcc (Ubuntu 10.5.0-1ubuntu1~20.04) 10.5.0 To view detailed results, visit: https://lab.dpdk.org/results/dashboard/patchsets/32612/ UNH-IOL DPDK Community Lab To manage your email subscriptions, visit: https://lab.dpdk.org/results/dashboard/preferences/subscriptions/