From mboxrd@z Thu Jan 1 00:00:00 1970 Return-Path: Received: from mails.dpdk.org (mails.dpdk.org [217.70.189.124]) by inbox.dpdk.org (Postfix) with ESMTP id 893B746269 for ; Wed, 19 Feb 2025 16:28:26 +0100 (CET) Received: from mails.dpdk.org (localhost [127.0.0.1]) by mails.dpdk.org (Postfix) with ESMTP id 6B4A042686; Wed, 19 Feb 2025 16:28:26 +0100 (CET) Received: from mail-io1-f100.google.com (mail-io1-f100.google.com [209.85.166.100]) by mails.dpdk.org (Postfix) with ESMTP id EA9DA411F3 for ; Wed, 19 Feb 2025 16:28:24 +0100 (CET) Received: by mail-io1-f100.google.com with SMTP id ca18e2360f4ac-855b77783e9so19826839f.3 for ; Wed, 19 Feb 2025 07:28:24 -0800 (PST) DKIM-Signature: v=1; a=rsa-sha256; c=relaxed/relaxed; d=iol.unh.edu; s=unh-iol; t=1739978904; x=1740583704; darn=dpdk.org; h=references:in-reply-to:cc:to:from:subject:message-id:date:from:to :cc:subject:date:message-id:reply-to; bh=goYyi7Aek9L/2CYENyRtj0hy0ROXW9CC9ZxapDAUnVo=; b=fe2qH40l9hFSIBX1EESirCaJ2EXb6wzeLVI1b0qyvGe7LNzUIMztqEgCH+9Sx5xhLj j8rGQUdA3RTxO9X9XFfkiFCakAHqvfOZgdMG43demfUtC7vNR8hInux447Hx+HYa8Tem Et+0dXc9MMFkA+cqmmKo608/E6fgGXOJAb/vE= X-Google-DKIM-Signature: v=1; a=rsa-sha256; c=relaxed/relaxed; d=1e100.net; s=20230601; t=1739978904; x=1740583704; h=references:in-reply-to:cc:to:from:subject:message-id:date :x-gm-message-state:from:to:cc:subject:date:message-id:reply-to; bh=goYyi7Aek9L/2CYENyRtj0hy0ROXW9CC9ZxapDAUnVo=; b=Q4IMhFEFjywk7Vc6wwCUFix1qfd4sV0uHKqJZv7Mw8NEtjg0UrAy/0jAqJ3dnRCck+ gu+9GbjJovvtC0KItd08GDv8eiLNviDZyArsfQsnV5ROI3+oVhJPENq1Xn3LM84tyA7K thOyEC5V7ITf2lJSR7hDKrGBWWqaQSQVf5ZwMGPnBNbtPqPE/xlusNvJORNsIAFK73nj fqSlC7/zeXGjYRzivG6AH2sElOH/wBIqz0TGTgirotrIWhRvpyG3gnnYngCpeD9dfrBu aAoAxfFSr5gbHu/qfLqdaIhOYEGE9KUzprDxR/hpkpPLreW0NC9ra6pBSHMpinZsaBEm 4zXw== X-Gm-Message-State: AOJu0YwJAW7YMBNzTytWWZLWZKMLeFA9k/k+WMBQkPqbz7RINTwJAmHD iP/pRuJeidZzMKwQG3DfG6WkKdny0uJeUxitkdWjUnvouKrQQBE6gZTYvGsg77YYC7BCueY5EB/ 0qwyOyc6zMDHp0SU2qIgf0nbQLHdNmqyvcD7tCp9kEkon5Zy/n8zKnYlL X-Gm-Gg: ASbGncsZeyoJoalc78HEmA/JL0ASQBIEdsJOpYT2rteieYHuKqWDe+x3t03raHO/Xw5 +MLo3TysgwGqap4M+nAAr36T0jzmVaUFonw1IrsSi2HcMa0126cgUoZkd1BG0A61PYHcQ1dAdDn JefIX820LwRGcaGLrhHVx+dlKwzICS2MVIKJc3ZaZhlLdKi9rAno9r7dTqlfn7+1j32TfKbyezZ vRsUTvaiYbypsGu1AwVc1Bp55t3UIxJDqKX4NiZHFT8LZUEe4VLfolSG1zABo7pJww6lKr7loo4 T0uukrynUwRtLjfTK96txRF8J58EYKyTc0hxdzW8Hg== X-Google-Smtp-Source: AGHT+IHd5InbVOBrd+xjFzDclVCXpN/S8T3daFPyfuJ1IPKFAyq9hd/GSXvu0AGRb6XIdMGl/rskmF5/Zbvx X-Received: by 2002:a05:6e02:1908:b0:3d0:255e:fdc with SMTP id e9e14a558f8ab-3d2808d80c8mr167592955ab.15.1739978902693; Wed, 19 Feb 2025 07:28:22 -0800 (PST) Received: from postal.iol.unh.edu (postal.iol.unh.edu. [2606:4100:3880:1234::84]) by smtp-relay.gmail.com with ESMTPS id e9e14a558f8ab-3d18f9c62acsm8090565ab.17.2025.02.19.07.28.22 (version=TLS1_2 cipher=ECDHE-ECDSA-AES128-GCM-SHA256 bits=128/128); Wed, 19 Feb 2025 07:28:22 -0800 (PST) X-Relaying-Domain: iol.unh.edu Date: Wed, 19 Feb 2025 07:28:22 -0800 (PST) Message-ID: <67b5f896.050a0220.3cffc1.6ce2SMTPIN_ADDED_MISSING@mx.google.com> Received: from [172.17.0.4] (unknown [172.18.0.217]) by postal.iol.unh.edu (Postfix) with ESMTP id 39E5D6052471; Wed, 19 Feb 2025 10:28:22 -0500 (EST) Subject: |SUCCESS| pw151651 [PATCH] test/ring: fix return uninitialized varia From: dpdklab@iol.unh.edu To: Test Report Cc: dpdk-test-reports@iol.unh.edu In-Reply-To: <20250219142314.82235-1-konstantin.ananyev@huawei.com> References: <20250219142314.82235-1-konstantin.ananyev@huawei.com> Content-Type: text/plain X-BeenThere: test-report@dpdk.org X-Mailman-Version: 2.1.29 Precedence: list List-Id: automatic DPDK test reports List-Unsubscribe: , List-Archive: List-Post: List-Help: List-Subscribe: , Errors-To: test-report-bounces@dpdk.org Test-Label: iol-unit-amd64-testing Test-Status: SUCCESS http://dpdk.org/patch/151651 _Testing PASS_ Submitter: Konstantin Ananyev Date: Wednesday, February 19 2025 14:23:14 DPDK git baseline: Repo:dpdk Branch: master CommitID:fd233ad17e5ffa42d50f1625165a7fce3f1cbc5f 151651 --> testing pass Upstream job id: Generic-Unit-Test-DPDK#316227 Test environment and result as below: +---------------------+----------------+ | Environment | dpdk_unit_test | +=====================+================+ | CentOS Stream 9 | PASS | +---------------------+----------------+ | CentOS Stream 10 | PASS | +---------------------+----------------+ | Debian Bullseye | PASS | +---------------------+----------------+ | Fedora 40 (Clang) | PASS | +---------------------+----------------+ | Fedora 41 (Clang) | PASS | +---------------------+----------------+ | Ubuntu 20.04 | PASS | +---------------------+----------------+ | Debian 12 | PASS | +---------------------+----------------+ | Fedora 40 | PASS | +---------------------+----------------+ | Fedora 41 | PASS | +---------------------+----------------+ | RHEL9 | PASS | +---------------------+----------------+ | Ubuntu 24.04 | PASS | +---------------------+----------------+ | Ubuntu 22.04 | PASS | +---------------------+----------------+ | RHEL8 | PASS | +---------------------+----------------+ | Windows Server 2022 | PASS | +---------------------+----------------+ CentOS Stream 9 Kernel: Depends on container host Compiler: gcc 11.5.0 20240719 (Red Hat 11.5.0-2) CentOS Stream 10 Kernel: Depends on container host Compiler: gcc 14.2.1 20241104 (Red Hat 14.2.1-6) Debian Bullseye Kernel: Depends on container host Compiler: gcc (Debian 10.2.1-6) 10.2.1 20210110 Fedora 40 (Clang) Kernel: Depends on container host Compiler: clang 18.1.8 (Fedora 18.1.8-1.fc40) Fedora 41 (Clang) Kernel: Depends on container host Compiler: clang 19.1.5 (Fedora 19.1.5-1.fc41) Ubuntu 20.04 Kernel: Depends on container host Compiler: gcc (Ubuntu 9.4.0-1ubuntu1~20.04.2) 9.4.0 Debian 12 Kernel: Depends on container host Compiler: gcc (Debian 12.2.0-14) 12.2.0 Fedora 40 Kernel: Depends on container host Compiler: gcc 14.2.1 20240912 (Red Hat 14.2.1-3) Fedora 41 Kernel: Depends on container host Compiler: gcc 14.2.1 20240912 (Red Hat 14.2.1-3) RHEL9 Kernel: Depends on container host Compiler: gcc 11.5.0 20240719 (Red Hat 11.5.0-2) Ubuntu 24.04 Kernel: Depends on container host Compiler: gcc (Ubuntu 13.3.0-6ubuntu2~24.04) 13.3.0 Ubuntu 22.04 Kernel: Depends on container host Compiler: gcc (Ubuntu 11.4.0-1ubuntu1~22.04) 11.4.0 RHEL8 Kernel: Depends on container host Compiler: gcc 8.5.0 20210514 (Red Hat 8.5.0-22) Windows Server 2022 Kernel: 10.0.20348.2031 Compiler: clang 15.0.7, gcc 14.1.0 (MinGW), and MSVC VS 19.39.33521 To view detailed results, visit: https://lab.dpdk.org/results/dashboard/patchsets/32612/ UNH-IOL DPDK Community Lab To manage your email subscriptions, visit: https://lab.dpdk.org/results/dashboard/preferences/subscriptions/